{"text_format":"1","workbook":"xlsx","n_sheets":4,"sheets":["Forside","Detaljeret overblik","VITAS information","valgliste"],"not_rendered":{"charts":0,"images":0,"macros":1,"external_links":0,"defined_names":3,"comments":1,"pivot_tables":0},"unopened":[],"bounds":{"document_bytes":16777216,"sheet_cells":100000,"rows_first":2000,"rows_last":500,"rows_between":2000,"halvings":0,"cell_chars":16384,"cell_head_chars":4096},"cells_cut":0,"cells_raw":0,"read":"whole","date_system":"1900"}

{"sheet":"Forside","index":0,"n_rows":35,"n_cols":9,"rows_kept":35,"cut":false,"hidden":false,"merged":[[2,2,2,6],[3,2,3,6],[4,2,4,6],[5,2,5,6]]}
[]
[null,"Sagsoplysninger"]
[null,"Sagsperson / igu-ansat"]
[null,"CPR"]
[null,"Arbejdspladsen navn"]
[null,"Arbejdspladsen kontaktoplysninger"]
[]
[null,"Grunddata",null,null,null,null,"Kort overblik"]
[null,"Kontraktens startdato (skriv dato som dd-mm-ååå)","2026-01-01",null,null,null,"De resterende dage af igu-forløbet",{"$f":"NETWORKDAYS(TODAY(),$C$11)","v":432},"dage"]
[]
[null,"Kontraktens slutdato",{"$f":"IF(C15=\"\",C9+(2*365)+C13,C15)","v":"2028-01-01"},null,null,null,"Endnu ikke afholdte igu-opkvalificeringstimer",{"$f":"851-SUM('Detaljeret overblik'!K:K)","v":851},"timer"]
[]
[null,"Forlængelsesperiode på baggrund af barsel og/eller sygdom (indsæt antal dage)",null,"dage",null,null,"I alt: Planlagte og afholdte igu-opkvalificeringstimer",{"$f":"SUM('Detaljeret overblik'!I:I)","v":0},"timer"]
[]
[null,"Kontrakten er afsluttet før tid  (skriv dato som dd-mm-ååå)",null,null,null,null,"I alt: Planlagte og afholdte AMU-opkvalificeringstimer",{"$f":" SUMIF('Detaljeret overblik'!A:A,valgliste!D3,'Detaljeret overblik'!I:I)","v":0},"timer"]
[]
[null,"Gennemført Danskuddannelse 1, 2 eller 3 ","Ja"]
[]
[null,"Generelle bemærkninger:"]
[]
[]
[]
[]
[]
[]
[]
[]
[]
[]
[null,"Læs mere:"]
[null,"Vejledning til kommunen"]
[null,"IGU overordnet"]
[null,"Fagsspecifikke retninger"]
[null,"Lovgivning"]
[null,"Refusion af kørsel, kost og logi"]

{"sheet":"Detaljeret overblik","index":1,"n_rows":968,"n_cols":14,"rows_kept":968,"cut":false,"hidden":false,"merged":[[0,0,0,5]]}
["Overblik over opkvalificeringen i løbet af et igu-forløb                                                                                                      På denne side skal du planlægge kursusforløbene. For hver kollonne vil der blive beskrevet hvad du skal indsætte i cellen. Meget vigtigt er, hvis et kursus bliver aflyst skal hele rækken med kursus slettes fra arket, ellers bliver timerne beregnet forkert.       "]
["Vælg hvilken type uddannelse.","Indtast navn på uddannelsen under igu-opkvalificering eksempelvis hygiejnecertifikat","Indtast navn på  uddannelsessted.","Vælg startdato.","Vælg slutdato.","Indtast uddannelsens undervisningstimer per uge. En time beregnes som 1 lektion + pause. En hel dag på AMU beregnes som 7,4 timer","Indsæt de forventede antal uger.","Beregn selv antallet af forventede undervisningstimer i perioden og indsæt. Når kurset er afholdt indsættes de afholdte timer.","AMU-kurser: 1time undervisning = 1 time Igu opkvalificering.  Andrekurser: 1 time undervisning = 2 timer Igu opkvalificering, da der forventes ligeså meget forberedelse som undervisning.","Indsæt løbende det antal undervisningstimer som er blevet afholdt.","AMU-kurser: 1time undervisning = 1 time Igu opkvalificering.  Andrekurser: 1 time undervisning = 2 timer Igu opkvalificering, da der forventes ligeså meget forberedelse som undervisning.","Vælg: Ved transport mere end 60 km. mellem bopæl og uddannelsesstedet, er det muligt at ansøge om refusion af ekstraudgifterne til kost og logi.","Skriv: Hjælp til dig med at kunne skrive bemærkninger til enkelte kurser","Vælg: Er kursusbeskrivelsen sendt til uddannelsesstedet?"]
["Kursustype","Titel på kursus","Kursussted","Startdato","Slutdato","Forventede antal undervisningstimer","Forventede antal uger","Undervisningstimer","Timer i Igu-opkvalificeringen","Afholdte undervisningstimer","Timer afholdt Igu-opkvalificering","+60km til uddannelse","Bemærkning","Sendt til kursussted"]
[null,null,null,null,null,null,null,null,{"$f":"IF(H4=\"\",\"\",IF(Tabel1[[#This Row],[Kursustype]]=valgliste!$D$3,1,2)*H4)","v":""},null,{"$f":"IF(J4=\"\",\"\",IF(Tabel1[[#This Row],[Kursustype]]=valgliste!$D$3,1,2)*J4)","v":""}]
[null,null,null,null,null,null,null,null,{"$f":"IF(H5=\"\",\"\",IF(Tabel1[[#This Row],[Kursustype]]=valgliste!$D$3,1,2)*H5)","v":""},null,{"$f":"IF(J5=\"\",\"\",IF(Tabel1[[#This Row],[Kursustype]]=valgliste!$D$3,1,2)*J5)","v":""}]
[null,null,null,null,null,null,null,null,{"$f":"IF(H6=\"\",\"\",IF(Tabel1[[#This Row],[Kursustype]]=valgliste!$D$3,1,2)*H6)","v":""},null,{"$f":"IF(J6=\"\",\"\",IF(Tabel1[[#This Row],[Kursustype]]=valgliste!$D$3,1,2)*J6)","v":""}]
[null,null,null,null,null,null,null,null,{"$f":"IF(H7=\"\",\"\",IF(Tabel1[[#This Row],[Kursustype]]=valgliste!$D$3,1,2)*H7)","v":""},null,{"$f":"IF(J7=\"\",\"\",IF(Tabel1[[#This Row],[Kursustype]]=valgliste!$D$3,1,2)*J7)","v":""}]
[null,null,null,null,null,null,null,null,{"$f":"IF(H8=\"\",\"\",IF(Tabel1[[#This Row],[Kursustype]]=valgliste!$D$3,1,2)*H8)","v":""},null,{"$f":"IF(J8=\"\",\"\",IF(Tabel1[[#This Row],[Kursustype]]=valgliste!$D$3,1,2)*J8)","v":""}]
[null,null,null,null,null,null,null,null,{"$f":"IF(H9=\"\",\"\",IF(Tabel1[[#This Row],[Kursustype]]=valgliste!$D$3,1,2)*H9)","v":""},null,{"$f":"IF(J9=\"\",\"\",IF(Tabel1[[#This Row],[Kursustype]]=valgliste!$D$3,1,2)*J9)","v":""}]
[null,null,null,null,null,null,null,null,{"$f":"IF(H10=\"\",\"\",IF(Tabel1[[#This Row],[Kursustype]]=valgliste!$D$3,1,2)*H10)","v":""},null,{"$f":"IF(J10=\"\",\"\",IF(Tabel1[[#This Row],[Kursustype]]=valgliste!$D$3,1,2)*J10)","v":""}]
[null,null,null,null,null,null,null,null,{"$f":"IF(H11=\"\",\"\",IF(Tabel1[[#This Row],[Kursustype]]=valgliste!$D$3,1,2)*H11)","v":""},null,{"$f":"IF(J11=\"\",\"\",IF(Tabel1[[#This Row],[Kursustype]]=valgliste!$D$3,1,2)*J11)","v":""}]
[null,null,null,null,null,null,null,null,{"$f":"IF(H12=\"\",\"\",IF(Tabel1[[#This Row],[Kursustype]]=valgliste!$D$3,1,2)*H12)","v":""},null,{"$f":"IF(J12=\"\",\"\",IF(Tabel1[[#This Row],[Kursustype]]=valgliste!$D$3,1,2)*J12)","v":""}]
[null,null,null,null,null,null,null,null,{"$f":"IF(H13=\"\",\"\",IF(Tabel1[[#This Row],[Kursustype]]=valgliste!$D$3,1,2)*H13)","v":""},null,{"$f":"IF(J13=\"\",\"\",IF(Tabel1[[#This Row],[Kursustype]]=valgliste!$D$3,1,2)*J13)","v":""}]
[null,null,null,null,null,null,null,null,{"$f":"IF(H14=\"\",\"\",IF(Tabel1[[#This Row],[Kursustype]]=valgliste!$D$3,1,2)*H14)","v":""},null,{"$f":"IF(J14=\"\",\"\",IF(Tabel1[[#This Row],[Kursustype]]=valgliste!$D$3,1,2)*J14)","v":""}]
[null,null,null,null,null,null,null,null,{"$f":"IF(H15=\"\",\"\",IF(Tabel1[[#This Row],[Kursustype]]=valgliste!$D$3,1,2)*H15)","v":""},null,{"$f":"IF(J15=\"\",\"\",IF(Tabel1[[#This Row],[Kursustype]]=valgliste!$D$3,1,2)*J15)","v":""}]
[null,null,null,null,null,null,null,null,{"$f":"IF(H16=\"\",\"\",IF(Tabel1[[#This Row],[Kursustype]]=valgliste!$D$3,1,2)*H16)","v":""},null,{"$f":"IF(J16=\"\",\"\",IF(Tabel1[[#This Row],[Kursustype]]=valgliste!$D$3,1,2)*J16)","v":""}]
[null,null,null,null,null,null,null,null,{"$f":"IF(H17=\"\",\"\",IF(Tabel1[[#This Row],[Kursustype]]=valgliste!$D$3,1,2)*H17)","v":""},null,{"$f":"IF(J17=\"\",\"\",IF(Tabel1[[#This Row],[Kursustype]]=valgliste!$D$3,1,2)*J17)","v":""}]
[null,null,null,null,null,null,null,null,{"$f":"IF(H18=\"\",\"\",IF(Tabel1[[#This Row],[Kursustype]]=valgliste!$D$3,1,2)*H18)","v":""},null,{"$f":"IF(J18=\"\",\"\",IF(Tabel1[[#This Row],[Kursustype]]=valgliste!$D$3,1,2)*J18)","v":""}]
[null,null,null,null,null,null,null,null,{"$f":"IF(H19=\"\",\"\",IF(Tabel1[[#This Row],[Kursustype]]=valgliste!$D$3,1,2)*H19)","v":""},null,{"$f":"IF(J19=\"\",\"\",IF(Tabel1[[#This Row],[Kursustype]]=valgliste!$D$3,1,2)*J19)","v":""}]
[null,null,null,null,null,null,null,null,{"$f":"IF(H20=\"\",\"\",IF(Tabel1[[#This Row],[Kursustype]]=valgliste!$D$3,1,2)*H20)","v":""},null,{"$f":"IF(J20=\"\",\"\",IF(Tabel1[[#This Row],[Kursustype]]=valgliste!$D$3,1,2)*J20)","v":""}]
[null,null,null,null,null,null,null,null,{"$f":"IF(H21=\"\",\"\",IF(Tabel1[[#This Row],[Kursustype]]=valgliste!$D$3,1,2)*H21)","v":""},null,{"$f":"IF(J21=\"\",\"\",IF(Tabel1[[#This Row],[Kursustype]]=valgliste!$D$3,1,2)*J21)","v":""}]
[null,null,null,null,null,null,null,null,{"$f":"IF(H22=\"\",\"\",IF(Tabel1[[#This Row],[Kursustype]]=valgliste!$D$3,1,2)*H22)","v":""},null,{"$f":"IF(J22=\"\",\"\",IF(Tabel1[[#This Row],[Kursustype]]=valgliste!$D$3,1,2)*J22)","v":""}]
[null,null,null,null,null,null,null,null,{"$f":"IF(H23=\"\",\"\",IF(Tabel1[[#This Row],[Kursustype]]=valgliste!$D$3,1,2)*H23)","v":""},null,{"$f":"IF(J23=\"\",\"\",IF(Tabel1[[#This Row],[Kursustype]]=valgliste!$D$3,1,2)*J23)","v":""}]
[null,null,null,null,null,null,null,null,{"$f":"IF(H24=\"\",\"\",IF(Tabel1[[#This Row],[Kursustype]]=valgliste!$D$3,1,2)*H24)","v":""},null,{"$f":"IF(J24=\"\",\"\",IF(Tabel1[[#This Row],[Kursustype]]=valgliste!$D$3,1,2)*J24)","v":""}]
[null,null,null,null,null,null,null,null,{"$f":"IF(H25=\"\",\"\",IF(Tabel1[[#This Row],[Kursustype]]=valgliste!$D$3,1,2)*H25)","v":""},null,{"$f":"IF(J25=\"\",\"\",IF(Tabel1[[#This Row],[Kursustype]]=valgliste!$D$3,1,2)*J25)","v":""}]
[null,null,null,null,null,null,null,null,{"$f":"IF(H26=\"\",\"\",IF(Tabel1[[#This Row],[Kursustype]]=valgliste!$D$3,1,2)*H26)","v":""},null,{"$f":"IF(J26=\"\",\"\",IF(Tabel1[[#This Row],[Kursustype]]=valgliste!$D$3,1,2)*J26)","v":""}]
[null,null,null,null,null,null,null,null,{"$f":"IF(H27=\"\",\"\",IF(Tabel1[[#This Row],[Kursustype]]=valgliste!$D$3,1,2)*H27)","v":""},null,{"$f":"IF(J27=\"\",\"\",IF(Tabel1[[#This Row],[Kursustype]]=valgliste!$D$3,1,2)*J27)","v":""}]
[null,null,null,null,null,null,null,null,{"$f":"IF(H28=\"\",\"\",IF(Tabel1[[#This Row],[Kursustype]]=valgliste!$D$3,1,2)*H28)","v":""},null,{"$f":"IF(J28=\"\",\"\",IF(Tabel1[[#This Row],[Kursustype]]=valgliste!$D$3,1,2)*J28)","v":""}]
[null,null,null,null,null,null,null,null,{"$f":"IF(H29=\"\",\"\",IF(Tabel1[[#This Row],[Kursustype]]=valgliste!$D$3,1,2)*H29)","v":""},null,{"$f":"IF(J29=\"\",\"\",IF(Tabel1[[#This Row],[Kursustype]]=valgliste!$D$3,1,2)*J29)","v":""}]
[null,null,null,null,null,null,null,null,{"$f":"IF(H30=\"\",\"\",IF(Tabel1[[#This Row],[Kursustype]]=valgliste!$D$3,1,2)*H30)","v":""},null,{"$f":"IF(J30=\"\",\"\",IF(Tabel1[[#This Row],[Kursustype]]=valgliste!$D$3,1,2)*J30)","v":""}]
[null,null,null,null,null,null,null,null,{"$f":"IF(H31=\"\",\"\",IF(Tabel1[[#This Row],[Kursustype]]=valgliste!$D$3,1,2)*H31)","v":""},null,{"$f":"IF(J31=\"\",\"\",IF(Tabel1[[#This Row],[Kursustype]]=valgliste!$D$3,1,2)*J31)","v":""}]
[null,null,null,null,null,null,null,null,{"$f":"IF(H32=\"\",\"\",IF(Tabel1[[#This Row],[Kursustype]]=valgliste!$D$3,1,2)*H32)","v":""},null,{"$f":"IF(J32=\"\",\"\",IF(Tabel1[[#This Row],[Kursustype]]=valgliste!$D$3,1,2)*J32)","v":""}]
[null,null,null,null,null,null,null,null,{"$f":"IF(H33=\"\",\"\",IF(Tabel1[[#This Row],[Kursustype]]=valgliste!$D$3,1,2)*H33)","v":""},null,{"$f":"IF(J33=\"\",\"\",IF(Tabel1[[#This Row],[Kursustype]]=valgliste!$D$3,1,2)*J33)","v":""}]
[null,null,null,null,null,null,null,null,{"$f":"IF(H34=\"\",\"\",IF(Tabel1[[#This Row],[Kursustype]]=valgliste!$D$3,1,2)*H34)","v":""},null,{"$f":"IF(J34=\"\",\"\",IF(Tabel1[[#This Row],[Kursustype]]=valgliste!$D$3,1,2)*J34)","v":""}]
[null,null,null,null,null,null,null,null,{"$f":"IF(H35=\"\",\"\",IF(Tabel1[[#This Row],[Kursustype]]=valgliste!$D$3,1,2)*H35)","v":""},null,{"$f":"IF(J35=\"\",\"\",IF(Tabel1[[#This Row],[Kursustype]]=valgliste!$D$3,1,2)*J35)","v":""}]
[null,null,null,null,null,null,null,null,{"$f":"IF(H36=\"\",\"\",IF(Tabel1[[#This Row],[Kursustype]]=valgliste!$D$3,1,2)*H36)","v":""},null,{"$f":"IF(J36=\"\",\"\",IF(Tabel1[[#This Row],[Kursustype]]=valgliste!$D$3,1,2)*J36)","v":""}]
[null,null,null,null,null,null,null,null,{"$f":"IF(H37=\"\",\"\",IF(Tabel1[[#This Row],[Kursustype]]=valgliste!$D$3,1,2)*H37)","v":""},null,{"$f":"IF(J37=\"\",\"\",IF(Tabel1[[#This Row],[Kursustype]]=valgliste!$D$3,1,2)*J37)","v":""}]
[null,null,null,null,null,null,null,null,{"$f":"IF(H38=\"\",\"\",IF(Tabel1[[#This Row],[Kursustype]]=valgliste!$D$3,1,2)*H38)","v":""},null,{"$f":"IF(J38=\"\",\"\",IF(Tabel1[[#This Row],[Kursustype]]=valgliste!$D$3,1,2)*J38)","v":""}]
[null,null,null,null,null,null,null,null,{"$f":"IF(H39=\"\",\"\",IF(Tabel1[[#This Row],[Kursustype]]=valgliste!$D$3,1,2)*H39)","v":""},null,{"$f":"IF(J39=\"\",\"\",IF(Tabel1[[#This Row],[Kursustype]]=valgliste!$D$3,1,2)*J39)","v":""}]
[null,null,null,null,null,null,null,null,{"$f":"IF(H40=\"\",\"\",IF(Tabel1[[#This Row],[Kursustype]]=valgliste!$D$3,1,2)*H40)","v":""},null,{"$f":"IF(J40=\"\",\"\",IF(Tabel1[[#This Row],[Kursustype]]=valgliste!$D$3,1,2)*J40)","v":""}]
[null,null,null,null,null,null,null,null,{"$f":"IF(H41=\"\",\"\",IF(Tabel1[[#This Row],[Kursustype]]=valgliste!$D$3,1,2)*H41)","v":""},null,{"$f":"IF(J41=\"\",\"\",IF(Tabel1[[#This Row],[Kursustype]]=valgliste!$D$3,1,2)*J41)","v":""}]
[null,null,null,null,null,null,null,null,{"$f":"IF(H42=\"\",\"\",IF(Tabel1[[#This Row],[Kursustype]]=valgliste!$D$3,1,2)*H42)","v":""},null,{"$f":"IF(J42=\"\",\"\",IF(Tabel1[[#This Row],[Kursustype]]=valgliste!$D$3,1,2)*J42)","v":""}]
[null,null,null,null,null,null,null,null,{"$f":"IF(H43=\"\",\"\",IF(Tabel1[[#This Row],[Kursustype]]=valgliste!$D$3,1,2)*H43)","v":""},null,{"$f":"IF(J43=\"\",\"\",IF(Tabel1[[#This Row],[Kursustype]]=valgliste!$D$3,1,2)*J43)","v":""}]
[null,null,null,null,null,null,null,null,{"$f":"IF(H44=\"\",\"\",IF(Tabel1[[#This Row],[Kursustype]]=valgliste!$D$3,1,2)*H44)","v":""},null,{"$f":"IF(J44=\"\",\"\",IF(Tabel1[[#This Row],[Kursustype]]=valgliste!$D$3,1,2)*J44)","v":""}]
[null,null,null,null,null,null,null,null,{"$f":"IF(H45=\"\",\"\",IF(Tabel1[[#This Row],[Kursustype]]=valgliste!$D$3,1,2)*H45)","v":""},null,{"$f":"IF(J45=\"\",\"\",IF(Tabel1[[#This Row],[Kursustype]]=valgliste!$D$3,1,2)*J45)","v":""}]
[null,null,null,null,null,null,null,null,{"$f":"IF(H46=\"\",\"\",IF(Tabel1[[#This Row],[Kursustype]]=valgliste!$D$3,1,2)*H46)","v":""},null,{"$f":"IF(J46=\"\",\"\",IF(Tabel1[[#This Row],[Kursustype]]=valgliste!$D$3,1,2)*J46)","v":""}]
[null,null,null,null,null,null,null,null,{"$f":"IF(H47=\"\",\"\",IF(Tabel1[[#This Row],[Kursustype]]=valgliste!$D$3,1,2)*H47)","v":""},null,{"$f":"IF(J47=\"\",\"\",IF(Tabel1[[#This Row],[Kursustype]]=valgliste!$D$3,1,2)*J47)","v":""}]
[null,null,null,null,null,null,null,null,{"$f":"IF(H48=\"\",\"\",IF(Tabel1[[#This Row],[Kursustype]]=valgliste!$D$3,1,2)*H48)","v":""},null,{"$f":"IF(J48=\"\",\"\",IF(Tabel1[[#This Row],[Kursustype]]=valgliste!$D$3,1,2)*J48)","v":""}]
[null,null,null,null,null,null,null,null,{"$f":"IF(H49=\"\",\"\",IF(Tabel1[[#This Row],[Kursustype]]=valgliste!$D$3,1,2)*H49)","v":""},null,{"$f":"IF(J49=\"\",\"\",IF(Tabel1[[#This Row],[Kursustype]]=valgliste!$D$3,1,2)*J49)","v":""}]
[null,null,null,null,null,null,null,null,{"$f":"IF(H50=\"\",\"\",IF(Tabel1[[#This Row],[Kursustype]]=valgliste!$D$3,1,2)*H50)","v":""},null,{"$f":"IF(J50=\"\",\"\",IF(Tabel1[[#This Row],[Kursustype]]=valgliste!$D$3,1,2)*J50)","v":""}]
[null,null,null,null,null,null,null,null,{"$f":"IF(H51=\"\",\"\",IF(Tabel1[[#This Row],[Kursustype]]=valgliste!$D$3,1,2)*H51)","v":""},null,{"$f":"IF(J51=\"\",\"\",IF(Tabel1[[#This Row],[Kursustype]]=valgliste!$D$3,1,2)*J51)","v":""}]
[null,null,null,null,null,null,null,null,{"$f":"IF(H52=\"\",\"\",IF(Tabel1[[#This Row],[Kursustype]]=valgliste!$D$3,1,2)*H52)","v":""},null,{"$f":"IF(J52=\"\",\"\",IF(Tabel1[[#This Row],[Kursustype]]=valgliste!$D$3,1,2)*J52)","v":""}]
[null,null,null,null,null,null,null,null,{"$f":"IF(H53=\"\",\"\",IF(Tabel1[[#This Row],[Kursustype]]=valgliste!$D$3,1,2)*H53)","v":""},null,{"$f":"IF(J53=\"\",\"\",IF(Tabel1[[#This Row],[Kursustype]]=valgliste!$D$3,1,2)*J53)","v":""}]
[null,null,null,null,null,null,null,null,{"$f":"IF(H54=\"\",\"\",IF(Tabel1[[#This Row],[Kursustype]]=valgliste!$D$3,1,2)*H54)","v":""},null,{"$f":"IF(J54=\"\",\"\",IF(Tabel1[[#This Row],[Kursustype]]=valgliste!$D$3,1,2)*J54)","v":""}]
[null,null,null,null,null,null,null,null,{"$f":"IF(H55=\"\",\"\",IF(Tabel1[[#This Row],[Kursustype]]=valgliste!$D$3,1,2)*H55)","v":""},null,{"$f":"IF(J55=\"\",\"\",IF(Tabel1[[#This Row],[Kursustype]]=valgliste!$D$3,1,2)*J55)","v":""}]
[null,null,null,null,null,null,null,null,{"$f":"IF(H56=\"\",\"\",IF(Tabel1[[#This Row],[Kursustype]]=valgliste!$D$3,1,2)*H56)","v":""},null,{"$f":"IF(J56=\"\",\"\",IF(Tabel1[[#This Row],[Kursustype]]=valgliste!$D$3,1,2)*J56)","v":""}]
[null,null,null,null,null,null,null,null,{"$f":"IF(H57=\"\",\"\",IF(Tabel1[[#This Row],[Kursustype]]=valgliste!$D$3,1,2)*H57)","v":""},null,{"$f":"IF(J57=\"\",\"\",IF(Tabel1[[#This Row],[Kursustype]]=valgliste!$D$3,1,2)*J57)","v":""}]
[null,null,null,null,null,null,null,null,{"$f":"IF(H58=\"\",\"\",IF(Tabel1[[#This Row],[Kursustype]]=valgliste!$D$3,1,2)*H58)","v":""},null,{"$f":"IF(J58=\"\",\"\",IF(Tabel1[[#This Row],[Kursustype]]=valgliste!$D$3,1,2)*J58)","v":""}]
[null,null,null,null,null,null,null,null,{"$f":"IF(H59=\"\",\"\",IF(Tabel1[[#This Row],[Kursustype]]=valgliste!$D$3,1,2)*H59)","v":""},null,{"$f":"IF(J59=\"\",\"\",IF(Tabel1[[#This Row],[Kursustype]]=valgliste!$D$3,1,2)*J59)","v":""}]
[null,null,null,null,null,null,null,null,{"$f":"IF(H60=\"\",\"\",IF(Tabel1[[#This Row],[Kursustype]]=valgliste!$D$3,1,2)*H60)","v":""},null,{"$f":"IF(J60=\"\",\"\",IF(Tabel1[[#This Row],[Kursustype]]=valgliste!$D$3,1,2)*J60)","v":""}]
[null,null,null,null,null,null,null,null,{"$f":"IF(H61=\"\",\"\",IF(Tabel1[[#This Row],[Kursustype]]=valgliste!$D$3,1,2)*H61)","v":""},null,{"$f":"IF(J61=\"\",\"\",IF(Tabel1[[#This Row],[Kursustype]]=valgliste!$D$3,1,2)*J61)","v":""}]
[null,null,null,null,null,null,null,null,{"$f":"IF(H62=\"\",\"\",IF(Tabel1[[#This Row],[Kursustype]]=valgliste!$D$3,1,2)*H62)","v":""},null,{"$f":"IF(J62=\"\",\"\",IF(Tabel1[[#This Row],[Kursustype]]=valgliste!$D$3,1,2)*J62)","v":""}]
[null,null,null,null,null,null,null,null,{"$f":"IF(H63=\"\",\"\",IF(Tabel1[[#This Row],[Kursustype]]=valgliste!$D$3,1,2)*H63)","v":""},null,{"$f":"IF(J63=\"\",\"\",IF(Tabel1[[#This Row],[Kursustype]]=valgliste!$D$3,1,2)*J63)","v":""}]
[null,null,null,null,null,null,null,null,{"$f":"IF(H64=\"\",\"\",IF(Tabel1[[#This Row],[Kursustype]]=valgliste!$D$3,1,2)*H64)","v":""},null,{"$f":"IF(J64=\"\",\"\",IF(Tabel1[[#This Row],[Kursustype]]=valgliste!$D$3,1,2)*J64)","v":""}]
[null,null,null,null,null,null,null,null,{"$f":"IF(H65=\"\",\"\",IF(Tabel1[[#This Row],[Kursustype]]=valgliste!$D$3,1,2)*H65)","v":""},null,{"$f":"IF(J65=\"\",\"\",IF(Tabel1[[#This Row],[Kursustype]]=valgliste!$D$3,1,2)*J65)","v":""}]
[null,null,null,null,null,null,null,null,{"$f":"IF(H66=\"\",\"\",IF(Tabel1[[#This Row],[Kursustype]]=valgliste!$D$3,1,2)*H66)","v":""},null,{"$f":"IF(J66=\"\",\"\",IF(Tabel1[[#This Row],[Kursustype]]=valgliste!$D$3,1,2)*J66)","v":""}]
[null,null,null,null,null,null,null,null,{"$f":"IF(H67=\"\",\"\",IF(Tabel1[[#This Row],[Kursustype]]=valgliste!$D$3,1,2)*H67)","v":""},null,{"$f":"IF(J67=\"\",\"\",IF(Tabel1[[#This Row],[Kursustype]]=valgliste!$D$3,1,2)*J67)","v":""}]
[null,null,null,null,null,null,null,null,{"$f":"IF(H68=\"\",\"\",IF(Tabel1[[#This Row],[Kursustype]]=valgliste!$D$3,1,2)*H68)","v":""},null,{"$f":"IF(J68=\"\",\"\",IF(Tabel1[[#This Row],[Kursustype]]=valgliste!$D$3,1,2)*J68)","v":""}]
[null,null,null,null,null,null,null,null,{"$f":"IF(H69=\"\",\"\",IF(Tabel1[[#This Row],[Kursustype]]=valgliste!$D$3,1,2)*H69)","v":""},null,{"$f":"IF(J69=\"\",\"\",IF(Tabel1[[#This Row],[Kursustype]]=valgliste!$D$3,1,2)*J69)","v":""}]
[null,null,null,null,null,null,null,null,{"$f":"IF(H70=\"\",\"\",IF(Tabel1[[#This Row],[Kursustype]]=valgliste!$D$3,1,2)*H70)","v":""},null,{"$f":"IF(J70=\"\",\"\",IF(Tabel1[[#This Row],[Kursustype]]=valgliste!$D$3,1,2)*J70)","v":""}]
[null,null,null,null,null,null,null,null,{"$f":"IF(H71=\"\",\"\",IF(Tabel1[[#This Row],[Kursustype]]=valgliste!$D$3,1,2)*H71)","v":""},null,{"$f":"IF(J71=\"\",\"\",IF(Tabel1[[#This Row],[Kursustype]]=valgliste!$D$3,1,2)*J71)","v":""}]
[null,null,null,null,null,null,null,null,{"$f":"IF(H72=\"\",\"\",IF(Tabel1[[#This Row],[Kursustype]]=valgliste!$D$3,1,2)*H72)","v":""},null,{"$f":"IF(J72=\"\",\"\",IF(Tabel1[[#This Row],[Kursustype]]=valgliste!$D$3,1,2)*J72)","v":""}]
[null,null,null,null,null,null,null,null,{"$f":"IF(H73=\"\",\"\",IF(Tabel1[[#This Row],[Kursustype]]=valgliste!$D$3,1,2)*H73)","v":""},null,{"$f":"IF(J73=\"\",\"\",IF(Tabel1[[#This Row],[Kursustype]]=valgliste!$D$3,1,2)*J73)","v":""}]
[null,null,null,null,null,null,null,null,{"$f":"IF(H74=\"\",\"\",IF(Tabel1[[#This Row],[Kursustype]]=valgliste!$D$3,1,2)*H74)","v":""},null,{"$f":"IF(J74=\"\",\"\",IF(Tabel1[[#This Row],[Kursustype]]=valgliste!$D$3,1,2)*J74)","v":""}]
[null,null,null,null,null,null,null,null,{"$f":"IF(H75=\"\",\"\",IF(Tabel1[[#This Row],[Kursustype]]=valgliste!$D$3,1,2)*H75)","v":""},null,{"$f":"IF(J75=\"\",\"\",IF(Tabel1[[#This Row],[Kursustype]]=valgliste!$D$3,1,2)*J75)","v":""}]
[null,null,null,null,null,null,null,null,{"$f":"IF(H76=\"\",\"\",IF(Tabel1[[#This Row],[Kursustype]]=valgliste!$D$3,1,2)*H76)","v":""},null,{"$f":"IF(J76=\"\",\"\",IF(Tabel1[[#This Row],[Kursustype]]=valgliste!$D$3,1,2)*J76)","v":""}]
[null,null,null,null,null,null,null,null,{"$f":"IF(H77=\"\",\"\",IF(Tabel1[[#This Row],[Kursustype]]=valgliste!$D$3,1,2)*H77)","v":""},null,{"$f":"IF(J77=\"\",\"\",IF(Tabel1[[#This Row],[Kursustype]]=valgliste!$D$3,1,2)*J77)","v":""}]
[null,null,null,null,null,null,null,null,{"$f":"IF(H78=\"\",\"\",IF(Tabel1[[#This Row],[Kursustype]]=valgliste!$D$3,1,2)*H78)","v":""},null,{"$f":"IF(J78=\"\",\"\",IF(Tabel1[[#This Row],[Kursustype]]=valgliste!$D$3,1,2)*J78)","v":""}]
[null,null,null,null,null,null,null,null,{"$f":"IF(H79=\"\",\"\",IF(Tabel1[[#This Row],[Kursustype]]=valgliste!$D$3,1,2)*H79)","v":""},null,{"$f":"IF(J79=\"\",\"\",IF(Tabel1[[#This Row],[Kursustype]]=valgliste!$D$3,1,2)*J79)","v":""}]
[null,null,null,null,null,null,null,null,{"$f":"IF(H80=\"\",\"\",IF(Tabel1[[#This Row],[Kursustype]]=valgliste!$D$3,1,2)*H80)","v":""},null,{"$f":"IF(J80=\"\",\"\",IF(Tabel1[[#This Row],[Kursustype]]=valgliste!$D$3,1,2)*J80)","v":""}]
[null,null,null,null,null,null,null,null,{"$f":"IF(H81=\"\",\"\",IF(Tabel1[[#This Row],[Kursustype]]=valgliste!$D$3,1,2)*H81)","v":""},null,{"$f":"IF(J81=\"\",\"\",IF(Tabel1[[#This Row],[Kursustype]]=valgliste!$D$3,1,2)*J81)","v":""}]
[null,null,null,null,null,null,null,null,{"$f":"IF(H82=\"\",\"\",IF(Tabel1[[#This Row],[Kursustype]]=valgliste!$D$3,1,2)*H82)","v":""},null,{"$f":"IF(J82=\"\",\"\",IF(Tabel1[[#This Row],[Kursustype]]=valgliste!$D$3,1,2)*J82)","v":""}]
[null,null,null,null,null,null,null,null,{"$f":"IF(H83=\"\",\"\",IF(Tabel1[[#This Row],[Kursustype]]=valgliste!$D$3,1,2)*H83)","v":""},null,{"$f":"IF(J83=\"\",\"\",IF(Tabel1[[#This Row],[Kursustype]]=valgliste!$D$3,1,2)*J83)","v":""}]
[null,null,null,null,null,null,null,null,{"$f":"IF(H84=\"\",\"\",IF(Tabel1[[#This Row],[Kursustype]]=valgliste!$D$3,1,2)*H84)","v":""},null,{"$f":"IF(J84=\"\",\"\",IF(Tabel1[[#This Row],[Kursustype]]=valgliste!$D$3,1,2)*J84)","v":""}]
[null,null,null,null,null,null,null,null,{"$f":"IF(H85=\"\",\"\",IF(Tabel1[[#This Row],[Kursustype]]=valgliste!$D$3,1,2)*H85)","v":""},null,{"$f":"IF(J85=\"\",\"\",IF(Tabel1[[#This Row],[Kursustype]]=valgliste!$D$3,1,2)*J85)","v":""}]
[null,null,null,null,null,null,null,null,{"$f":"IF(H86=\"\",\"\",IF(Tabel1[[#This Row],[Kursustype]]=valgliste!$D$3,1,2)*H86)","v":""},null,{"$f":"IF(J86=\"\",\"\",IF(Tabel1[[#This Row],[Kursustype]]=valgliste!$D$3,1,2)*J86)","v":""}]
[null,null,null,null,null,null,null,null,{"$f":"IF(H87=\"\",\"\",IF(Tabel1[[#This Row],[Kursustype]]=valgliste!$D$3,1,2)*H87)","v":""},null,{"$f":"IF(J87=\"\",\"\",IF(Tabel1[[#This Row],[Kursustype]]=valgliste!$D$3,1,2)*J87)","v":""}]
[null,null,null,null,null,null,null,null,{"$f":"IF(H88=\"\",\"\",IF(Tabel1[[#This Row],[Kursustype]]=valgliste!$D$3,1,2)*H88)","v":""},null,{"$f":"IF(J88=\"\",\"\",IF(Tabel1[[#This Row],[Kursustype]]=valgliste!$D$3,1,2)*J88)","v":""}]
[null,null,null,null,null,null,null,null,{"$f":"IF(H89=\"\",\"\",IF(Tabel1[[#This Row],[Kursustype]]=valgliste!$D$3,1,2)*H89)","v":""},null,{"$f":"IF(J89=\"\",\"\",IF(Tabel1[[#This Row],[Kursustype]]=valgliste!$D$3,1,2)*J89)","v":""}]
[null,null,null,null,null,null,null,null,{"$f":"IF(H90=\"\",\"\",IF(Tabel1[[#This Row],[Kursustype]]=valgliste!$D$3,1,2)*H90)","v":""},null,{"$f":"IF(J90=\"\",\"\",IF(Tabel1[[#This Row],[Kursustype]]=valgliste!$D$3,1,2)*J90)","v":""}]
[null,null,null,null,null,null,null,null,{"$f":"IF(H91=\"\",\"\",IF(Tabel1[[#This Row],[Kursustype]]=valgliste!$D$3,1,2)*H91)","v":""},null,{"$f":"IF(J91=\"\",\"\",IF(Tabel1[[#This Row],[Kursustype]]=valgliste!$D$3,1,2)*J91)","v":""}]
[null,null,null,null,null,null,null,null,{"$f":"IF(H92=\"\",\"\",IF(Tabel1[[#This Row],[Kursustype]]=valgliste!$D$3,1,2)*H92)","v":""},null,{"$f":"IF(J92=\"\",\"\",IF(Tabel1[[#This Row],[Kursustype]]=valgliste!$D$3,1,2)*J92)","v":""}]
[null,null,null,null,null,null,null,null,{"$f":"IF(H93=\"\",\"\",IF(Tabel1[[#This Row],[Kursustype]]=valgliste!$D$3,1,2)*H93)","v":""},null,{"$f":"IF(J93=\"\",\"\",IF(Tabel1[[#This Row],[Kursustype]]=valgliste!$D$3,1,2)*J93)","v":""}]
[null,null,null,null,null,null,null,null,{"$f":"IF(H94=\"\",\"\",IF(Tabel1[[#This Row],[Kursustype]]=valgliste!$D$3,1,2)*H94)","v":""},null,{"$f":"IF(J94=\"\",\"\",IF(Tabel1[[#This Row],[Kursustype]]=valgliste!$D$3,1,2)*J94)","v":""}]
[null,null,null,null,null,null,null,null,{"$f":"IF(H95=\"\",\"\",IF(Tabel1[[#This Row],[Kursustype]]=valgliste!$D$3,1,2)*H95)","v":""},null,{"$f":"IF(J95=\"\",\"\",IF(Tabel1[[#This Row],[Kursustype]]=valgliste!$D$3,1,2)*J95)","v":""}]
[null,null,null,null,null,null,null,null,{"$f":"IF(H96=\"\",\"\",IF(Tabel1[[#This Row],[Kursustype]]=valgliste!$D$3,1,2)*H96)","v":""},null,{"$f":"IF(J96=\"\",\"\",IF(Tabel1[[#This Row],[Kursustype]]=valgliste!$D$3,1,2)*J96)","v":""}]
[null,null,null,null,null,null,null,null,{"$f":"IF(H97=\"\",\"\",IF(Tabel1[[#This Row],[Kursustype]]=valgliste!$D$3,1,2)*H97)","v":""},null,{"$f":"IF(J97=\"\",\"\",IF(Tabel1[[#This Row],[Kursustype]]=valgliste!$D$3,1,2)*J97)","v":""}]
[null,null,null,null,null,null,null,null,{"$f":"IF(H98=\"\",\"\",IF(Tabel1[[#This Row],[Kursustype]]=valgliste!$D$3,1,2)*H98)","v":""},null,{"$f":"IF(J98=\"\",\"\",IF(Tabel1[[#This Row],[Kursustype]]=valgliste!$D$3,1,2)*J98)","v":""}]
[null,null,null,null,null,null,null,null,{"$f":"IF(H99=\"\",\"\",IF(Tabel1[[#This Row],[Kursustype]]=valgliste!$D$3,1,2)*H99)","v":""},null,{"$f":"IF(J99=\"\",\"\",IF(Tabel1[[#This Row],[Kursustype]]=valgliste!$D$3,1,2)*J99)","v":""}]
[null,null,null,null,null,null,null,null,{"$f":"IF(H100=\"\",\"\",IF(Tabel1[[#This Row],[Kursustype]]=valgliste!$D$3,1,2)*H100)","v":""},null,{"$f":"IF(J100=\"\",\"\",IF(Tabel1[[#This Row],[Kursustype]]=valgliste!$D$3,1,2)*J100)","v":""}]
[null,null,null,null,null,null,null,null,{"$f":"IF(H101=\"\",\"\",IF(Tabel1[[#This Row],[Kursustype]]=valgliste!$D$3,1,2)*H101)","v":""},null,{"$f":"IF(J101=\"\",\"\",IF(Tabel1[[#This Row],[Kursustype]]=valgliste!$D$3,1,2)*J101)","v":""}]
[null,null,null,null,null,null,null,null,{"$f":"IF(H102=\"\",\"\",IF(Tabel1[[#This Row],[Kursustype]]=valgliste!$D$3,1,2)*H102)","v":""},null,{"$f":"IF(J102=\"\",\"\",IF(Tabel1[[#This Row],[Kursustype]]=valgliste!$D$3,1,2)*J102)","v":""}]
[null,null,null,null,null,null,null,null,{"$f":"IF(H103=\"\",\"\",IF(Tabel1[[#This Row],[Kursustype]]=valgliste!$D$3,1,2)*H103)","v":""},null,{"$f":"IF(J103=\"\",\"\",IF(Tabel1[[#This Row],[Kursustype]]=valgliste!$D$3,1,2)*J103)","v":""}]
[null,null,null,null,null,null,null,null,{"$f":"IF(H104=\"\",\"\",IF(Tabel1[[#This Row],[Kursustype]]=valgliste!$D$3,1,2)*H104)","v":""},null,{"$f":"IF(J104=\"\",\"\",IF(Tabel1[[#This Row],[Kursustype]]=valgliste!$D$3,1,2)*J104)","v":""}]
[null,null,null,null,null,null,null,null,{"$f":"IF(H105=\"\",\"\",IF(Tabel1[[#This Row],[Kursustype]]=valgliste!$D$3,1,2)*H105)","v":""},null,{"$f":"IF(J105=\"\",\"\",IF(Tabel1[[#This Row],[Kursustype]]=valgliste!$D$3,1,2)*J105)","v":""}]
[null,null,null,null,null,null,null,null,{"$f":"IF(H106=\"\",\"\",IF(Tabel1[[#This Row],[Kursustype]]=valgliste!$D$3,1,2)*H106)","v":""},null,{"$f":"IF(J106=\"\",\"\",IF(Tabel1[[#This Row],[Kursustype]]=valgliste!$D$3,1,2)*J106)","v":""}]
[null,null,null,null,null,null,null,null,{"$f":"IF(H107=\"\",\"\",IF(Tabel1[[#This Row],[Kursustype]]=valgliste!$D$3,1,2)*H107)","v":""},null,{"$f":"IF(J107=\"\",\"\",IF(Tabel1[[#This Row],[Kursustype]]=valgliste!$D$3,1,2)*J107)","v":""}]
[null,null,null,null,null,null,null,null,{"$f":"IF(H108=\"\",\"\",IF(Tabel1[[#This Row],[Kursustype]]=valgliste!$D$3,1,2)*H108)","v":""},null,{"$f":"IF(J108=\"\",\"\",IF(Tabel1[[#This Row],[Kursustype]]=valgliste!$D$3,1,2)*J108)","v":""}]
[null,null,null,null,null,null,null,null,{"$f":"IF(H109=\"\",\"\",IF(Tabel1[[#This Row],[Kursustype]]=valgliste!$D$3,1,2)*H109)","v":""},null,{"$f":"IF(J109=\"\",\"\",IF(Tabel1[[#This Row],[Kursustype]]=valgliste!$D$3,1,2)*J109)","v":""}]
[null,null,null,null,null,null,null,null,{"$f":"IF(H110=\"\",\"\",IF(Tabel1[[#This Row],[Kursustype]]=valgliste!$D$3,1,2)*H110)","v":""},null,{"$f":"IF(J110=\"\",\"\",IF(Tabel1[[#This Row],[Kursustype]]=valgliste!$D$3,1,2)*J110)","v":""}]
[null,null,null,null,null,null,null,null,{"$f":"IF(H111=\"\",\"\",IF(Tabel1[[#This Row],[Kursustype]]=valgliste!$D$3,1,2)*H111)","v":""},null,{"$f":"IF(J111=\"\",\"\",IF(Tabel1[[#This Row],[Kursustype]]=valgliste!$D$3,1,2)*J111)","v":""}]
[null,null,null,null,null,null,null,null,{"$f":"IF(H112=\"\",\"\",IF(Tabel1[[#This Row],[Kursustype]]=valgliste!$D$3,1,2)*H112)","v":""},null,{"$f":"IF(J112=\"\",\"\",IF(Tabel1[[#This Row],[Kursustype]]=valgliste!$D$3,1,2)*J112)","v":""}]
[null,null,null,null,null,null,null,null,{"$f":"IF(H113=\"\",\"\",IF(Tabel1[[#This Row],[Kursustype]]=valgliste!$D$3,1,2)*H113)","v":""},null,{"$f":"IF(J113=\"\",\"\",IF(Tabel1[[#This Row],[Kursustype]]=valgliste!$D$3,1,2)*J113)","v":""}]
[null,null,null,null,null,null,null,null,{"$f":"IF(H114=\"\",\"\",IF(Tabel1[[#This Row],[Kursustype]]=valgliste!$D$3,1,2)*H114)","v":""},null,{"$f":"IF(J114=\"\",\"\",IF(Tabel1[[#This Row],[Kursustype]]=valgliste!$D$3,1,2)*J114)","v":""}]
[null,null,null,null,null,null,null,null,{"$f":"IF(H115=\"\",\"\",IF(Tabel1[[#This Row],[Kursustype]]=valgliste!$D$3,1,2)*H115)","v":""},null,{"$f":"IF(J115=\"\",\"\",IF(Tabel1[[#This Row],[Kursustype]]=valgliste!$D$3,1,2)*J115)","v":""}]
[null,null,null,null,null,null,null,null,{"$f":"IF(H116=\"\",\"\",IF(Tabel1[[#This Row],[Kursustype]]=valgliste!$D$3,1,2)*H116)","v":""},null,{"$f":"IF(J116=\"\",\"\",IF(Tabel1[[#This Row],[Kursustype]]=valgliste!$D$3,1,2)*J116)","v":""}]
[null,null,null,null,null,null,null,null,{"$f":"IF(H117=\"\",\"\",IF(Tabel1[[#This Row],[Kursustype]]=valgliste!$D$3,1,2)*H117)","v":""},null,{"$f":"IF(J117=\"\",\"\",IF(Tabel1[[#This Row],[Kursustype]]=valgliste!$D$3,1,2)*J117)","v":""}]
[null,null,null,null,null,null,null,null,{"$f":"IF(H118=\"\",\"\",IF(Tabel1[[#This Row],[Kursustype]]=valgliste!$D$3,1,2)*H118)","v":""},null,{"$f":"IF(J118=\"\",\"\",IF(Tabel1[[#This Row],[Kursustype]]=valgliste!$D$3,1,2)*J118)","v":""}]
[null,null,null,null,null,null,null,null,{"$f":"IF(H119=\"\",\"\",IF(Tabel1[[#This Row],[Kursustype]]=valgliste!$D$3,1,2)*H119)","v":""},null,{"$f":"IF(J119=\"\",\"\",IF(Tabel1[[#This Row],[Kursustype]]=valgliste!$D$3,1,2)*J119)","v":""}]
[null,null,null,null,null,null,null,null,{"$f":"IF(H120=\"\",\"\",IF(Tabel1[[#This Row],[Kursustype]]=valgliste!$D$3,1,2)*H120)","v":""},null,{"$f":"IF(J120=\"\",\"\",IF(Tabel1[[#This Row],[Kursustype]]=valgliste!$D$3,1,2)*J120)","v":""}]
[null,null,null,null,null,null,null,null,{"$f":"IF(H121=\"\",\"\",IF(Tabel1[[#This Row],[Kursustype]]=valgliste!$D$3,1,2)*H121)","v":""},null,{"$f":"IF(J121=\"\",\"\",IF(Tabel1[[#This Row],[Kursustype]]=valgliste!$D$3,1,2)*J121)","v":""}]
[null,null,null,null,null,null,null,null,{"$f":"IF(H122=\"\",\"\",IF(Tabel1[[#This Row],[Kursustype]]=valgliste!$D$3,1,2)*H122)","v":""},null,{"$f":"IF(J122=\"\",\"\",IF(Tabel1[[#This Row],[Kursustype]]=valgliste!$D$3,1,2)*J122)","v":""}]
[null,null,null,null,null,null,null,null,{"$f":"IF(H123=\"\",\"\",IF(Tabel1[[#This Row],[Kursustype]]=valgliste!$D$3,1,2)*H123)","v":""},null,{"$f":"IF(J123=\"\",\"\",IF(Tabel1[[#This Row],[Kursustype]]=valgliste!$D$3,1,2)*J123)","v":""}]
[null,null,null,null,null,null,null,null,{"$f":"IF(H124=\"\",\"\",IF(Tabel1[[#This Row],[Kursustype]]=valgliste!$D$3,1,2)*H124)","v":""},null,{"$f":"IF(J124=\"\",\"\",IF(Tabel1[[#This Row],[Kursustype]]=valgliste!$D$3,1,2)*J124)","v":""}]
[null,null,null,null,null,null,null,null,{"$f":"IF(H125=\"\",\"\",IF(Tabel1[[#This Row],[Kursustype]]=valgliste!$D$3,1,2)*H125)","v":""},null,{"$f":"IF(J125=\"\",\"\",IF(Tabel1[[#This Row],[Kursustype]]=valgliste!$D$3,1,2)*J125)","v":""}]
[null,null,null,null,null,null,null,null,{"$f":"IF(H126=\"\",\"\",IF(Tabel1[[#This Row],[Kursustype]]=valgliste!$D$3,1,2)*H126)","v":""},null,{"$f":"IF(J126=\"\",\"\",IF(Tabel1[[#This Row],[Kursustype]]=valgliste!$D$3,1,2)*J126)","v":""}]
[null,null,null,null,null,null,null,null,{"$f":"IF(H127=\"\",\"\",IF(Tabel1[[#This Row],[Kursustype]]=valgliste!$D$3,1,2)*H127)","v":""},null,{"$f":"IF(J127=\"\",\"\",IF(Tabel1[[#This Row],[Kursustype]]=valgliste!$D$3,1,2)*J127)","v":""}]
[null,null,null,null,null,null,null,null,{"$f":"IF(H128=\"\",\"\",IF(Tabel1[[#This Row],[Kursustype]]=valgliste!$D$3,1,2)*H128)","v":""},null,{"$f":"IF(J128=\"\",\"\",IF(Tabel1[[#This Row],[Kursustype]]=valgliste!$D$3,1,2)*J128)","v":""}]
[null,null,null,null,null,null,null,null,{"$f":"IF(H129=\"\",\"\",IF(Tabel1[[#This Row],[Kursustype]]=valgliste!$D$3,1,2)*H129)","v":""},null,{"$f":"IF(J129=\"\",\"\",IF(Tabel1[[#This Row],[Kursustype]]=valgliste!$D$3,1,2)*J129)","v":""}]
[null,null,null,null,null,null,null,null,{"$f":"IF(H130=\"\",\"\",IF(Tabel1[[#This Row],[Kursustype]]=valgliste!$D$3,1,2)*H130)","v":""},null,{"$f":"IF(J130=\"\",\"\",IF(Tabel1[[#This Row],[Kursustype]]=valgliste!$D$3,1,2)*J130)","v":""}]
[null,null,null,null,null,null,null,null,{"$f":"IF(H131=\"\",\"\",IF(Tabel1[[#This Row],[Kursustype]]=valgliste!$D$3,1,2)*H131)","v":""},null,{"$f":"IF(J131=\"\",\"\",IF(Tabel1[[#This Row],[Kursustype]]=valgliste!$D$3,1,2)*J131)","v":""}]
[null,null,null,null,null,null,null,null,{"$f":"IF(H132=\"\",\"\",IF(Tabel1[[#This Row],[Kursustype]]=valgliste!$D$3,1,2)*H132)","v":""},null,{"$f":"IF(J132=\"\",\"\",IF(Tabel1[[#This Row],[Kursustype]]=valgliste!$D$3,1,2)*J132)","v":""}]
[null,null,null,null,null,null,null,null,{"$f":"IF(H133=\"\",\"\",IF(Tabel1[[#This Row],[Kursustype]]=valgliste!$D$3,1,2)*H133)","v":""},null,{"$f":"IF(J133=\"\",\"\",IF(Tabel1[[#This Row],[Kursustype]]=valgliste!$D$3,1,2)*J133)","v":""}]
[null,null,null,null,null,null,null,null,{"$f":"IF(H134=\"\",\"\",IF(Tabel1[[#This Row],[Kursustype]]=valgliste!$D$3,1,2)*H134)","v":""},null,{"$f":"IF(J134=\"\",\"\",IF(Tabel1[[#This Row],[Kursustype]]=valgliste!$D$3,1,2)*J134)","v":""}]
[null,null,null,null,null,null,null,null,{"$f":"IF(H135=\"\",\"\",IF(Tabel1[[#This Row],[Kursustype]]=valgliste!$D$3,1,2)*H135)","v":""},null,{"$f":"IF(J135=\"\",\"\",IF(Tabel1[[#This Row],[Kursustype]]=valgliste!$D$3,1,2)*J135)","v":""}]
[null,null,null,null,null,null,null,null,{"$f":"IF(H136=\"\",\"\",IF(Tabel1[[#This Row],[Kursustype]]=valgliste!$D$3,1,2)*H136)","v":""},null,{"$f":"IF(J136=\"\",\"\",IF(Tabel1[[#This Row],[Kursustype]]=valgliste!$D$3,1,2)*J136)","v":""}]
[null,null,null,null,null,null,null,null,{"$f":"IF(H137=\"\",\"\",IF(Tabel1[[#This Row],[Kursustype]]=valgliste!$D$3,1,2)*H137)","v":""},null,{"$f":"IF(J137=\"\",\"\",IF(Tabel1[[#This Row],[Kursustype]]=valgliste!$D$3,1,2)*J137)","v":""}]
[null,null,null,null,null,null,null,null,{"$f":"IF(H138=\"\",\"\",IF(Tabel1[[#This Row],[Kursustype]]=valgliste!$D$3,1,2)*H138)","v":""},null,{"$f":"IF(J138=\"\",\"\",IF(Tabel1[[#This Row],[Kursustype]]=valgliste!$D$3,1,2)*J138)","v":""}]
[null,null,null,null,null,null,null,null,{"$f":"IF(H139=\"\",\"\",IF(Tabel1[[#This Row],[Kursustype]]=valgliste!$D$3,1,2)*H139)","v":""},null,{"$f":"IF(J139=\"\",\"\",IF(Tabel1[[#This Row],[Kursustype]]=valgliste!$D$3,1,2)*J139)","v":""}]
[null,null,null,null,null,null,null,null,{"$f":"IF(H140=\"\",\"\",IF(Tabel1[[#This Row],[Kursustype]]=valgliste!$D$3,1,2)*H140)","v":""},null,{"$f":"IF(J140=\"\",\"\",IF(Tabel1[[#This Row],[Kursustype]]=valgliste!$D$3,1,2)*J140)","v":""}]
[null,null,null,null,null,null,null,null,{"$f":"IF(H141=\"\",\"\",IF(Tabel1[[#This Row],[Kursustype]]=valgliste!$D$3,1,2)*H141)","v":""},null,{"$f":"IF(J141=\"\",\"\",IF(Tabel1[[#This Row],[Kursustype]]=valgliste!$D$3,1,2)*J141)","v":""}]
[null,null,null,null,null,null,null,null,{"$f":"IF(H142=\"\",\"\",IF(Tabel1[[#This Row],[Kursustype]]=valgliste!$D$3,1,2)*H142)","v":""},null,{"$f":"IF(J142=\"\",\"\",IF(Tabel1[[#This Row],[Kursustype]]=valgliste!$D$3,1,2)*J142)","v":""}]
[null,null,null,null,null,null,null,null,{"$f":"IF(H143=\"\",\"\",IF(Tabel1[[#This Row],[Kursustype]]=valgliste!$D$3,1,2)*H143)","v":""},null,{"$f":"IF(J143=\"\",\"\",IF(Tabel1[[#This Row],[Kursustype]]=valgliste!$D$3,1,2)*J143)","v":""}]
[null,null,null,null,null,null,null,null,{"$f":"IF(H144=\"\",\"\",IF(Tabel1[[#This Row],[Kursustype]]=valgliste!$D$3,1,2)*H144)","v":""},null,{"$f":"IF(J144=\"\",\"\",IF(Tabel1[[#This Row],[Kursustype]]=valgliste!$D$3,1,2)*J144)","v":""}]
[null,null,null,null,null,null,null,null,{"$f":"IF(H145=\"\",\"\",IF(Tabel1[[#This Row],[Kursustype]]=valgliste!$D$3,1,2)*H145)","v":""},null,{"$f":"IF(J145=\"\",\"\",IF(Tabel1[[#This Row],[Kursustype]]=valgliste!$D$3,1,2)*J145)","v":""}]
[null,null,null,null,null,null,null,null,{"$f":"IF(H146=\"\",\"\",IF(Tabel1[[#This Row],[Kursustype]]=valgliste!$D$3,1,2)*H146)","v":""},null,{"$f":"IF(J146=\"\",\"\",IF(Tabel1[[#This Row],[Kursustype]]=valgliste!$D$3,1,2)*J146)","v":""}]
[null,null,null,null,null,null,null,null,{"$f":"IF(H147=\"\",\"\",IF(Tabel1[[#This Row],[Kursustype]]=valgliste!$D$3,1,2)*H147)","v":""},null,{"$f":"IF(J147=\"\",\"\",IF(Tabel1[[#This Row],[Kursustype]]=valgliste!$D$3,1,2)*J147)","v":""}]
[null,null,null,null,null,null,null,null,{"$f":"IF(H148=\"\",\"\",IF(Tabel1[[#This Row],[Kursustype]]=valgliste!$D$3,1,2)*H148)","v":""},null,{"$f":"IF(J148=\"\",\"\",IF(Tabel1[[#This Row],[Kursustype]]=valgliste!$D$3,1,2)*J148)","v":""}]
[null,null,null,null,null,null,null,null,{"$f":"IF(H149=\"\",\"\",IF(Tabel1[[#This Row],[Kursustype]]=valgliste!$D$3,1,2)*H149)","v":""},null,{"$f":"IF(J149=\"\",\"\",IF(Tabel1[[#This Row],[Kursustype]]=valgliste!$D$3,1,2)*J149)","v":""}]
[null,null,null,null,null,null,null,null,{"$f":"IF(H150=\"\",\"\",IF(Tabel1[[#This Row],[Kursustype]]=valgliste!$D$3,1,2)*H150)","v":""},null,{"$f":"IF(J150=\"\",\"\",IF(Tabel1[[#This Row],[Kursustype]]=valgliste!$D$3,1,2)*J150)","v":""}]
[null,null,null,null,null,null,null,null,{"$f":"IF(H151=\"\",\"\",IF(Tabel1[[#This Row],[Kursustype]]=valgliste!$D$3,1,2)*H151)","v":""},null,{"$f":"IF(J151=\"\",\"\",IF(Tabel1[[#This Row],[Kursustype]]=valgliste!$D$3,1,2)*J151)","v":""}]
[null,null,null,null,null,null,null,null,{"$f":"IF(H152=\"\",\"\",IF(Tabel1[[#This Row],[Kursustype]]=valgliste!$D$3,1,2)*H152)","v":""},null,{"$f":"IF(J152=\"\",\"\",IF(Tabel1[[#This Row],[Kursustype]]=valgliste!$D$3,1,2)*J152)","v":""}]
[null,null,null,null,null,null,null,null,{"$f":"IF(H153=\"\",\"\",IF(Tabel1[[#This Row],[Kursustype]]=valgliste!$D$3,1,2)*H153)","v":""},null,{"$f":"IF(J153=\"\",\"\",IF(Tabel1[[#This Row],[Kursustype]]=valgliste!$D$3,1,2)*J153)","v":""}]
[null,null,null,null,null,null,null,null,{"$f":"IF(H154=\"\",\"\",IF(Tabel1[[#This Row],[Kursustype]]=valgliste!$D$3,1,2)*H154)","v":""},null,{"$f":"IF(J154=\"\",\"\",IF(Tabel1[[#This Row],[Kursustype]]=valgliste!$D$3,1,2)*J154)","v":""}]
[null,null,null,null,null,null,null,null,{"$f":"IF(H155=\"\",\"\",IF(Tabel1[[#This Row],[Kursustype]]=valgliste!$D$3,1,2)*H155)","v":""},null,{"$f":"IF(J155=\"\",\"\",IF(Tabel1[[#This Row],[Kursustype]]=valgliste!$D$3,1,2)*J155)","v":""}]
[null,null,null,null,null,null,null,null,{"$f":"IF(H156=\"\",\"\",IF(Tabel1[[#This Row],[Kursustype]]=valgliste!$D$3,1,2)*H156)","v":""},null,{"$f":"IF(J156=\"\",\"\",IF(Tabel1[[#This Row],[Kursustype]]=valgliste!$D$3,1,2)*J156)","v":""}]
[null,null,null,null,null,null,null,null,{"$f":"IF(H157=\"\",\"\",IF(Tabel1[[#This Row],[Kursustype]]=valgliste!$D$3,1,2)*H157)","v":""},null,{"$f":"IF(J157=\"\",\"\",IF(Tabel1[[#This Row],[Kursustype]]=valgliste!$D$3,1,2)*J157)","v":""}]
[null,null,null,null,null,null,null,null,{"$f":"IF(H158=\"\",\"\",IF(Tabel1[[#This Row],[Kursustype]]=valgliste!$D$3,1,2)*H158)","v":""},null,{"$f":"IF(J158=\"\",\"\",IF(Tabel1[[#This Row],[Kursustype]]=valgliste!$D$3,1,2)*J158)","v":""}]
[null,null,null,null,null,null,null,null,{"$f":"IF(H159=\"\",\"\",IF(Tabel1[[#This Row],[Kursustype]]=valgliste!$D$3,1,2)*H159)","v":""},null,{"$f":"IF(J159=\"\",\"\",IF(Tabel1[[#This Row],[Kursustype]]=valgliste!$D$3,1,2)*J159)","v":""}]
[null,null,null,null,null,null,null,null,{"$f":"IF(H160=\"\",\"\",IF(Tabel1[[#This Row],[Kursustype]]=valgliste!$D$3,1,2)*H160)","v":""},null,{"$f":"IF(J160=\"\",\"\",IF(Tabel1[[#This Row],[Kursustype]]=valgliste!$D$3,1,2)*J160)","v":""}]
[null,null,null,null,null,null,null,null,{"$f":"IF(H161=\"\",\"\",IF(Tabel1[[#This Row],[Kursustype]]=valgliste!$D$3,1,2)*H161)","v":""},null,{"$f":"IF(J161=\"\",\"\",IF(Tabel1[[#This Row],[Kursustype]]=valgliste!$D$3,1,2)*J161)","v":""}]
[null,null,null,null,null,null,null,null,{"$f":"IF(H162=\"\",\"\",IF(Tabel1[[#This Row],[Kursustype]]=valgliste!$D$3,1,2)*H162)","v":""},null,{"$f":"IF(J162=\"\",\"\",IF(Tabel1[[#This Row],[Kursustype]]=valgliste!$D$3,1,2)*J162)","v":""}]
[null,null,null,null,null,null,null,null,{"$f":"IF(H163=\"\",\"\",IF(Tabel1[[#This Row],[Kursustype]]=valgliste!$D$3,1,2)*H163)","v":""},null,{"$f":"IF(J163=\"\",\"\",IF(Tabel1[[#This Row],[Kursustype]]=valgliste!$D$3,1,2)*J163)","v":""}]
[null,null,null,null,null,null,null,null,{"$f":"IF(H164=\"\",\"\",IF(Tabel1[[#This Row],[Kursustype]]=valgliste!$D$3,1,2)*H164)","v":""},null,{"$f":"IF(J164=\"\",\"\",IF(Tabel1[[#This Row],[Kursustype]]=valgliste!$D$3,1,2)*J164)","v":""}]
[null,null,null,null,null,null,null,null,{"$f":"IF(H165=\"\",\"\",IF(Tabel1[[#This Row],[Kursustype]]=valgliste!$D$3,1,2)*H165)","v":""},null,{"$f":"IF(J165=\"\",\"\",IF(Tabel1[[#This Row],[Kursustype]]=valgliste!$D$3,1,2)*J165)","v":""}]
[null,null,null,null,null,null,null,null,{"$f":"IF(H166=\"\",\"\",IF(Tabel1[[#This Row],[Kursustype]]=valgliste!$D$3,1,2)*H166)","v":""},null,{"$f":"IF(J166=\"\",\"\",IF(Tabel1[[#This Row],[Kursustype]]=valgliste!$D$3,1,2)*J166)","v":""}]
[null,null,null,null,null,null,null,null,{"$f":"IF(H167=\"\",\"\",IF(Tabel1[[#This Row],[Kursustype]]=valgliste!$D$3,1,2)*H167)","v":""},null,{"$f":"IF(J167=\"\",\"\",IF(Tabel1[[#This Row],[Kursustype]]=valgliste!$D$3,1,2)*J167)","v":""}]
[null,null,null,null,null,null,null,null,{"$f":"IF(H168=\"\",\"\",IF(Tabel1[[#This Row],[Kursustype]]=valgliste!$D$3,1,2)*H168)","v":""},null,{"$f":"IF(J168=\"\",\"\",IF(Tabel1[[#This Row],[Kursustype]]=valgliste!$D$3,1,2)*J168)","v":""}]
[null,null,null,null,null,null,null,null,{"$f":"IF(H169=\"\",\"\",IF(Tabel1[[#This Row],[Kursustype]]=valgliste!$D$3,1,2)*H169)","v":""},null,{"$f":"IF(J169=\"\",\"\",IF(Tabel1[[#This Row],[Kursustype]]=valgliste!$D$3,1,2)*J169)","v":""}]
[null,null,null,null,null,null,null,null,{"$f":"IF(H170=\"\",\"\",IF(Tabel1[[#This Row],[Kursustype]]=valgliste!$D$3,1,2)*H170)","v":""},null,{"$f":"IF(J170=\"\",\"\",IF(Tabel1[[#This Row],[Kursustype]]=valgliste!$D$3,1,2)*J170)","v":""}]
[null,null,null,null,null,null,null,null,{"$f":"IF(H171=\"\",\"\",IF(Tabel1[[#This Row],[Kursustype]]=valgliste!$D$3,1,2)*H171)","v":""},null,{"$f":"IF(J171=\"\",\"\",IF(Tabel1[[#This Row],[Kursustype]]=valgliste!$D$3,1,2)*J171)","v":""}]
[null,null,null,null,null,null,null,null,{"$f":"IF(H172=\"\",\"\",IF(Tabel1[[#This Row],[Kursustype]]=valgliste!$D$3,1,2)*H172)","v":""},null,{"$f":"IF(J172=\"\",\"\",IF(Tabel1[[#This Row],[Kursustype]]=valgliste!$D$3,1,2)*J172)","v":""}]
[null,null,null,null,null,null,null,null,{"$f":"IF(H173=\"\",\"\",IF(Tabel1[[#This Row],[Kursustype]]=valgliste!$D$3,1,2)*H173)","v":""},null,{"$f":"IF(J173=\"\",\"\",IF(Tabel1[[#This Row],[Kursustype]]=valgliste!$D$3,1,2)*J173)","v":""}]
[null,null,null,null,null,null,null,null,{"$f":"IF(H174=\"\",\"\",IF(Tabel1[[#This Row],[Kursustype]]=valgliste!$D$3,1,2)*H174)","v":""},null,{"$f":"IF(J174=\"\",\"\",IF(Tabel1[[#This Row],[Kursustype]]=valgliste!$D$3,1,2)*J174)","v":""}]
[null,null,null,null,null,null,null,null,{"$f":"IF(H175=\"\",\"\",IF(Tabel1[[#This Row],[Kursustype]]=valgliste!$D$3,1,2)*H175)","v":""},null,{"$f":"IF(J175=\"\",\"\",IF(Tabel1[[#This Row],[Kursustype]]=valgliste!$D$3,1,2)*J175)","v":""}]
[null,null,null,null,null,null,null,null,{"$f":"IF(H176=\"\",\"\",IF(Tabel1[[#This Row],[Kursustype]]=valgliste!$D$3,1,2)*H176)","v":""},null,{"$f":"IF(J176=\"\",\"\",IF(Tabel1[[#This Row],[Kursustype]]=valgliste!$D$3,1,2)*J176)","v":""}]
[null,null,null,null,null,null,null,null,{"$f":"IF(H177=\"\",\"\",IF(Tabel1[[#This Row],[Kursustype]]=valgliste!$D$3,1,2)*H177)","v":""},null,{"$f":"IF(J177=\"\",\"\",IF(Tabel1[[#This Row],[Kursustype]]=valgliste!$D$3,1,2)*J177)","v":""}]
[null,null,null,null,null,null,null,null,{"$f":"IF(H178=\"\",\"\",IF(Tabel1[[#This Row],[Kursustype]]=valgliste!$D$3,1,2)*H178)","v":""},null,{"$f":"IF(J178=\"\",\"\",IF(Tabel1[[#This Row],[Kursustype]]=valgliste!$D$3,1,2)*J178)","v":""}]
[null,null,null,null,null,null,null,null,{"$f":"IF(H179=\"\",\"\",IF(Tabel1[[#This Row],[Kursustype]]=valgliste!$D$3,1,2)*H179)","v":""},null,{"$f":"IF(J179=\"\",\"\",IF(Tabel1[[#This Row],[Kursustype]]=valgliste!$D$3,1,2)*J179)","v":""}]
[null,null,null,null,null,null,null,null,{"$f":"IF(H180=\"\",\"\",IF(Tabel1[[#This Row],[Kursustype]]=valgliste!$D$3,1,2)*H180)","v":""},null,{"$f":"IF(J180=\"\",\"\",IF(Tabel1[[#This Row],[Kursustype]]=valgliste!$D$3,1,2)*J180)","v":""}]
[null,null,null,null,null,null,null,null,{"$f":"IF(H181=\"\",\"\",IF(Tabel1[[#This Row],[Kursustype]]=valgliste!$D$3,1,2)*H181)","v":""},null,{"$f":"IF(J181=\"\",\"\",IF(Tabel1[[#This Row],[Kursustype]]=valgliste!$D$3,1,2)*J181)","v":""}]
[null,null,null,null,null,null,null,null,{"$f":"IF(H182=\"\",\"\",IF(Tabel1[[#This Row],[Kursustype]]=valgliste!$D$3,1,2)*H182)","v":""},null,{"$f":"IF(J182=\"\",\"\",IF(Tabel1[[#This Row],[Kursustype]]=valgliste!$D$3,1,2)*J182)","v":""}]
[null,null,null,null,null,null,null,null,{"$f":"IF(H183=\"\",\"\",IF(Tabel1[[#This Row],[Kursustype]]=valgliste!$D$3,1,2)*H183)","v":""},null,{"$f":"IF(J183=\"\",\"\",IF(Tabel1[[#This Row],[Kursustype]]=valgliste!$D$3,1,2)*J183)","v":""}]
[null,null,null,null,null,null,null,null,{"$f":"IF(H184=\"\",\"\",IF(Tabel1[[#This Row],[Kursustype]]=valgliste!$D$3,1,2)*H184)","v":""},null,{"$f":"IF(J184=\"\",\"\",IF(Tabel1[[#This Row],[Kursustype]]=valgliste!$D$3,1,2)*J184)","v":""}]
[null,null,null,null,null,null,null,null,{"$f":"IF(H185=\"\",\"\",IF(Tabel1[[#This Row],[Kursustype]]=valgliste!$D$3,1,2)*H185)","v":""},null,{"$f":"IF(J185=\"\",\"\",IF(Tabel1[[#This Row],[Kursustype]]=valgliste!$D$3,1,2)*J185)","v":""}]
[null,null,null,null,null,null,null,null,{"$f":"IF(H186=\"\",\"\",IF(Tabel1[[#This Row],[Kursustype]]=valgliste!$D$3,1,2)*H186)","v":""},null,{"$f":"IF(J186=\"\",\"\",IF(Tabel1[[#This Row],[Kursustype]]=valgliste!$D$3,1,2)*J186)","v":""}]
[null,null,null,null,null,null,null,null,{"$f":"IF(H187=\"\",\"\",IF(Tabel1[[#This Row],[Kursustype]]=valgliste!$D$3,1,2)*H187)","v":""},null,{"$f":"IF(J187=\"\",\"\",IF(Tabel1[[#This Row],[Kursustype]]=valgliste!$D$3,1,2)*J187)","v":""}]
[null,null,null,null,null,null,null,null,{"$f":"IF(H188=\"\",\"\",IF(Tabel1[[#This Row],[Kursustype]]=valgliste!$D$3,1,2)*H188)","v":""},null,{"$f":"IF(J188=\"\",\"\",IF(Tabel1[[#This Row],[Kursustype]]=valgliste!$D$3,1,2)*J188)","v":""}]
[null,null,null,null,null,null,null,null,{"$f":"IF(H189=\"\",\"\",IF(Tabel1[[#This Row],[Kursustype]]=valgliste!$D$3,1,2)*H189)","v":""},null,{"$f":"IF(J189=\"\",\"\",IF(Tabel1[[#This Row],[Kursustype]]=valgliste!$D$3,1,2)*J189)","v":""}]
[null,null,null,null,null,null,null,null,{"$f":"IF(H190=\"\",\"\",IF(Tabel1[[#This Row],[Kursustype]]=valgliste!$D$3,1,2)*H190)","v":""},null,{"$f":"IF(J190=\"\",\"\",IF(Tabel1[[#This Row],[Kursustype]]=valgliste!$D$3,1,2)*J190)","v":""}]
[null,null,null,null,null,null,null,null,{"$f":"IF(H191=\"\",\"\",IF(Tabel1[[#This Row],[Kursustype]]=valgliste!$D$3,1,2)*H191)","v":""},null,{"$f":"IF(J191=\"\",\"\",IF(Tabel1[[#This Row],[Kursustype]]=valgliste!$D$3,1,2)*J191)","v":""}]
[null,null,null,null,null,null,null,null,{"$f":"IF(H192=\"\",\"\",IF(Tabel1[[#This Row],[Kursustype]]=valgliste!$D$3,1,2)*H192)","v":""},null,{"$f":"IF(J192=\"\",\"\",IF(Tabel1[[#This Row],[Kursustype]]=valgliste!$D$3,1,2)*J192)","v":""}]
[null,null,null,null,null,null,null,null,{"$f":"IF(H193=\"\",\"\",IF(Tabel1[[#This Row],[Kursustype]]=valgliste!$D$3,1,2)*H193)","v":""},null,{"$f":"IF(J193=\"\",\"\",IF(Tabel1[[#This Row],[Kursustype]]=valgliste!$D$3,1,2)*J193)","v":""}]
[null,null,null,null,null,null,null,null,{"$f":"IF(H194=\"\",\"\",IF(Tabel1[[#This Row],[Kursustype]]=valgliste!$D$3,1,2)*H194)","v":""},null,{"$f":"IF(J194=\"\",\"\",IF(Tabel1[[#This Row],[Kursustype]]=valgliste!$D$3,1,2)*J194)","v":""}]
[null,null,null,null,null,null,null,null,{"$f":"IF(H195=\"\",\"\",IF(Tabel1[[#This Row],[Kursustype]]=valgliste!$D$3,1,2)*H195)","v":""},null,{"$f":"IF(J195=\"\",\"\",IF(Tabel1[[#This Row],[Kursustype]]=valgliste!$D$3,1,2)*J195)","v":""}]
[null,null,null,null,null,null,null,null,{"$f":"IF(H196=\"\",\"\",IF(Tabel1[[#This Row],[Kursustype]]=valgliste!$D$3,1,2)*H196)","v":""},null,{"$f":"IF(J196=\"\",\"\",IF(Tabel1[[#This Row],[Kursustype]]=valgliste!$D$3,1,2)*J196)","v":""}]
[null,null,null,null,null,null,null,null,{"$f":"IF(H197=\"\",\"\",IF(Tabel1[[#This Row],[Kursustype]]=valgliste!$D$3,1,2)*H197)","v":""},null,{"$f":"IF(J197=\"\",\"\",IF(Tabel1[[#This Row],[Kursustype]]=valgliste!$D$3,1,2)*J197)","v":""}]
[null,null,null,null,null,null,null,null,{"$f":"IF(H198=\"\",\"\",IF(Tabel1[[#This Row],[Kursustype]]=valgliste!$D$3,1,2)*H198)","v":""},null,{"$f":"IF(J198=\"\",\"\",IF(Tabel1[[#This Row],[Kursustype]]=valgliste!$D$3,1,2)*J198)","v":""}]
[null,null,null,null,null,null,null,null,{"$f":"IF(H199=\"\",\"\",IF(Tabel1[[#This Row],[Kursustype]]=valgliste!$D$3,1,2)*H199)","v":""},null,{"$f":"IF(J199=\"\",\"\",IF(Tabel1[[#This Row],[Kursustype]]=valgliste!$D$3,1,2)*J199)","v":""}]
[null,null,null,null,null,null,null,null,{"$f":"IF(H200=\"\",\"\",IF(Tabel1[[#This Row],[Kursustype]]=valgliste!$D$3,1,2)*H200)","v":""},null,{"$f":"IF(J200=\"\",\"\",IF(Tabel1[[#This Row],[Kursustype]]=valgliste!$D$3,1,2)*J200)","v":""}]
[null,null,null,null,null,null,null,null,{"$f":"IF(H201=\"\",\"\",IF(Tabel1[[#This Row],[Kursustype]]=valgliste!$D$3,1,2)*H201)","v":""},null,{"$f":"IF(J201=\"\",\"\",IF(Tabel1[[#This Row],[Kursustype]]=valgliste!$D$3,1,2)*J201)","v":""}]
[null,null,null,null,null,null,null,null,{"$f":"IF(H202=\"\",\"\",IF(Tabel1[[#This Row],[Kursustype]]=valgliste!$D$3,1,2)*H202)","v":""},null,{"$f":"IF(J202=\"\",\"\",IF(Tabel1[[#This Row],[Kursustype]]=valgliste!$D$3,1,2)*J202)","v":""}]
[null,null,null,null,null,null,null,null,{"$f":"IF(H203=\"\",\"\",IF(Tabel1[[#This Row],[Kursustype]]=valgliste!$D$3,1,2)*H203)","v":""},null,{"$f":"IF(J203=\"\",\"\",IF(Tabel1[[#This Row],[Kursustype]]=valgliste!$D$3,1,2)*J203)","v":""}]
[null,null,null,null,null,null,null,null,{"$f":"IF(H204=\"\",\"\",IF(Tabel1[[#This Row],[Kursustype]]=valgliste!$D$3,1,2)*H204)","v":""},null,{"$f":"IF(J204=\"\",\"\",IF(Tabel1[[#This Row],[Kursustype]]=valgliste!$D$3,1,2)*J204)","v":""}]
[null,null,null,null,null,null,null,null,{"$f":"IF(H205=\"\",\"\",IF(Tabel1[[#This Row],[Kursustype]]=valgliste!$D$3,1,2)*H205)","v":""},null,{"$f":"IF(J205=\"\",\"\",IF(Tabel1[[#This Row],[Kursustype]]=valgliste!$D$3,1,2)*J205)","v":""}]
[null,null,null,null,null,null,null,null,{"$f":"IF(H206=\"\",\"\",IF(Tabel1[[#This Row],[Kursustype]]=valgliste!$D$3,1,2)*H206)","v":""},null,{"$f":"IF(J206=\"\",\"\",IF(Tabel1[[#This Row],[Kursustype]]=valgliste!$D$3,1,2)*J206)","v":""}]
[null,null,null,null,null,null,null,null,{"$f":"IF(H207=\"\",\"\",IF(Tabel1[[#This Row],[Kursustype]]=valgliste!$D$3,1,2)*H207)","v":""},null,{"$f":"IF(J207=\"\",\"\",IF(Tabel1[[#This Row],[Kursustype]]=valgliste!$D$3,1,2)*J207)","v":""}]
[null,null,null,null,null,null,null,null,{"$f":"IF(H208=\"\",\"\",IF(Tabel1[[#This Row],[Kursustype]]=valgliste!$D$3,1,2)*H208)","v":""},null,{"$f":"IF(J208=\"\",\"\",IF(Tabel1[[#This Row],[Kursustype]]=valgliste!$D$3,1,2)*J208)","v":""}]
[null,null,null,null,null,null,null,null,{"$f":"IF(H209=\"\",\"\",IF(Tabel1[[#This Row],[Kursustype]]=valgliste!$D$3,1,2)*H209)","v":""},null,{"$f":"IF(J209=\"\",\"\",IF(Tabel1[[#This Row],[Kursustype]]=valgliste!$D$3,1,2)*J209)","v":""}]
[null,null,null,null,null,null,null,null,{"$f":"IF(H210=\"\",\"\",IF(Tabel1[[#This Row],[Kursustype]]=valgliste!$D$3,1,2)*H210)","v":""},null,{"$f":"IF(J210=\"\",\"\",IF(Tabel1[[#This Row],[Kursustype]]=valgliste!$D$3,1,2)*J210)","v":""}]
[null,null,null,null,null,null,null,null,{"$f":"IF(H211=\"\",\"\",IF(Tabel1[[#This Row],[Kursustype]]=valgliste!$D$3,1,2)*H211)","v":""},null,{"$f":"IF(J211=\"\",\"\",IF(Tabel1[[#This Row],[Kursustype]]=valgliste!$D$3,1,2)*J211)","v":""}]
[null,null,null,null,null,null,null,null,{"$f":"IF(H212=\"\",\"\",IF(Tabel1[[#This Row],[Kursustype]]=valgliste!$D$3,1,2)*H212)","v":""},null,{"$f":"IF(J212=\"\",\"\",IF(Tabel1[[#This Row],[Kursustype]]=valgliste!$D$3,1,2)*J212)","v":""}]
[null,null,null,null,null,null,null,null,{"$f":"IF(H213=\"\",\"\",IF(Tabel1[[#This Row],[Kursustype]]=valgliste!$D$3,1,2)*H213)","v":""},null,{"$f":"IF(J213=\"\",\"\",IF(Tabel1[[#This Row],[Kursustype]]=valgliste!$D$3,1,2)*J213)","v":""}]
[null,null,null,null,null,null,null,null,{"$f":"IF(H214=\"\",\"\",IF(Tabel1[[#This Row],[Kursustype]]=valgliste!$D$3,1,2)*H214)","v":""},null,{"$f":"IF(J214=\"\",\"\",IF(Tabel1[[#This Row],[Kursustype]]=valgliste!$D$3,1,2)*J214)","v":""}]
[null,null,null,null,null,null,null,null,{"$f":"IF(H215=\"\",\"\",IF(Tabel1[[#This Row],[Kursustype]]=valgliste!$D$3,1,2)*H215)","v":""},null,{"$f":"IF(J215=\"\",\"\",IF(Tabel1[[#This Row],[Kursustype]]=valgliste!$D$3,1,2)*J215)","v":""}]
[null,null,null,null,null,null,null,null,{"$f":"IF(H216=\"\",\"\",IF(Tabel1[[#This Row],[Kursustype]]=valgliste!$D$3,1,2)*H216)","v":""},null,{"$f":"IF(J216=\"\",\"\",IF(Tabel1[[#This Row],[Kursustype]]=valgliste!$D$3,1,2)*J216)","v":""}]
[null,null,null,null,null,null,null,null,{"$f":"IF(H217=\"\",\"\",IF(Tabel1[[#This Row],[Kursustype]]=valgliste!$D$3,1,2)*H217)","v":""},null,{"$f":"IF(J217=\"\",\"\",IF(Tabel1[[#This Row],[Kursustype]]=valgliste!$D$3,1,2)*J217)","v":""}]
[null,null,null,null,null,null,null,null,{"$f":"IF(H218=\"\",\"\",IF(Tabel1[[#This Row],[Kursustype]]=valgliste!$D$3,1,2)*H218)","v":""},null,{"$f":"IF(J218=\"\",\"\",IF(Tabel1[[#This Row],[Kursustype]]=valgliste!$D$3,1,2)*J218)","v":""}]
[null,null,null,null,null,null,null,null,{"$f":"IF(H219=\"\",\"\",IF(Tabel1[[#This Row],[Kursustype]]=valgliste!$D$3,1,2)*H219)","v":""},null,{"$f":"IF(J219=\"\",\"\",IF(Tabel1[[#This Row],[Kursustype]]=valgliste!$D$3,1,2)*J219)","v":""}]
[null,null,null,null,null,null,null,null,{"$f":"IF(H220=\"\",\"\",IF(Tabel1[[#This Row],[Kursustype]]=valgliste!$D$3,1,2)*H220)","v":""},null,{"$f":"IF(J220=\"\",\"\",IF(Tabel1[[#This Row],[Kursustype]]=valgliste!$D$3,1,2)*J220)","v":""}]
[null,null,null,null,null,null,null,null,{"$f":"IF(H221=\"\",\"\",IF(Tabel1[[#This Row],[Kursustype]]=valgliste!$D$3,1,2)*H221)","v":""},null,{"$f":"IF(J221=\"\",\"\",IF(Tabel1[[#This Row],[Kursustype]]=valgliste!$D$3,1,2)*J221)","v":""}]
[null,null,null,null,null,null,null,null,{"$f":"IF(H222=\"\",\"\",IF(Tabel1[[#This Row],[Kursustype]]=valgliste!$D$3,1,2)*H222)","v":""},null,{"$f":"IF(J222=\"\",\"\",IF(Tabel1[[#This Row],[Kursustype]]=valgliste!$D$3,1,2)*J222)","v":""}]
[null,null,null,null,null,null,null,null,{"$f":"IF(H223=\"\",\"\",IF(Tabel1[[#This Row],[Kursustype]]=valgliste!$D$3,1,2)*H223)","v":""},null,{"$f":"IF(J223=\"\",\"\",IF(Tabel1[[#This Row],[Kursustype]]=valgliste!$D$3,1,2)*J223)","v":""}]
[null,null,null,null,null,null,null,null,{"$f":"IF(H224=\"\",\"\",IF(Tabel1[[#This Row],[Kursustype]]=valgliste!$D$3,1,2)*H224)","v":""},null,{"$f":"IF(J224=\"\",\"\",IF(Tabel1[[#This Row],[Kursustype]]=valgliste!$D$3,1,2)*J224)","v":""}]
[null,null,null,null,null,null,null,null,{"$f":"IF(H225=\"\",\"\",IF(Tabel1[[#This Row],[Kursustype]]=valgliste!$D$3,1,2)*H225)","v":""},null,{"$f":"IF(J225=\"\",\"\",IF(Tabel1[[#This Row],[Kursustype]]=valgliste!$D$3,1,2)*J225)","v":""}]
[null,null,null,null,null,null,null,null,{"$f":"IF(H226=\"\",\"\",IF(Tabel1[[#This Row],[Kursustype]]=valgliste!$D$3,1,2)*H226)","v":""},null,{"$f":"IF(J226=\"\",\"\",IF(Tabel1[[#This Row],[Kursustype]]=valgliste!$D$3,1,2)*J226)","v":""}]
[null,null,null,null,null,null,null,null,{"$f":"IF(H227=\"\",\"\",IF(Tabel1[[#This Row],[Kursustype]]=valgliste!$D$3,1,2)*H227)","v":""},null,{"$f":"IF(J227=\"\",\"\",IF(Tabel1[[#This Row],[Kursustype]]=valgliste!$D$3,1,2)*J227)","v":""}]
[null,null,null,null,null,null,null,null,{"$f":"IF(H228=\"\",\"\",IF(Tabel1[[#This Row],[Kursustype]]=valgliste!$D$3,1,2)*H228)","v":""},null,{"$f":"IF(J228=\"\",\"\",IF(Tabel1[[#This Row],[Kursustype]]=valgliste!$D$3,1,2)*J228)","v":""}]
[null,null,null,null,null,null,null,null,{"$f":"IF(H229=\"\",\"\",IF(Tabel1[[#This Row],[Kursustype]]=valgliste!$D$3,1,2)*H229)","v":""},null,{"$f":"IF(J229=\"\",\"\",IF(Tabel1[[#This Row],[Kursustype]]=valgliste!$D$3,1,2)*J229)","v":""}]
[null,null,null,null,null,null,null,null,{"$f":"IF(H230=\"\",\"\",IF(Tabel1[[#This Row],[Kursustype]]=valgliste!$D$3,1,2)*H230)","v":""},null,{"$f":"IF(J230=\"\",\"\",IF(Tabel1[[#This Row],[Kursustype]]=valgliste!$D$3,1,2)*J230)","v":""}]
[null,null,null,null,null,null,null,null,{"$f":"IF(H231=\"\",\"\",IF(Tabel1[[#This Row],[Kursustype]]=valgliste!$D$3,1,2)*H231)","v":""},null,{"$f":"IF(J231=\"\",\"\",IF(Tabel1[[#This Row],[Kursustype]]=valgliste!$D$3,1,2)*J231)","v":""}]
[null,null,null,null,null,null,null,null,{"$f":"IF(H232=\"\",\"\",IF(Tabel1[[#This Row],[Kursustype]]=valgliste!$D$3,1,2)*H232)","v":""},null,{"$f":"IF(J232=\"\",\"\",IF(Tabel1[[#This Row],[Kursustype]]=valgliste!$D$3,1,2)*J232)","v":""}]
[null,null,null,null,null,null,null,null,{"$f":"IF(H233=\"\",\"\",IF(Tabel1[[#This Row],[Kursustype]]=valgliste!$D$3,1,2)*H233)","v":""},null,{"$f":"IF(J233=\"\",\"\",IF(Tabel1[[#This Row],[Kursustype]]=valgliste!$D$3,1,2)*J233)","v":""}]
[null,null,null,null,null,null,null,null,{"$f":"IF(H234=\"\",\"\",IF(Tabel1[[#This Row],[Kursustype]]=valgliste!$D$3,1,2)*H234)","v":""},null,{"$f":"IF(J234=\"\",\"\",IF(Tabel1[[#This Row],[Kursustype]]=valgliste!$D$3,1,2)*J234)","v":""}]
[null,null,null,null,null,null,null,null,{"$f":"IF(H235=\"\",\"\",IF(Tabel1[[#This Row],[Kursustype]]=valgliste!$D$3,1,2)*H235)","v":""},null,{"$f":"IF(J235=\"\",\"\",IF(Tabel1[[#This Row],[Kursustype]]=valgliste!$D$3,1,2)*J235)","v":""}]
[null,null,null,null,null,null,null,null,{"$f":"IF(H236=\"\",\"\",IF(Tabel1[[#This Row],[Kursustype]]=valgliste!$D$3,1,2)*H236)","v":""},null,{"$f":"IF(J236=\"\",\"\",IF(Tabel1[[#This Row],[Kursustype]]=valgliste!$D$3,1,2)*J236)","v":""}]
[null,null,null,null,null,null,null,null,{"$f":"IF(H237=\"\",\"\",IF(Tabel1[[#This Row],[Kursustype]]=valgliste!$D$3,1,2)*H237)","v":""},null,{"$f":"IF(J237=\"\",\"\",IF(Tabel1[[#This Row],[Kursustype]]=valgliste!$D$3,1,2)*J237)","v":""}]
[null,null,null,null,null,null,null,null,{"$f":"IF(H238=\"\",\"\",IF(Tabel1[[#This Row],[Kursustype]]=valgliste!$D$3,1,2)*H238)","v":""},null,{"$f":"IF(J238=\"\",\"\",IF(Tabel1[[#This Row],[Kursustype]]=valgliste!$D$3,1,2)*J238)","v":""}]
[null,null,null,null,null,null,null,null,{"$f":"IF(H239=\"\",\"\",IF(Tabel1[[#This Row],[Kursustype]]=valgliste!$D$3,1,2)*H239)","v":""},null,{"$f":"IF(J239=\"\",\"\",IF(Tabel1[[#This Row],[Kursustype]]=valgliste!$D$3,1,2)*J239)","v":""}]
[null,null,null,null,null,null,null,null,{"$f":"IF(H240=\"\",\"\",IF(Tabel1[[#This Row],[Kursustype]]=valgliste!$D$3,1,2)*H240)","v":""},null,{"$f":"IF(J240=\"\",\"\",IF(Tabel1[[#This Row],[Kursustype]]=valgliste!$D$3,1,2)*J240)","v":""}]
[null,null,null,null,null,null,null,null,{"$f":"IF(H241=\"\",\"\",IF(Tabel1[[#This Row],[Kursustype]]=valgliste!$D$3,1,2)*H241)","v":""},null,{"$f":"IF(J241=\"\",\"\",IF(Tabel1[[#This Row],[Kursustype]]=valgliste!$D$3,1,2)*J241)","v":""}]
[null,null,null,null,null,null,null,null,{"$f":"IF(H242=\"\",\"\",IF(Tabel1[[#This Row],[Kursustype]]=valgliste!$D$3,1,2)*H242)","v":""},null,{"$f":"IF(J242=\"\",\"\",IF(Tabel1[[#This Row],[Kursustype]]=valgliste!$D$3,1,2)*J242)","v":""}]
[null,null,null,null,null,null,null,null,{"$f":"IF(H243=\"\",\"\",IF(Tabel1[[#This Row],[Kursustype]]=valgliste!$D$3,1,2)*H243)","v":""},null,{"$f":"IF(J243=\"\",\"\",IF(Tabel1[[#This Row],[Kursustype]]=valgliste!$D$3,1,2)*J243)","v":""}]
[null,null,null,null,null,null,null,null,{"$f":"IF(H244=\"\",\"\",IF(Tabel1[[#This Row],[Kursustype]]=valgliste!$D$3,1,2)*H244)","v":""},null,{"$f":"IF(J244=\"\",\"\",IF(Tabel1[[#This Row],[Kursustype]]=valgliste!$D$3,1,2)*J244)","v":""}]
[null,null,null,null,null,null,null,null,{"$f":"IF(H245=\"\",\"\",IF(Tabel1[[#This Row],[Kursustype]]=valgliste!$D$3,1,2)*H245)","v":""},null,{"$f":"IF(J245=\"\",\"\",IF(Tabel1[[#This Row],[Kursustype]]=valgliste!$D$3,1,2)*J245)","v":""}]
[null,null,null,null,null,null,null,null,{"$f":"IF(H246=\"\",\"\",IF(Tabel1[[#This Row],[Kursustype]]=valgliste!$D$3,1,2)*H246)","v":""},null,{"$f":"IF(J246=\"\",\"\",IF(Tabel1[[#This Row],[Kursustype]]=valgliste!$D$3,1,2)*J246)","v":""}]
[null,null,null,null,null,null,null,null,{"$f":"IF(H247=\"\",\"\",IF(Tabel1[[#This Row],[Kursustype]]=valgliste!$D$3,1,2)*H247)","v":""},null,{"$f":"IF(J247=\"\",\"\",IF(Tabel1[[#This Row],[Kursustype]]=valgliste!$D$3,1,2)*J247)","v":""}]
[null,null,null,null,null,null,null,null,{"$f":"IF(H248=\"\",\"\",IF(Tabel1[[#This Row],[Kursustype]]=valgliste!$D$3,1,2)*H248)","v":""},null,{"$f":"IF(J248=\"\",\"\",IF(Tabel1[[#This Row],[Kursustype]]=valgliste!$D$3,1,2)*J248)","v":""}]
[null,null,null,null,null,null,null,null,{"$f":"IF(H249=\"\",\"\",IF(Tabel1[[#This Row],[Kursustype]]=valgliste!$D$3,1,2)*H249)","v":""},null,{"$f":"IF(J249=\"\",\"\",IF(Tabel1[[#This Row],[Kursustype]]=valgliste!$D$3,1,2)*J249)","v":""}]
[null,null,null,null,null,null,null,null,{"$f":"IF(H250=\"\",\"\",IF(Tabel1[[#This Row],[Kursustype]]=valgliste!$D$3,1,2)*H250)","v":""},null,{"$f":"IF(J250=\"\",\"\",IF(Tabel1[[#This Row],[Kursustype]]=valgliste!$D$3,1,2)*J250)","v":""}]
[null,null,null,null,null,null,null,null,{"$f":"IF(H251=\"\",\"\",IF(Tabel1[[#This Row],[Kursustype]]=valgliste!$D$3,1,2)*H251)","v":""},null,{"$f":"IF(J251=\"\",\"\",IF(Tabel1[[#This Row],[Kursustype]]=valgliste!$D$3,1,2)*J251)","v":""}]
[null,null,null,null,null,null,null,null,{"$f":"IF(H252=\"\",\"\",IF(Tabel1[[#This Row],[Kursustype]]=valgliste!$D$3,1,2)*H252)","v":""},null,{"$f":"IF(J252=\"\",\"\",IF(Tabel1[[#This Row],[Kursustype]]=valgliste!$D$3,1,2)*J252)","v":""}]
[null,null,null,null,null,null,null,null,{"$f":"IF(H253=\"\",\"\",IF(Tabel1[[#This Row],[Kursustype]]=valgliste!$D$3,1,2)*H253)","v":""},null,{"$f":"IF(J253=\"\",\"\",IF(Tabel1[[#This Row],[Kursustype]]=valgliste!$D$3,1,2)*J253)","v":""}]
[null,null,null,null,null,null,null,null,{"$f":"IF(H254=\"\",\"\",IF(Tabel1[[#This Row],[Kursustype]]=valgliste!$D$3,1,2)*H254)","v":""},null,{"$f":"IF(J254=\"\",\"\",IF(Tabel1[[#This Row],[Kursustype]]=valgliste!$D$3,1,2)*J254)","v":""}]
[null,null,null,null,null,null,null,null,{"$f":"IF(H255=\"\",\"\",IF(Tabel1[[#This Row],[Kursustype]]=valgliste!$D$3,1,2)*H255)","v":""},null,{"$f":"IF(J255=\"\",\"\",IF(Tabel1[[#This Row],[Kursustype]]=valgliste!$D$3,1,2)*J255)","v":""}]
[null,null,null,null,null,null,null,null,{"$f":"IF(H256=\"\",\"\",IF(Tabel1[[#This Row],[Kursustype]]=valgliste!$D$3,1,2)*H256)","v":""},null,{"$f":"IF(J256=\"\",\"\",IF(Tabel1[[#This Row],[Kursustype]]=valgliste!$D$3,1,2)*J256)","v":""}]
[null,null,null,null,null,null,null,null,{"$f":"IF(H257=\"\",\"\",IF(Tabel1[[#This Row],[Kursustype]]=valgliste!$D$3,1,2)*H257)","v":""},null,{"$f":"IF(J257=\"\",\"\",IF(Tabel1[[#This Row],[Kursustype]]=valgliste!$D$3,1,2)*J257)","v":""}]
[null,null,null,null,null,null,null,null,{"$f":"IF(H258=\"\",\"\",IF(Tabel1[[#This Row],[Kursustype]]=valgliste!$D$3,1,2)*H258)","v":""},null,{"$f":"IF(J258=\"\",\"\",IF(Tabel1[[#This Row],[Kursustype]]=valgliste!$D$3,1,2)*J258)","v":""}]
[null,null,null,null,null,null,null,null,{"$f":"IF(H259=\"\",\"\",IF(Tabel1[[#This Row],[Kursustype]]=valgliste!$D$3,1,2)*H259)","v":""},null,{"$f":"IF(J259=\"\",\"\",IF(Tabel1[[#This Row],[Kursustype]]=valgliste!$D$3,1,2)*J259)","v":""}]
[null,null,null,null,null,null,null,null,{"$f":"IF(H260=\"\",\"\",IF(Tabel1[[#This Row],[Kursustype]]=valgliste!$D$3,1,2)*H260)","v":""},null,{"$f":"IF(J260=\"\",\"\",IF(Tabel1[[#This Row],[Kursustype]]=valgliste!$D$3,1,2)*J260)","v":""}]
[null,null,null,null,null,null,null,null,{"$f":"IF(H261=\"\",\"\",IF(Tabel1[[#This Row],[Kursustype]]=valgliste!$D$3,1,2)*H261)","v":""},null,{"$f":"IF(J261=\"\",\"\",IF(Tabel1[[#This Row],[Kursustype]]=valgliste!$D$3,1,2)*J261)","v":""}]
[null,null,null,null,null,null,null,null,{"$f":"IF(H262=\"\",\"\",IF(Tabel1[[#This Row],[Kursustype]]=valgliste!$D$3,1,2)*H262)","v":""},null,{"$f":"IF(J262=\"\",\"\",IF(Tabel1[[#This Row],[Kursustype]]=valgliste!$D$3,1,2)*J262)","v":""}]
[null,null,null,null,null,null,null,null,{"$f":"IF(H263=\"\",\"\",IF(Tabel1[[#This Row],[Kursustype]]=valgliste!$D$3,1,2)*H263)","v":""},null,{"$f":"IF(J263=\"\",\"\",IF(Tabel1[[#This Row],[Kursustype]]=valgliste!$D$3,1,2)*J263)","v":""}]
[null,null,null,null,null,null,null,null,{"$f":"IF(H264=\"\",\"\",IF(Tabel1[[#This Row],[Kursustype]]=valgliste!$D$3,1,2)*H264)","v":""},null,{"$f":"IF(J264=\"\",\"\",IF(Tabel1[[#This Row],[Kursustype]]=valgliste!$D$3,1,2)*J264)","v":""}]
[null,null,null,null,null,null,null,null,{"$f":"IF(H265=\"\",\"\",IF(Tabel1[[#This Row],[Kursustype]]=valgliste!$D$3,1,2)*H265)","v":""},null,{"$f":"IF(J265=\"\",\"\",IF(Tabel1[[#This Row],[Kursustype]]=valgliste!$D$3,1,2)*J265)","v":""}]
[null,null,null,null,null,null,null,null,{"$f":"IF(H266=\"\",\"\",IF(Tabel1[[#This Row],[Kursustype]]=valgliste!$D$3,1,2)*H266)","v":""},null,{"$f":"IF(J266=\"\",\"\",IF(Tabel1[[#This Row],[Kursustype]]=valgliste!$D$3,1,2)*J266)","v":""}]
[null,null,null,null,null,null,null,null,{"$f":"IF(H267=\"\",\"\",IF(Tabel1[[#This Row],[Kursustype]]=valgliste!$D$3,1,2)*H267)","v":""},null,{"$f":"IF(J267=\"\",\"\",IF(Tabel1[[#This Row],[Kursustype]]=valgliste!$D$3,1,2)*J267)","v":""}]
[null,null,null,null,null,null,null,null,{"$f":"IF(H268=\"\",\"\",IF(Tabel1[[#This Row],[Kursustype]]=valgliste!$D$3,1,2)*H268)","v":""},null,{"$f":"IF(J268=\"\",\"\",IF(Tabel1[[#This Row],[Kursustype]]=valgliste!$D$3,1,2)*J268)","v":""}]
[null,null,null,null,null,null,null,null,{"$f":"IF(H269=\"\",\"\",IF(Tabel1[[#This Row],[Kursustype]]=valgliste!$D$3,1,2)*H269)","v":""},null,{"$f":"IF(J269=\"\",\"\",IF(Tabel1[[#This Row],[Kursustype]]=valgliste!$D$3,1,2)*J269)","v":""}]
[null,null,null,null,null,null,null,null,{"$f":"IF(H270=\"\",\"\",IF(Tabel1[[#This Row],[Kursustype]]=valgliste!$D$3,1,2)*H270)","v":""},null,{"$f":"IF(J270=\"\",\"\",IF(Tabel1[[#This Row],[Kursustype]]=valgliste!$D$3,1,2)*J270)","v":""}]
[null,null,null,null,null,null,null,null,{"$f":"IF(H271=\"\",\"\",IF(Tabel1[[#This Row],[Kursustype]]=valgliste!$D$3,1,2)*H271)","v":""},null,{"$f":"IF(J271=\"\",\"\",IF(Tabel1[[#This Row],[Kursustype]]=valgliste!$D$3,1,2)*J271)","v":""}]
[null,null,null,null,null,null,null,null,{"$f":"IF(H272=\"\",\"\",IF(Tabel1[[#This Row],[Kursustype]]=valgliste!$D$3,1,2)*H272)","v":""},null,{"$f":"IF(J272=\"\",\"\",IF(Tabel1[[#This Row],[Kursustype]]=valgliste!$D$3,1,2)*J272)","v":""}]
[null,null,null,null,null,null,null,null,{"$f":"IF(H273=\"\",\"\",IF(Tabel1[[#This Row],[Kursustype]]=valgliste!$D$3,1,2)*H273)","v":""},null,{"$f":"IF(J273=\"\",\"\",IF(Tabel1[[#This Row],[Kursustype]]=valgliste!$D$3,1,2)*J273)","v":""}]
[null,null,null,null,null,null,null,null,{"$f":"IF(H274=\"\",\"\",IF(Tabel1[[#This Row],[Kursustype]]=valgliste!$D$3,1,2)*H274)","v":""},null,{"$f":"IF(J274=\"\",\"\",IF(Tabel1[[#This Row],[Kursustype]]=valgliste!$D$3,1,2)*J274)","v":""}]
[null,null,null,null,null,null,null,null,{"$f":"IF(H275=\"\",\"\",IF(Tabel1[[#This Row],[Kursustype]]=valgliste!$D$3,1,2)*H275)","v":""},null,{"$f":"IF(J275=\"\",\"\",IF(Tabel1[[#This Row],[Kursustype]]=valgliste!$D$3,1,2)*J275)","v":""}]
[null,null,null,null,null,null,null,null,{"$f":"IF(H276=\"\",\"\",IF(Tabel1[[#This Row],[Kursustype]]=valgliste!$D$3,1,2)*H276)","v":""},null,{"$f":"IF(J276=\"\",\"\",IF(Tabel1[[#This Row],[Kursustype]]=valgliste!$D$3,1,2)*J276)","v":""}]
[null,null,null,null,null,null,null,null,{"$f":"IF(H277=\"\",\"\",IF(Tabel1[[#This Row],[Kursustype]]=valgliste!$D$3,1,2)*H277)","v":""},null,{"$f":"IF(J277=\"\",\"\",IF(Tabel1[[#This Row],[Kursustype]]=valgliste!$D$3,1,2)*J277)","v":""}]
[null,null,null,null,null,null,null,null,{"$f":"IF(H278=\"\",\"\",IF(Tabel1[[#This Row],[Kursustype]]=valgliste!$D$3,1,2)*H278)","v":""},null,{"$f":"IF(J278=\"\",\"\",IF(Tabel1[[#This Row],[Kursustype]]=valgliste!$D$3,1,2)*J278)","v":""}]
[null,null,null,null,null,null,null,null,{"$f":"IF(H279=\"\",\"\",IF(Tabel1[[#This Row],[Kursustype]]=valgliste!$D$3,1,2)*H279)","v":""},null,{"$f":"IF(J279=\"\",\"\",IF(Tabel1[[#This Row],[Kursustype]]=valgliste!$D$3,1,2)*J279)","v":""}]
[null,null,null,null,null,null,null,null,{"$f":"IF(H280=\"\",\"\",IF(Tabel1[[#This Row],[Kursustype]]=valgliste!$D$3,1,2)*H280)","v":""},null,{"$f":"IF(J280=\"\",\"\",IF(Tabel1[[#This Row],[Kursustype]]=valgliste!$D$3,1,2)*J280)","v":""}]
[null,null,null,null,null,null,null,null,{"$f":"IF(H281=\"\",\"\",IF(Tabel1[[#This Row],[Kursustype]]=valgliste!$D$3,1,2)*H281)","v":""},null,{"$f":"IF(J281=\"\",\"\",IF(Tabel1[[#This Row],[Kursustype]]=valgliste!$D$3,1,2)*J281)","v":""}]
[null,null,null,null,null,null,null,null,{"$f":"IF(H282=\"\",\"\",IF(Tabel1[[#This Row],[Kursustype]]=valgliste!$D$3,1,2)*H282)","v":""},null,{"$f":"IF(J282=\"\",\"\",IF(Tabel1[[#This Row],[Kursustype]]=valgliste!$D$3,1,2)*J282)","v":""}]
[null,null,null,null,null,null,null,null,{"$f":"IF(H283=\"\",\"\",IF(Tabel1[[#This Row],[Kursustype]]=valgliste!$D$3,1,2)*H283)","v":""},null,{"$f":"IF(J283=\"\",\"\",IF(Tabel1[[#This Row],[Kursustype]]=valgliste!$D$3,1,2)*J283)","v":""}]
[null,null,null,null,null,null,null,null,{"$f":"IF(H284=\"\",\"\",IF(Tabel1[[#This Row],[Kursustype]]=valgliste!$D$3,1,2)*H284)","v":""},null,{"$f":"IF(J284=\"\",\"\",IF(Tabel1[[#This Row],[Kursustype]]=valgliste!$D$3,1,2)*J284)","v":""}]
[null,null,null,null,null,null,null,null,{"$f":"IF(H285=\"\",\"\",IF(Tabel1[[#This Row],[Kursustype]]=valgliste!$D$3,1,2)*H285)","v":""},null,{"$f":"IF(J285=\"\",\"\",IF(Tabel1[[#This Row],[Kursustype]]=valgliste!$D$3,1,2)*J285)","v":""}]
[null,null,null,null,null,null,null,null,{"$f":"IF(H286=\"\",\"\",IF(Tabel1[[#This Row],[Kursustype]]=valgliste!$D$3,1,2)*H286)","v":""},null,{"$f":"IF(J286=\"\",\"\",IF(Tabel1[[#This Row],[Kursustype]]=valgliste!$D$3,1,2)*J286)","v":""}]
[null,null,null,null,null,null,null,null,{"$f":"IF(H287=\"\",\"\",IF(Tabel1[[#This Row],[Kursustype]]=valgliste!$D$3,1,2)*H287)","v":""},null,{"$f":"IF(J287=\"\",\"\",IF(Tabel1[[#This Row],[Kursustype]]=valgliste!$D$3,1,2)*J287)","v":""}]
[null,null,null,null,null,null,null,null,{"$f":"IF(H288=\"\",\"\",IF(Tabel1[[#This Row],[Kursustype]]=valgliste!$D$3,1,2)*H288)","v":""},null,{"$f":"IF(J288=\"\",\"\",IF(Tabel1[[#This Row],[Kursustype]]=valgliste!$D$3,1,2)*J288)","v":""}]
[null,null,null,null,null,null,null,null,{"$f":"IF(H289=\"\",\"\",IF(Tabel1[[#This Row],[Kursustype]]=valgliste!$D$3,1,2)*H289)","v":""},null,{"$f":"IF(J289=\"\",\"\",IF(Tabel1[[#This Row],[Kursustype]]=valgliste!$D$3,1,2)*J289)","v":""}]
[null,null,null,null,null,null,null,null,{"$f":"IF(H290=\"\",\"\",IF(Tabel1[[#This Row],[Kursustype]]=valgliste!$D$3,1,2)*H290)","v":""},null,{"$f":"IF(J290=\"\",\"\",IF(Tabel1[[#This Row],[Kursustype]]=valgliste!$D$3,1,2)*J290)","v":""}]
[null,null,null,null,null,null,null,null,{"$f":"IF(H291=\"\",\"\",IF(Tabel1[[#This Row],[Kursustype]]=valgliste!$D$3,1,2)*H291)","v":""},null,{"$f":"IF(J291=\"\",\"\",IF(Tabel1[[#This Row],[Kursustype]]=valgliste!$D$3,1,2)*J291)","v":""}]
[null,null,null,null,null,null,null,null,{"$f":"IF(H292=\"\",\"\",IF(Tabel1[[#This Row],[Kursustype]]=valgliste!$D$3,1,2)*H292)","v":""},null,{"$f":"IF(J292=\"\",\"\",IF(Tabel1[[#This Row],[Kursustype]]=valgliste!$D$3,1,2)*J292)","v":""}]
[null,null,null,null,null,null,null,null,{"$f":"IF(H293=\"\",\"\",IF(Tabel1[[#This Row],[Kursustype]]=valgliste!$D$3,1,2)*H293)","v":""},null,{"$f":"IF(J293=\"\",\"\",IF(Tabel1[[#This Row],[Kursustype]]=valgliste!$D$3,1,2)*J293)","v":""}]
[null,null,null,null,null,null,null,null,{"$f":"IF(H294=\"\",\"\",IF(Tabel1[[#This Row],[Kursustype]]=valgliste!$D$3,1,2)*H294)","v":""},null,{"$f":"IF(J294=\"\",\"\",IF(Tabel1[[#This Row],[Kursustype]]=valgliste!$D$3,1,2)*J294)","v":""}]
[null,null,null,null,null,null,null,null,{"$f":"IF(H295=\"\",\"\",IF(Tabel1[[#This Row],[Kursustype]]=valgliste!$D$3,1,2)*H295)","v":""},null,{"$f":"IF(J295=\"\",\"\",IF(Tabel1[[#This Row],[Kursustype]]=valgliste!$D$3,1,2)*J295)","v":""}]
[null,null,null,null,null,null,null,null,{"$f":"IF(H296=\"\",\"\",IF(Tabel1[[#This Row],[Kursustype]]=valgliste!$D$3,1,2)*H296)","v":""},null,{"$f":"IF(J296=\"\",\"\",IF(Tabel1[[#This Row],[Kursustype]]=valgliste!$D$3,1,2)*J296)","v":""}]
[null,null,null,null,null,null,null,null,{"$f":"IF(H297=\"\",\"\",IF(Tabel1[[#This Row],[Kursustype]]=valgliste!$D$3,1,2)*H297)","v":""},null,{"$f":"IF(J297=\"\",\"\",IF(Tabel1[[#This Row],[Kursustype]]=valgliste!$D$3,1,2)*J297)","v":""}]
[null,null,null,null,null,null,null,null,{"$f":"IF(H298=\"\",\"\",IF(Tabel1[[#This Row],[Kursustype]]=valgliste!$D$3,1,2)*H298)","v":""},null,{"$f":"IF(J298=\"\",\"\",IF(Tabel1[[#This Row],[Kursustype]]=valgliste!$D$3,1,2)*J298)","v":""}]
[null,null,null,null,null,null,null,null,{"$f":"IF(H299=\"\",\"\",IF(Tabel1[[#This Row],[Kursustype]]=valgliste!$D$3,1,2)*H299)","v":""},null,{"$f":"IF(J299=\"\",\"\",IF(Tabel1[[#This Row],[Kursustype]]=valgliste!$D$3,1,2)*J299)","v":""}]
[null,null,null,null,null,null,null,null,{"$f":"IF(H300=\"\",\"\",IF(Tabel1[[#This Row],[Kursustype]]=valgliste!$D$3,1,2)*H300)","v":""},null,{"$f":"IF(J300=\"\",\"\",IF(Tabel1[[#This Row],[Kursustype]]=valgliste!$D$3,1,2)*J300)","v":""}]
[null,null,null,null,null,null,null,null,{"$f":"IF(H301=\"\",\"\",IF(Tabel1[[#This Row],[Kursustype]]=valgliste!$D$3,1,2)*H301)","v":""},null,{"$f":"IF(J301=\"\",\"\",IF(Tabel1[[#This Row],[Kursustype]]=valgliste!$D$3,1,2)*J301)","v":""}]
[null,null,null,null,null,null,null,null,{"$f":"IF(H302=\"\",\"\",IF(Tabel1[[#This Row],[Kursustype]]=valgliste!$D$3,1,2)*H302)","v":""},null,{"$f":"IF(J302=\"\",\"\",IF(Tabel1[[#This Row],[Kursustype]]=valgliste!$D$3,1,2)*J302)","v":""}]
[null,null,null,null,null,null,null,null,{"$f":"IF(H303=\"\",\"\",IF(Tabel1[[#This Row],[Kursustype]]=valgliste!$D$3,1,2)*H303)","v":""},null,{"$f":"IF(J303=\"\",\"\",IF(Tabel1[[#This Row],[Kursustype]]=valgliste!$D$3,1,2)*J303)","v":""}]
[null,null,null,null,null,null,null,null,{"$f":"IF(H304=\"\",\"\",IF(Tabel1[[#This Row],[Kursustype]]=valgliste!$D$3,1,2)*H304)","v":""},null,{"$f":"IF(J304=\"\",\"\",IF(Tabel1[[#This Row],[Kursustype]]=valgliste!$D$3,1,2)*J304)","v":""}]
[null,null,null,null,null,null,null,null,{"$f":"IF(H305=\"\",\"\",IF(Tabel1[[#This Row],[Kursustype]]=valgliste!$D$3,1,2)*H305)","v":""},null,{"$f":"IF(J305=\"\",\"\",IF(Tabel1[[#This Row],[Kursustype]]=valgliste!$D$3,1,2)*J305)","v":""}]
[null,null,null,null,null,null,null,null,{"$f":"IF(H306=\"\",\"\",IF(Tabel1[[#This Row],[Kursustype]]=valgliste!$D$3,1,2)*H306)","v":""},null,{"$f":"IF(J306=\"\",\"\",IF(Tabel1[[#This Row],[Kursustype]]=valgliste!$D$3,1,2)*J306)","v":""}]
[null,null,null,null,null,null,null,null,{"$f":"IF(H307=\"\",\"\",IF(Tabel1[[#This Row],[Kursustype]]=valgliste!$D$3,1,2)*H307)","v":""},null,{"$f":"IF(J307=\"\",\"\",IF(Tabel1[[#This Row],[Kursustype]]=valgliste!$D$3,1,2)*J307)","v":""}]
[null,null,null,null,null,null,null,null,{"$f":"IF(H308=\"\",\"\",IF(Tabel1[[#This Row],[Kursustype]]=valgliste!$D$3,1,2)*H308)","v":""},null,{"$f":"IF(J308=\"\",\"\",IF(Tabel1[[#This Row],[Kursustype]]=valgliste!$D$3,1,2)*J308)","v":""}]
[null,null,null,null,null,null,null,null,{"$f":"IF(H309=\"\",\"\",IF(Tabel1[[#This Row],[Kursustype]]=valgliste!$D$3,1,2)*H309)","v":""},null,{"$f":"IF(J309=\"\",\"\",IF(Tabel1[[#This Row],[Kursustype]]=valgliste!$D$3,1,2)*J309)","v":""}]
[null,null,null,null,null,null,null,null,{"$f":"IF(H310=\"\",\"\",IF(Tabel1[[#This Row],[Kursustype]]=valgliste!$D$3,1,2)*H310)","v":""},null,{"$f":"IF(J310=\"\",\"\",IF(Tabel1[[#This Row],[Kursustype]]=valgliste!$D$3,1,2)*J310)","v":""}]
[null,null,null,null,null,null,null,null,{"$f":"IF(H311=\"\",\"\",IF(Tabel1[[#This Row],[Kursustype]]=valgliste!$D$3,1,2)*H311)","v":""},null,{"$f":"IF(J311=\"\",\"\",IF(Tabel1[[#This Row],[Kursustype]]=valgliste!$D$3,1,2)*J311)","v":""}]
[null,null,null,null,null,null,null,null,{"$f":"IF(H312=\"\",\"\",IF(Tabel1[[#This Row],[Kursustype]]=valgliste!$D$3,1,2)*H312)","v":""},null,{"$f":"IF(J312=\"\",\"\",IF(Tabel1[[#This Row],[Kursustype]]=valgliste!$D$3,1,2)*J312)","v":""}]
[null,null,null,null,null,null,null,null,{"$f":"IF(H313=\"\",\"\",IF(Tabel1[[#This Row],[Kursustype]]=valgliste!$D$3,1,2)*H313)","v":""},null,{"$f":"IF(J313=\"\",\"\",IF(Tabel1[[#This Row],[Kursustype]]=valgliste!$D$3,1,2)*J313)","v":""}]
[null,null,null,null,null,null,null,null,{"$f":"IF(H314=\"\",\"\",IF(Tabel1[[#This Row],[Kursustype]]=valgliste!$D$3,1,2)*H314)","v":""},null,{"$f":"IF(J314=\"\",\"\",IF(Tabel1[[#This Row],[Kursustype]]=valgliste!$D$3,1,2)*J314)","v":""}]
[null,null,null,null,null,null,null,null,{"$f":"IF(H315=\"\",\"\",IF(Tabel1[[#This Row],[Kursustype]]=valgliste!$D$3,1,2)*H315)","v":""},null,{"$f":"IF(J315=\"\",\"\",IF(Tabel1[[#This Row],[Kursustype]]=valgliste!$D$3,1,2)*J315)","v":""}]
[null,null,null,null,null,null,null,null,{"$f":"IF(H316=\"\",\"\",IF(Tabel1[[#This Row],[Kursustype]]=valgliste!$D$3,1,2)*H316)","v":""},null,{"$f":"IF(J316=\"\",\"\",IF(Tabel1[[#This Row],[Kursustype]]=valgliste!$D$3,1,2)*J316)","v":""}]
[null,null,null,null,null,null,null,null,{"$f":"IF(H317=\"\",\"\",IF(Tabel1[[#This Row],[Kursustype]]=valgliste!$D$3,1,2)*H317)","v":""},null,{"$f":"IF(J317=\"\",\"\",IF(Tabel1[[#This Row],[Kursustype]]=valgliste!$D$3,1,2)*J317)","v":""}]
[null,null,null,null,null,null,null,null,{"$f":"IF(H318=\"\",\"\",IF(Tabel1[[#This Row],[Kursustype]]=valgliste!$D$3,1,2)*H318)","v":""},null,{"$f":"IF(J318=\"\",\"\",IF(Tabel1[[#This Row],[Kursustype]]=valgliste!$D$3,1,2)*J318)","v":""}]
[null,null,null,null,null,null,null,null,{"$f":"IF(H319=\"\",\"\",IF(Tabel1[[#This Row],[Kursustype]]=valgliste!$D$3,1,2)*H319)","v":""},null,{"$f":"IF(J319=\"\",\"\",IF(Tabel1[[#This Row],[Kursustype]]=valgliste!$D$3,1,2)*J319)","v":""}]
[null,null,null,null,null,null,null,null,{"$f":"IF(H320=\"\",\"\",IF(Tabel1[[#This Row],[Kursustype]]=valgliste!$D$3,1,2)*H320)","v":""},null,{"$f":"IF(J320=\"\",\"\",IF(Tabel1[[#This Row],[Kursustype]]=valgliste!$D$3,1,2)*J320)","v":""}]
[null,null,null,null,null,null,null,null,{"$f":"IF(H321=\"\",\"\",IF(Tabel1[[#This Row],[Kursustype]]=valgliste!$D$3,1,2)*H321)","v":""},null,{"$f":"IF(J321=\"\",\"\",IF(Tabel1[[#This Row],[Kursustype]]=valgliste!$D$3,1,2)*J321)","v":""}]
[null,null,null,null,null,null,null,null,{"$f":"IF(H322=\"\",\"\",IF(Tabel1[[#This Row],[Kursustype]]=valgliste!$D$3,1,2)*H322)","v":""},null,{"$f":"IF(J322=\"\",\"\",IF(Tabel1[[#This Row],[Kursustype]]=valgliste!$D$3,1,2)*J322)","v":""}]
[null,null,null,null,null,null,null,null,{"$f":"IF(H323=\"\",\"\",IF(Tabel1[[#This Row],[Kursustype]]=valgliste!$D$3,1,2)*H323)","v":""},null,{"$f":"IF(J323=\"\",\"\",IF(Tabel1[[#This Row],[Kursustype]]=valgliste!$D$3,1,2)*J323)","v":""}]
[null,null,null,null,null,null,null,null,{"$f":"IF(H324=\"\",\"\",IF(Tabel1[[#This Row],[Kursustype]]=valgliste!$D$3,1,2)*H324)","v":""},null,{"$f":"IF(J324=\"\",\"\",IF(Tabel1[[#This Row],[Kursustype]]=valgliste!$D$3,1,2)*J324)","v":""}]
[null,null,null,null,null,null,null,null,{"$f":"IF(H325=\"\",\"\",IF(Tabel1[[#This Row],[Kursustype]]=valgliste!$D$3,1,2)*H325)","v":""},null,{"$f":"IF(J325=\"\",\"\",IF(Tabel1[[#This Row],[Kursustype]]=valgliste!$D$3,1,2)*J325)","v":""}]
[null,null,null,null,null,null,null,null,{"$f":"IF(H326=\"\",\"\",IF(Tabel1[[#This Row],[Kursustype]]=valgliste!$D$3,1,2)*H326)","v":""},null,{"$f":"IF(J326=\"\",\"\",IF(Tabel1[[#This Row],[Kursustype]]=valgliste!$D$3,1,2)*J326)","v":""}]
[null,null,null,null,null,null,null,null,{"$f":"IF(H327=\"\",\"\",IF(Tabel1[[#This Row],[Kursustype]]=valgliste!$D$3,1,2)*H327)","v":""},null,{"$f":"IF(J327=\"\",\"\",IF(Tabel1[[#This Row],[Kursustype]]=valgliste!$D$3,1,2)*J327)","v":""}]
[null,null,null,null,null,null,null,null,{"$f":"IF(H328=\"\",\"\",IF(Tabel1[[#This Row],[Kursustype]]=valgliste!$D$3,1,2)*H328)","v":""},null,{"$f":"IF(J328=\"\",\"\",IF(Tabel1[[#This Row],[Kursustype]]=valgliste!$D$3,1,2)*J328)","v":""}]
[null,null,null,null,null,null,null,null,{"$f":"IF(H329=\"\",\"\",IF(Tabel1[[#This Row],[Kursustype]]=valgliste!$D$3,1,2)*H329)","v":""},null,{"$f":"IF(J329=\"\",\"\",IF(Tabel1[[#This Row],[Kursustype]]=valgliste!$D$3,1,2)*J329)","v":""}]
[null,null,null,null,null,null,null,null,{"$f":"IF(H330=\"\",\"\",IF(Tabel1[[#This Row],[Kursustype]]=valgliste!$D$3,1,2)*H330)","v":""},null,{"$f":"IF(J330=\"\",\"\",IF(Tabel1[[#This Row],[Kursustype]]=valgliste!$D$3,1,2)*J330)","v":""}]
[null,null,null,null,null,null,null,null,{"$f":"IF(H331=\"\",\"\",IF(Tabel1[[#This Row],[Kursustype]]=valgliste!$D$3,1,2)*H331)","v":""},null,{"$f":"IF(J331=\"\",\"\",IF(Tabel1[[#This Row],[Kursustype]]=valgliste!$D$3,1,2)*J331)","v":""}]
[null,null,null,null,null,null,null,null,{"$f":"IF(H332=\"\",\"\",IF(Tabel1[[#This Row],[Kursustype]]=valgliste!$D$3,1,2)*H332)","v":""},null,{"$f":"IF(J332=\"\",\"\",IF(Tabel1[[#This Row],[Kursustype]]=valgliste!$D$3,1,2)*J332)","v":""}]
[null,null,null,null,null,null,null,null,{"$f":"IF(H333=\"\",\"\",IF(Tabel1[[#This Row],[Kursustype]]=valgliste!$D$3,1,2)*H333)","v":""},null,{"$f":"IF(J333=\"\",\"\",IF(Tabel1[[#This Row],[Kursustype]]=valgliste!$D$3,1,2)*J333)","v":""}]
[null,null,null,null,null,null,null,null,{"$f":"IF(H334=\"\",\"\",IF(Tabel1[[#This Row],[Kursustype]]=valgliste!$D$3,1,2)*H334)","v":""},null,{"$f":"IF(J334=\"\",\"\",IF(Tabel1[[#This Row],[Kursustype]]=valgliste!$D$3,1,2)*J334)","v":""}]
[null,null,null,null,null,null,null,null,{"$f":"IF(H335=\"\",\"\",IF(Tabel1[[#This Row],[Kursustype]]=valgliste!$D$3,1,2)*H335)","v":""},null,{"$f":"IF(J335=\"\",\"\",IF(Tabel1[[#This Row],[Kursustype]]=valgliste!$D$3,1,2)*J335)","v":""}]
[null,null,null,null,null,null,null,null,{"$f":"IF(H336=\"\",\"\",IF(Tabel1[[#This Row],[Kursustype]]=valgliste!$D$3,1,2)*H336)","v":""},null,{"$f":"IF(J336=\"\",\"\",IF(Tabel1[[#This Row],[Kursustype]]=valgliste!$D$3,1,2)*J336)","v":""}]
[null,null,null,null,null,null,null,null,{"$f":"IF(H337=\"\",\"\",IF(Tabel1[[#This Row],[Kursustype]]=valgliste!$D$3,1,2)*H337)","v":""},null,{"$f":"IF(J337=\"\",\"\",IF(Tabel1[[#This Row],[Kursustype]]=valgliste!$D$3,1,2)*J337)","v":""}]
[null,null,null,null,null,null,null,null,{"$f":"IF(H338=\"\",\"\",IF(Tabel1[[#This Row],[Kursustype]]=valgliste!$D$3,1,2)*H338)","v":""},null,{"$f":"IF(J338=\"\",\"\",IF(Tabel1[[#This Row],[Kursustype]]=valgliste!$D$3,1,2)*J338)","v":""}]
[null,null,null,null,null,null,null,null,{"$f":"IF(H339=\"\",\"\",IF(Tabel1[[#This Row],[Kursustype]]=valgliste!$D$3,1,2)*H339)","v":""},null,{"$f":"IF(J339=\"\",\"\",IF(Tabel1[[#This Row],[Kursustype]]=valgliste!$D$3,1,2)*J339)","v":""}]
[null,null,null,null,null,null,null,null,{"$f":"IF(H340=\"\",\"\",IF(Tabel1[[#This Row],[Kursustype]]=valgliste!$D$3,1,2)*H340)","v":""},null,{"$f":"IF(J340=\"\",\"\",IF(Tabel1[[#This Row],[Kursustype]]=valgliste!$D$3,1,2)*J340)","v":""}]
[null,null,null,null,null,null,null,null,{"$f":"IF(H341=\"\",\"\",IF(Tabel1[[#This Row],[Kursustype]]=valgliste!$D$3,1,2)*H341)","v":""},null,{"$f":"IF(J341=\"\",\"\",IF(Tabel1[[#This Row],[Kursustype]]=valgliste!$D$3,1,2)*J341)","v":""}]
[null,null,null,null,null,null,null,null,{"$f":"IF(H342=\"\",\"\",IF(Tabel1[[#This Row],[Kursustype]]=valgliste!$D$3,1,2)*H342)","v":""},null,{"$f":"IF(J342=\"\",\"\",IF(Tabel1[[#This Row],[Kursustype]]=valgliste!$D$3,1,2)*J342)","v":""}]
[null,null,null,null,null,null,null,null,{"$f":"IF(H343=\"\",\"\",IF(Tabel1[[#This Row],[Kursustype]]=valgliste!$D$3,1,2)*H343)","v":""},null,{"$f":"IF(J343=\"\",\"\",IF(Tabel1[[#This Row],[Kursustype]]=valgliste!$D$3,1,2)*J343)","v":""}]
[null,null,null,null,null,null,null,null,{"$f":"IF(H344=\"\",\"\",IF(Tabel1[[#This Row],[Kursustype]]=valgliste!$D$3,1,2)*H344)","v":""},null,{"$f":"IF(J344=\"\",\"\",IF(Tabel1[[#This Row],[Kursustype]]=valgliste!$D$3,1,2)*J344)","v":""}]
[null,null,null,null,null,null,null,null,{"$f":"IF(H345=\"\",\"\",IF(Tabel1[[#This Row],[Kursustype]]=valgliste!$D$3,1,2)*H345)","v":""},null,{"$f":"IF(J345=\"\",\"\",IF(Tabel1[[#This Row],[Kursustype]]=valgliste!$D$3,1,2)*J345)","v":""}]
[null,null,null,null,null,null,null,null,{"$f":"IF(H346=\"\",\"\",IF(Tabel1[[#This Row],[Kursustype]]=valgliste!$D$3,1,2)*H346)","v":""},null,{"$f":"IF(J346=\"\",\"\",IF(Tabel1[[#This Row],[Kursustype]]=valgliste!$D$3,1,2)*J346)","v":""}]
[null,null,null,null,null,null,null,null,{"$f":"IF(H347=\"\",\"\",IF(Tabel1[[#This Row],[Kursustype]]=valgliste!$D$3,1,2)*H347)","v":""},null,{"$f":"IF(J347=\"\",\"\",IF(Tabel1[[#This Row],[Kursustype]]=valgliste!$D$3,1,2)*J347)","v":""}]
[null,null,null,null,null,null,null,null,{"$f":"IF(H348=\"\",\"\",IF(Tabel1[[#This Row],[Kursustype]]=valgliste!$D$3,1,2)*H348)","v":""},null,{"$f":"IF(J348=\"\",\"\",IF(Tabel1[[#This Row],[Kursustype]]=valgliste!$D$3,1,2)*J348)","v":""}]
[null,null,null,null,null,null,null,null,{"$f":"IF(H349=\"\",\"\",IF(Tabel1[[#This Row],[Kursustype]]=valgliste!$D$3,1,2)*H349)","v":""},null,{"$f":"IF(J349=\"\",\"\",IF(Tabel1[[#This Row],[Kursustype]]=valgliste!$D$3,1,2)*J349)","v":""}]
[null,null,null,null,null,null,null,null,{"$f":"IF(H350=\"\",\"\",IF(Tabel1[[#This Row],[Kursustype]]=valgliste!$D$3,1,2)*H350)","v":""},null,{"$f":"IF(J350=\"\",\"\",IF(Tabel1[[#This Row],[Kursustype]]=valgliste!$D$3,1,2)*J350)","v":""}]
[null,null,null,null,null,null,null,null,{"$f":"IF(H351=\"\",\"\",IF(Tabel1[[#This Row],[Kursustype]]=valgliste!$D$3,1,2)*H351)","v":""},null,{"$f":"IF(J351=\"\",\"\",IF(Tabel1[[#This Row],[Kursustype]]=valgliste!$D$3,1,2)*J351)","v":""}]
[null,null,null,null,null,null,null,null,{"$f":"IF(H352=\"\",\"\",IF(Tabel1[[#This Row],[Kursustype]]=valgliste!$D$3,1,2)*H352)","v":""},null,{"$f":"IF(J352=\"\",\"\",IF(Tabel1[[#This Row],[Kursustype]]=valgliste!$D$3,1,2)*J352)","v":""}]
[null,null,null,null,null,null,null,null,{"$f":"IF(H353=\"\",\"\",IF(Tabel1[[#This Row],[Kursustype]]=valgliste!$D$3,1,2)*H353)","v":""},null,{"$f":"IF(J353=\"\",\"\",IF(Tabel1[[#This Row],[Kursustype]]=valgliste!$D$3,1,2)*J353)","v":""}]
[null,null,null,null,null,null,null,null,{"$f":"IF(H354=\"\",\"\",IF(Tabel1[[#This Row],[Kursustype]]=valgliste!$D$3,1,2)*H354)","v":""},null,{"$f":"IF(J354=\"\",\"\",IF(Tabel1[[#This Row],[Kursustype]]=valgliste!$D$3,1,2)*J354)","v":""}]
[null,null,null,null,null,null,null,null,{"$f":"IF(H355=\"\",\"\",IF(Tabel1[[#This Row],[Kursustype]]=valgliste!$D$3,1,2)*H355)","v":""},null,{"$f":"IF(J355=\"\",\"\",IF(Tabel1[[#This Row],[Kursustype]]=valgliste!$D$3,1,2)*J355)","v":""}]
[null,null,null,null,null,null,null,null,{"$f":"IF(H356=\"\",\"\",IF(Tabel1[[#This Row],[Kursustype]]=valgliste!$D$3,1,2)*H356)","v":""},null,{"$f":"IF(J356=\"\",\"\",IF(Tabel1[[#This Row],[Kursustype]]=valgliste!$D$3,1,2)*J356)","v":""}]
[null,null,null,null,null,null,null,null,{"$f":"IF(H357=\"\",\"\",IF(Tabel1[[#This Row],[Kursustype]]=valgliste!$D$3,1,2)*H357)","v":""},null,{"$f":"IF(J357=\"\",\"\",IF(Tabel1[[#This Row],[Kursustype]]=valgliste!$D$3,1,2)*J357)","v":""}]
[null,null,null,null,null,null,null,null,{"$f":"IF(H358=\"\",\"\",IF(Tabel1[[#This Row],[Kursustype]]=valgliste!$D$3,1,2)*H358)","v":""},null,{"$f":"IF(J358=\"\",\"\",IF(Tabel1[[#This Row],[Kursustype]]=valgliste!$D$3,1,2)*J358)","v":""}]
[null,null,null,null,null,null,null,null,{"$f":"IF(H359=\"\",\"\",IF(Tabel1[[#This Row],[Kursustype]]=valgliste!$D$3,1,2)*H359)","v":""},null,{"$f":"IF(J359=\"\",\"\",IF(Tabel1[[#This Row],[Kursustype]]=valgliste!$D$3,1,2)*J359)","v":""}]
[null,null,null,null,null,null,null,null,{"$f":"IF(H360=\"\",\"\",IF(Tabel1[[#This Row],[Kursustype]]=valgliste!$D$3,1,2)*H360)","v":""},null,{"$f":"IF(J360=\"\",\"\",IF(Tabel1[[#This Row],[Kursustype]]=valgliste!$D$3,1,2)*J360)","v":""}]
[null,null,null,null,null,null,null,null,{"$f":"IF(H361=\"\",\"\",IF(Tabel1[[#This Row],[Kursustype]]=valgliste!$D$3,1,2)*H361)","v":""},null,{"$f":"IF(J361=\"\",\"\",IF(Tabel1[[#This Row],[Kursustype]]=valgliste!$D$3,1,2)*J361)","v":""}]
[null,null,null,null,null,null,null,null,{"$f":"IF(H362=\"\",\"\",IF(Tabel1[[#This Row],[Kursustype]]=valgliste!$D$3,1,2)*H362)","v":""},null,{"$f":"IF(J362=\"\",\"\",IF(Tabel1[[#This Row],[Kursustype]]=valgliste!$D$3,1,2)*J362)","v":""}]
[null,null,null,null,null,null,null,null,{"$f":"IF(H363=\"\",\"\",IF(Tabel1[[#This Row],[Kursustype]]=valgliste!$D$3,1,2)*H363)","v":""},null,{"$f":"IF(J363=\"\",\"\",IF(Tabel1[[#This Row],[Kursustype]]=valgliste!$D$3,1,2)*J363)","v":""}]
[null,null,null,null,null,null,null,null,{"$f":"IF(H364=\"\",\"\",IF(Tabel1[[#This Row],[Kursustype]]=valgliste!$D$3,1,2)*H364)","v":""},null,{"$f":"IF(J364=\"\",\"\",IF(Tabel1[[#This Row],[Kursustype]]=valgliste!$D$3,1,2)*J364)","v":""}]
[null,null,null,null,null,null,null,null,{"$f":"IF(H365=\"\",\"\",IF(Tabel1[[#This Row],[Kursustype]]=valgliste!$D$3,1,2)*H365)","v":""},null,{"$f":"IF(J365=\"\",\"\",IF(Tabel1[[#This Row],[Kursustype]]=valgliste!$D$3,1,2)*J365)","v":""}]
[null,null,null,null,null,null,null,null,{"$f":"IF(H366=\"\",\"\",IF(Tabel1[[#This Row],[Kursustype]]=valgliste!$D$3,1,2)*H366)","v":""},null,{"$f":"IF(J366=\"\",\"\",IF(Tabel1[[#This Row],[Kursustype]]=valgliste!$D$3,1,2)*J366)","v":""}]
[null,null,null,null,null,null,null,null,{"$f":"IF(H367=\"\",\"\",IF(Tabel1[[#This Row],[Kursustype]]=valgliste!$D$3,1,2)*H367)","v":""},null,{"$f":"IF(J367=\"\",\"\",IF(Tabel1[[#This Row],[Kursustype]]=valgliste!$D$3,1,2)*J367)","v":""}]
[null,null,null,null,null,null,null,null,{"$f":"IF(H368=\"\",\"\",IF(Tabel1[[#This Row],[Kursustype]]=valgliste!$D$3,1,2)*H368)","v":""},null,{"$f":"IF(J368=\"\",\"\",IF(Tabel1[[#This Row],[Kursustype]]=valgliste!$D$3,1,2)*J368)","v":""}]
[null,null,null,null,null,null,null,null,{"$f":"IF(H369=\"\",\"\",IF(Tabel1[[#This Row],[Kursustype]]=valgliste!$D$3,1,2)*H369)","v":""},null,{"$f":"IF(J369=\"\",\"\",IF(Tabel1[[#This Row],[Kursustype]]=valgliste!$D$3,1,2)*J369)","v":""}]
[null,null,null,null,null,null,null,null,{"$f":"IF(H370=\"\",\"\",IF(Tabel1[[#This Row],[Kursustype]]=valgliste!$D$3,1,2)*H370)","v":""},null,{"$f":"IF(J370=\"\",\"\",IF(Tabel1[[#This Row],[Kursustype]]=valgliste!$D$3,1,2)*J370)","v":""}]
[null,null,null,null,null,null,null,null,{"$f":"IF(H371=\"\",\"\",IF(Tabel1[[#This Row],[Kursustype]]=valgliste!$D$3,1,2)*H371)","v":""},null,{"$f":"IF(J371=\"\",\"\",IF(Tabel1[[#This Row],[Kursustype]]=valgliste!$D$3,1,2)*J371)","v":""}]
[null,null,null,null,null,null,null,null,{"$f":"IF(H372=\"\",\"\",IF(Tabel1[[#This Row],[Kursustype]]=valgliste!$D$3,1,2)*H372)","v":""},null,{"$f":"IF(J372=\"\",\"\",IF(Tabel1[[#This Row],[Kursustype]]=valgliste!$D$3,1,2)*J372)","v":""}]
[null,null,null,null,null,null,null,null,{"$f":"IF(H373=\"\",\"\",IF(Tabel1[[#This Row],[Kursustype]]=valgliste!$D$3,1,2)*H373)","v":""},null,{"$f":"IF(J373=\"\",\"\",IF(Tabel1[[#This Row],[Kursustype]]=valgliste!$D$3,1,2)*J373)","v":""}]
[null,null,null,null,null,null,null,null,{"$f":"IF(H374=\"\",\"\",IF(Tabel1[[#This Row],[Kursustype]]=valgliste!$D$3,1,2)*H374)","v":""},null,{"$f":"IF(J374=\"\",\"\",IF(Tabel1[[#This Row],[Kursustype]]=valgliste!$D$3,1,2)*J374)","v":""}]
[null,null,null,null,null,null,null,null,{"$f":"IF(H375=\"\",\"\",IF(Tabel1[[#This Row],[Kursustype]]=valgliste!$D$3,1,2)*H375)","v":""},null,{"$f":"IF(J375=\"\",\"\",IF(Tabel1[[#This Row],[Kursustype]]=valgliste!$D$3,1,2)*J375)","v":""}]
[null,null,null,null,null,null,null,null,{"$f":"IF(H376=\"\",\"\",IF(Tabel1[[#This Row],[Kursustype]]=valgliste!$D$3,1,2)*H376)","v":""},null,{"$f":"IF(J376=\"\",\"\",IF(Tabel1[[#This Row],[Kursustype]]=valgliste!$D$3,1,2)*J376)","v":""}]
[null,null,null,null,null,null,null,null,{"$f":"IF(H377=\"\",\"\",IF(Tabel1[[#This Row],[Kursustype]]=valgliste!$D$3,1,2)*H377)","v":""},null,{"$f":"IF(J377=\"\",\"\",IF(Tabel1[[#This Row],[Kursustype]]=valgliste!$D$3,1,2)*J377)","v":""}]
[null,null,null,null,null,null,null,null,{"$f":"IF(H378=\"\",\"\",IF(Tabel1[[#This Row],[Kursustype]]=valgliste!$D$3,1,2)*H378)","v":""},null,{"$f":"IF(J378=\"\",\"\",IF(Tabel1[[#This Row],[Kursustype]]=valgliste!$D$3,1,2)*J378)","v":""}]
[null,null,null,null,null,null,null,null,{"$f":"IF(H379=\"\",\"\",IF(Tabel1[[#This Row],[Kursustype]]=valgliste!$D$3,1,2)*H379)","v":""},null,{"$f":"IF(J379=\"\",\"\",IF(Tabel1[[#This Row],[Kursustype]]=valgliste!$D$3,1,2)*J379)","v":""}]
[null,null,null,null,null,null,null,null,{"$f":"IF(H380=\"\",\"\",IF(Tabel1[[#This Row],[Kursustype]]=valgliste!$D$3,1,2)*H380)","v":""},null,{"$f":"IF(J380=\"\",\"\",IF(Tabel1[[#This Row],[Kursustype]]=valgliste!$D$3,1,2)*J380)","v":""}]
[null,null,null,null,null,null,null,null,{"$f":"IF(H381=\"\",\"\",IF(Tabel1[[#This Row],[Kursustype]]=valgliste!$D$3,1,2)*H381)","v":""},null,{"$f":"IF(J381=\"\",\"\",IF(Tabel1[[#This Row],[Kursustype]]=valgliste!$D$3,1,2)*J381)","v":""}]
[null,null,null,null,null,null,null,null,{"$f":"IF(H382=\"\",\"\",IF(Tabel1[[#This Row],[Kursustype]]=valgliste!$D$3,1,2)*H382)","v":""},null,{"$f":"IF(J382=\"\",\"\",IF(Tabel1[[#This Row],[Kursustype]]=valgliste!$D$3,1,2)*J382)","v":""}]
[null,null,null,null,null,null,null,null,{"$f":"IF(H383=\"\",\"\",IF(Tabel1[[#This Row],[Kursustype]]=valgliste!$D$3,1,2)*H383)","v":""},null,{"$f":"IF(J383=\"\",\"\",IF(Tabel1[[#This Row],[Kursustype]]=valgliste!$D$3,1,2)*J383)","v":""}]
[null,null,null,null,null,null,null,null,{"$f":"IF(H384=\"\",\"\",IF(Tabel1[[#This Row],[Kursustype]]=valgliste!$D$3,1,2)*H384)","v":""},null,{"$f":"IF(J384=\"\",\"\",IF(Tabel1[[#This Row],[Kursustype]]=valgliste!$D$3,1,2)*J384)","v":""}]
[null,null,null,null,null,null,null,null,{"$f":"IF(H385=\"\",\"\",IF(Tabel1[[#This Row],[Kursustype]]=valgliste!$D$3,1,2)*H385)","v":""},null,{"$f":"IF(J385=\"\",\"\",IF(Tabel1[[#This Row],[Kursustype]]=valgliste!$D$3,1,2)*J385)","v":""}]
[null,null,null,null,null,null,null,null,{"$f":"IF(H386=\"\",\"\",IF(Tabel1[[#This Row],[Kursustype]]=valgliste!$D$3,1,2)*H386)","v":""},null,{"$f":"IF(J386=\"\",\"\",IF(Tabel1[[#This Row],[Kursustype]]=valgliste!$D$3,1,2)*J386)","v":""}]
[null,null,null,null,null,null,null,null,{"$f":"IF(H387=\"\",\"\",IF(Tabel1[[#This Row],[Kursustype]]=valgliste!$D$3,1,2)*H387)","v":""},null,{"$f":"IF(J387=\"\",\"\",IF(Tabel1[[#This Row],[Kursustype]]=valgliste!$D$3,1,2)*J387)","v":""}]
[null,null,null,null,null,null,null,null,{"$f":"IF(H388=\"\",\"\",IF(Tabel1[[#This Row],[Kursustype]]=valgliste!$D$3,1,2)*H388)","v":""},null,{"$f":"IF(J388=\"\",\"\",IF(Tabel1[[#This Row],[Kursustype]]=valgliste!$D$3,1,2)*J388)","v":""}]
[null,null,null,null,null,null,null,null,{"$f":"IF(H389=\"\",\"\",IF(Tabel1[[#This Row],[Kursustype]]=valgliste!$D$3,1,2)*H389)","v":""},null,{"$f":"IF(J389=\"\",\"\",IF(Tabel1[[#This Row],[Kursustype]]=valgliste!$D$3,1,2)*J389)","v":""}]
[null,null,null,null,null,null,null,null,{"$f":"IF(H390=\"\",\"\",IF(Tabel1[[#This Row],[Kursustype]]=valgliste!$D$3,1,2)*H390)","v":""},null,{"$f":"IF(J390=\"\",\"\",IF(Tabel1[[#This Row],[Kursustype]]=valgliste!$D$3,1,2)*J390)","v":""}]
[null,null,null,null,null,null,null,null,{"$f":"IF(H391=\"\",\"\",IF(Tabel1[[#This Row],[Kursustype]]=valgliste!$D$3,1,2)*H391)","v":""},null,{"$f":"IF(J391=\"\",\"\",IF(Tabel1[[#This Row],[Kursustype]]=valgliste!$D$3,1,2)*J391)","v":""}]
[null,null,null,null,null,null,null,null,{"$f":"IF(H392=\"\",\"\",IF(Tabel1[[#This Row],[Kursustype]]=valgliste!$D$3,1,2)*H392)","v":""},null,{"$f":"IF(J392=\"\",\"\",IF(Tabel1[[#This Row],[Kursustype]]=valgliste!$D$3,1,2)*J392)","v":""}]
[null,null,null,null,null,null,null,null,{"$f":"IF(H393=\"\",\"\",IF(Tabel1[[#This Row],[Kursustype]]=valgliste!$D$3,1,2)*H393)","v":""},null,{"$f":"IF(J393=\"\",\"\",IF(Tabel1[[#This Row],[Kursustype]]=valgliste!$D$3,1,2)*J393)","v":""}]
[null,null,null,null,null,null,null,null,{"$f":"IF(H394=\"\",\"\",IF(Tabel1[[#This Row],[Kursustype]]=valgliste!$D$3,1,2)*H394)","v":""},null,{"$f":"IF(J394=\"\",\"\",IF(Tabel1[[#This Row],[Kursustype]]=valgliste!$D$3,1,2)*J394)","v":""}]
[null,null,null,null,null,null,null,null,{"$f":"IF(H395=\"\",\"\",IF(Tabel1[[#This Row],[Kursustype]]=valgliste!$D$3,1,2)*H395)","v":""},null,{"$f":"IF(J395=\"\",\"\",IF(Tabel1[[#This Row],[Kursustype]]=valgliste!$D$3,1,2)*J395)","v":""}]
[null,null,null,null,null,null,null,null,{"$f":"IF(H396=\"\",\"\",IF(Tabel1[[#This Row],[Kursustype]]=valgliste!$D$3,1,2)*H396)","v":""},null,{"$f":"IF(J396=\"\",\"\",IF(Tabel1[[#This Row],[Kursustype]]=valgliste!$D$3,1,2)*J396)","v":""}]
[null,null,null,null,null,null,null,null,{"$f":"IF(H397=\"\",\"\",IF(Tabel1[[#This Row],[Kursustype]]=valgliste!$D$3,1,2)*H397)","v":""},null,{"$f":"IF(J397=\"\",\"\",IF(Tabel1[[#This Row],[Kursustype]]=valgliste!$D$3,1,2)*J397)","v":""}]
[null,null,null,null,null,null,null,null,{"$f":"IF(H398=\"\",\"\",IF(Tabel1[[#This Row],[Kursustype]]=valgliste!$D$3,1,2)*H398)","v":""},null,{"$f":"IF(J398=\"\",\"\",IF(Tabel1[[#This Row],[Kursustype]]=valgliste!$D$3,1,2)*J398)","v":""}]
[null,null,null,null,null,null,null,null,{"$f":"IF(H399=\"\",\"\",IF(Tabel1[[#This Row],[Kursustype]]=valgliste!$D$3,1,2)*H399)","v":""},null,{"$f":"IF(J399=\"\",\"\",IF(Tabel1[[#This Row],[Kursustype]]=valgliste!$D$3,1,2)*J399)","v":""}]
[null,null,null,null,null,null,null,null,{"$f":"IF(H400=\"\",\"\",IF(Tabel1[[#This Row],[Kursustype]]=valgliste!$D$3,1,2)*H400)","v":""},null,{"$f":"IF(J400=\"\",\"\",IF(Tabel1[[#This Row],[Kursustype]]=valgliste!$D$3,1,2)*J400)","v":""}]
[null,null,null,null,null,null,null,null,{"$f":"IF(H401=\"\",\"\",IF(Tabel1[[#This Row],[Kursustype]]=valgliste!$D$3,1,2)*H401)","v":""},null,{"$f":"IF(J401=\"\",\"\",IF(Tabel1[[#This Row],[Kursustype]]=valgliste!$D$3,1,2)*J401)","v":""}]
[null,null,null,null,null,null,null,null,{"$f":"IF(H402=\"\",\"\",IF(Tabel1[[#This Row],[Kursustype]]=valgliste!$D$3,1,2)*H402)","v":""},null,{"$f":"IF(J402=\"\",\"\",IF(Tabel1[[#This Row],[Kursustype]]=valgliste!$D$3,1,2)*J402)","v":""}]
[null,null,null,null,null,null,null,null,{"$f":"IF(H403=\"\",\"\",IF(Tabel1[[#This Row],[Kursustype]]=valgliste!$D$3,1,2)*H403)","v":""},null,{"$f":"IF(J403=\"\",\"\",IF(Tabel1[[#This Row],[Kursustype]]=valgliste!$D$3,1,2)*J403)","v":""}]
[null,null,null,null,null,null,null,null,{"$f":"IF(H404=\"\",\"\",IF(Tabel1[[#This Row],[Kursustype]]=valgliste!$D$3,1,2)*H404)","v":""},null,{"$f":"IF(J404=\"\",\"\",IF(Tabel1[[#This Row],[Kursustype]]=valgliste!$D$3,1,2)*J404)","v":""}]
[null,null,null,null,null,null,null,null,{"$f":"IF(H405=\"\",\"\",IF(Tabel1[[#This Row],[Kursustype]]=valgliste!$D$3,1,2)*H405)","v":""},null,{"$f":"IF(J405=\"\",\"\",IF(Tabel1[[#This Row],[Kursustype]]=valgliste!$D$3,1,2)*J405)","v":""}]
[null,null,null,null,null,null,null,null,{"$f":"IF(H406=\"\",\"\",IF(Tabel1[[#This Row],[Kursustype]]=valgliste!$D$3,1,2)*H406)","v":""},null,{"$f":"IF(J406=\"\",\"\",IF(Tabel1[[#This Row],[Kursustype]]=valgliste!$D$3,1,2)*J406)","v":""}]
[null,null,null,null,null,null,null,null,{"$f":"IF(H407=\"\",\"\",IF(Tabel1[[#This Row],[Kursustype]]=valgliste!$D$3,1,2)*H407)","v":""},null,{"$f":"IF(J407=\"\",\"\",IF(Tabel1[[#This Row],[Kursustype]]=valgliste!$D$3,1,2)*J407)","v":""}]
[null,null,null,null,null,null,null,null,{"$f":"IF(H408=\"\",\"\",IF(Tabel1[[#This Row],[Kursustype]]=valgliste!$D$3,1,2)*H408)","v":""},null,{"$f":"IF(J408=\"\",\"\",IF(Tabel1[[#This Row],[Kursustype]]=valgliste!$D$3,1,2)*J408)","v":""}]
[null,null,null,null,null,null,null,null,{"$f":"IF(H409=\"\",\"\",IF(Tabel1[[#This Row],[Kursustype]]=valgliste!$D$3,1,2)*H409)","v":""},null,{"$f":"IF(J409=\"\",\"\",IF(Tabel1[[#This Row],[Kursustype]]=valgliste!$D$3,1,2)*J409)","v":""}]
[null,null,null,null,null,null,null,null,{"$f":"IF(H410=\"\",\"\",IF(Tabel1[[#This Row],[Kursustype]]=valgliste!$D$3,1,2)*H410)","v":""},null,{"$f":"IF(J410=\"\",\"\",IF(Tabel1[[#This Row],[Kursustype]]=valgliste!$D$3,1,2)*J410)","v":""}]
[null,null,null,null,null,null,null,null,{"$f":"IF(H411=\"\",\"\",IF(Tabel1[[#This Row],[Kursustype]]=valgliste!$D$3,1,2)*H411)","v":""},null,{"$f":"IF(J411=\"\",\"\",IF(Tabel1[[#This Row],[Kursustype]]=valgliste!$D$3,1,2)*J411)","v":""}]
[null,null,null,null,null,null,null,null,{"$f":"IF(H412=\"\",\"\",IF(Tabel1[[#This Row],[Kursustype]]=valgliste!$D$3,1,2)*H412)","v":""},null,{"$f":"IF(J412=\"\",\"\",IF(Tabel1[[#This Row],[Kursustype]]=valgliste!$D$3,1,2)*J412)","v":""}]
[null,null,null,null,null,null,null,null,{"$f":"IF(H413=\"\",\"\",IF(Tabel1[[#This Row],[Kursustype]]=valgliste!$D$3,1,2)*H413)","v":""},null,{"$f":"IF(J413=\"\",\"\",IF(Tabel1[[#This Row],[Kursustype]]=valgliste!$D$3,1,2)*J413)","v":""}]
[null,null,null,null,null,null,null,null,{"$f":"IF(H414=\"\",\"\",IF(Tabel1[[#This Row],[Kursustype]]=valgliste!$D$3,1,2)*H414)","v":""},null,{"$f":"IF(J414=\"\",\"\",IF(Tabel1[[#This Row],[Kursustype]]=valgliste!$D$3,1,2)*J414)","v":""}]
[null,null,null,null,null,null,null,null,{"$f":"IF(H415=\"\",\"\",IF(Tabel1[[#This Row],[Kursustype]]=valgliste!$D$3,1,2)*H415)","v":""},null,{"$f":"IF(J415=\"\",\"\",IF(Tabel1[[#This Row],[Kursustype]]=valgliste!$D$3,1,2)*J415)","v":""}]
[null,null,null,null,null,null,null,null,{"$f":"IF(H416=\"\",\"\",IF(Tabel1[[#This Row],[Kursustype]]=valgliste!$D$3,1,2)*H416)","v":""},null,{"$f":"IF(J416=\"\",\"\",IF(Tabel1[[#This Row],[Kursustype]]=valgliste!$D$3,1,2)*J416)","v":""}]
[null,null,null,null,null,null,null,null,{"$f":"IF(H417=\"\",\"\",IF(Tabel1[[#This Row],[Kursustype]]=valgliste!$D$3,1,2)*H417)","v":""},null,{"$f":"IF(J417=\"\",\"\",IF(Tabel1[[#This Row],[Kursustype]]=valgliste!$D$3,1,2)*J417)","v":""}]
[null,null,null,null,null,null,null,null,{"$f":"IF(H418=\"\",\"\",IF(Tabel1[[#This Row],[Kursustype]]=valgliste!$D$3,1,2)*H418)","v":""},null,{"$f":"IF(J418=\"\",\"\",IF(Tabel1[[#This Row],[Kursustype]]=valgliste!$D$3,1,2)*J418)","v":""}]
[null,null,null,null,null,null,null,null,{"$f":"IF(H419=\"\",\"\",IF(Tabel1[[#This Row],[Kursustype]]=valgliste!$D$3,1,2)*H419)","v":""},null,{"$f":"IF(J419=\"\",\"\",IF(Tabel1[[#This Row],[Kursustype]]=valgliste!$D$3,1,2)*J419)","v":""}]
[null,null,null,null,null,null,null,null,{"$f":"IF(H420=\"\",\"\",IF(Tabel1[[#This Row],[Kursustype]]=valgliste!$D$3,1,2)*H420)","v":""},null,{"$f":"IF(J420=\"\",\"\",IF(Tabel1[[#This Row],[Kursustype]]=valgliste!$D$3,1,2)*J420)","v":""}]
[null,null,null,null,null,null,null,null,{"$f":"IF(H421=\"\",\"\",IF(Tabel1[[#This Row],[Kursustype]]=valgliste!$D$3,1,2)*H421)","v":""},null,{"$f":"IF(J421=\"\",\"\",IF(Tabel1[[#This Row],[Kursustype]]=valgliste!$D$3,1,2)*J421)","v":""}]
[null,null,null,null,null,null,null,null,{"$f":"IF(H422=\"\",\"\",IF(Tabel1[[#This Row],[Kursustype]]=valgliste!$D$3,1,2)*H422)","v":""},null,{"$f":"IF(J422=\"\",\"\",IF(Tabel1[[#This Row],[Kursustype]]=valgliste!$D$3,1,2)*J422)","v":""}]
[null,null,null,null,null,null,null,null,{"$f":"IF(H423=\"\",\"\",IF(Tabel1[[#This Row],[Kursustype]]=valgliste!$D$3,1,2)*H423)","v":""},null,{"$f":"IF(J423=\"\",\"\",IF(Tabel1[[#This Row],[Kursustype]]=valgliste!$D$3,1,2)*J423)","v":""}]
[null,null,null,null,null,null,null,null,{"$f":"IF(H424=\"\",\"\",IF(Tabel1[[#This Row],[Kursustype]]=valgliste!$D$3,1,2)*H424)","v":""},null,{"$f":"IF(J424=\"\",\"\",IF(Tabel1[[#This Row],[Kursustype]]=valgliste!$D$3,1,2)*J424)","v":""}]
[null,null,null,null,null,null,null,null,{"$f":"IF(H425=\"\",\"\",IF(Tabel1[[#This Row],[Kursustype]]=valgliste!$D$3,1,2)*H425)","v":""},null,{"$f":"IF(J425=\"\",\"\",IF(Tabel1[[#This Row],[Kursustype]]=valgliste!$D$3,1,2)*J425)","v":""}]
[null,null,null,null,null,null,null,null,{"$f":"IF(H426=\"\",\"\",IF(Tabel1[[#This Row],[Kursustype]]=valgliste!$D$3,1,2)*H426)","v":""},null,{"$f":"IF(J426=\"\",\"\",IF(Tabel1[[#This Row],[Kursustype]]=valgliste!$D$3,1,2)*J426)","v":""}]
[null,null,null,null,null,null,null,null,{"$f":"IF(H427=\"\",\"\",IF(Tabel1[[#This Row],[Kursustype]]=valgliste!$D$3,1,2)*H427)","v":""},null,{"$f":"IF(J427=\"\",\"\",IF(Tabel1[[#This Row],[Kursustype]]=valgliste!$D$3,1,2)*J427)","v":""}]
[null,null,null,null,null,null,null,null,{"$f":"IF(H428=\"\",\"\",IF(Tabel1[[#This Row],[Kursustype]]=valgliste!$D$3,1,2)*H428)","v":""},null,{"$f":"IF(J428=\"\",\"\",IF(Tabel1[[#This Row],[Kursustype]]=valgliste!$D$3,1,2)*J428)","v":""}]
[null,null,null,null,null,null,null,null,{"$f":"IF(H429=\"\",\"\",IF(Tabel1[[#This Row],[Kursustype]]=valgliste!$D$3,1,2)*H429)","v":""},null,{"$f":"IF(J429=\"\",\"\",IF(Tabel1[[#This Row],[Kursustype]]=valgliste!$D$3,1,2)*J429)","v":""}]
[null,null,null,null,null,null,null,null,{"$f":"IF(H430=\"\",\"\",IF(Tabel1[[#This Row],[Kursustype]]=valgliste!$D$3,1,2)*H430)","v":""},null,{"$f":"IF(J430=\"\",\"\",IF(Tabel1[[#This Row],[Kursustype]]=valgliste!$D$3,1,2)*J430)","v":""}]
[null,null,null,null,null,null,null,null,{"$f":"IF(H431=\"\",\"\",IF(Tabel1[[#This Row],[Kursustype]]=valgliste!$D$3,1,2)*H431)","v":""},null,{"$f":"IF(J431=\"\",\"\",IF(Tabel1[[#This Row],[Kursustype]]=valgliste!$D$3,1,2)*J431)","v":""}]
[null,null,null,null,null,null,null,null,{"$f":"IF(H432=\"\",\"\",IF(Tabel1[[#This Row],[Kursustype]]=valgliste!$D$3,1,2)*H432)","v":""},null,{"$f":"IF(J432=\"\",\"\",IF(Tabel1[[#This Row],[Kursustype]]=valgliste!$D$3,1,2)*J432)","v":""}]
[null,null,null,null,null,null,null,null,{"$f":"IF(H433=\"\",\"\",IF(Tabel1[[#This Row],[Kursustype]]=valgliste!$D$3,1,2)*H433)","v":""},null,{"$f":"IF(J433=\"\",\"\",IF(Tabel1[[#This Row],[Kursustype]]=valgliste!$D$3,1,2)*J433)","v":""}]
[null,null,null,null,null,null,null,null,{"$f":"IF(H434=\"\",\"\",IF(Tabel1[[#This Row],[Kursustype]]=valgliste!$D$3,1,2)*H434)","v":""},null,{"$f":"IF(J434=\"\",\"\",IF(Tabel1[[#This Row],[Kursustype]]=valgliste!$D$3,1,2)*J434)","v":""}]
[null,null,null,null,null,null,null,null,{"$f":"IF(H435=\"\",\"\",IF(Tabel1[[#This Row],[Kursustype]]=valgliste!$D$3,1,2)*H435)","v":""},null,{"$f":"IF(J435=\"\",\"\",IF(Tabel1[[#This Row],[Kursustype]]=valgliste!$D$3,1,2)*J435)","v":""}]
[null,null,null,null,null,null,null,null,{"$f":"IF(H436=\"\",\"\",IF(Tabel1[[#This Row],[Kursustype]]=valgliste!$D$3,1,2)*H436)","v":""},null,{"$f":"IF(J436=\"\",\"\",IF(Tabel1[[#This Row],[Kursustype]]=valgliste!$D$3,1,2)*J436)","v":""}]
[null,null,null,null,null,null,null,null,{"$f":"IF(H437=\"\",\"\",IF(Tabel1[[#This Row],[Kursustype]]=valgliste!$D$3,1,2)*H437)","v":""},null,{"$f":"IF(J437=\"\",\"\",IF(Tabel1[[#This Row],[Kursustype]]=valgliste!$D$3,1,2)*J437)","v":""}]
[null,null,null,null,null,null,null,null,{"$f":"IF(H438=\"\",\"\",IF(Tabel1[[#This Row],[Kursustype]]=valgliste!$D$3,1,2)*H438)","v":""},null,{"$f":"IF(J438=\"\",\"\",IF(Tabel1[[#This Row],[Kursustype]]=valgliste!$D$3,1,2)*J438)","v":""}]
[null,null,null,null,null,null,null,null,{"$f":"IF(H439=\"\",\"\",IF(Tabel1[[#This Row],[Kursustype]]=valgliste!$D$3,1,2)*H439)","v":""},null,{"$f":"IF(J439=\"\",\"\",IF(Tabel1[[#This Row],[Kursustype]]=valgliste!$D$3,1,2)*J439)","v":""}]
[null,null,null,null,null,null,null,null,{"$f":"IF(H440=\"\",\"\",IF(Tabel1[[#This Row],[Kursustype]]=valgliste!$D$3,1,2)*H440)","v":""},null,{"$f":"IF(J440=\"\",\"\",IF(Tabel1[[#This Row],[Kursustype]]=valgliste!$D$3,1,2)*J440)","v":""}]
[null,null,null,null,null,null,null,null,{"$f":"IF(H441=\"\",\"\",IF(Tabel1[[#This Row],[Kursustype]]=valgliste!$D$3,1,2)*H441)","v":""},null,{"$f":"IF(J441=\"\",\"\",IF(Tabel1[[#This Row],[Kursustype]]=valgliste!$D$3,1,2)*J441)","v":""}]
[null,null,null,null,null,null,null,null,{"$f":"IF(H442=\"\",\"\",IF(Tabel1[[#This Row],[Kursustype]]=valgliste!$D$3,1,2)*H442)","v":""},null,{"$f":"IF(J442=\"\",\"\",IF(Tabel1[[#This Row],[Kursustype]]=valgliste!$D$3,1,2)*J442)","v":""}]
[null,null,null,null,null,null,null,null,{"$f":"IF(H443=\"\",\"\",IF(Tabel1[[#This Row],[Kursustype]]=valgliste!$D$3,1,2)*H443)","v":""},null,{"$f":"IF(J443=\"\",\"\",IF(Tabel1[[#This Row],[Kursustype]]=valgliste!$D$3,1,2)*J443)","v":""}]
[null,null,null,null,null,null,null,null,{"$f":"IF(H444=\"\",\"\",IF(Tabel1[[#This Row],[Kursustype]]=valgliste!$D$3,1,2)*H444)","v":""},null,{"$f":"IF(J444=\"\",\"\",IF(Tabel1[[#This Row],[Kursustype]]=valgliste!$D$3,1,2)*J444)","v":""}]
[null,null,null,null,null,null,null,null,{"$f":"IF(H445=\"\",\"\",IF(Tabel1[[#This Row],[Kursustype]]=valgliste!$D$3,1,2)*H445)","v":""},null,{"$f":"IF(J445=\"\",\"\",IF(Tabel1[[#This Row],[Kursustype]]=valgliste!$D$3,1,2)*J445)","v":""}]
[null,null,null,null,null,null,null,null,{"$f":"IF(H446=\"\",\"\",IF(Tabel1[[#This Row],[Kursustype]]=valgliste!$D$3,1,2)*H446)","v":""},null,{"$f":"IF(J446=\"\",\"\",IF(Tabel1[[#This Row],[Kursustype]]=valgliste!$D$3,1,2)*J446)","v":""}]
[null,null,null,null,null,null,null,null,{"$f":"IF(H447=\"\",\"\",IF(Tabel1[[#This Row],[Kursustype]]=valgliste!$D$3,1,2)*H447)","v":""},null,{"$f":"IF(J447=\"\",\"\",IF(Tabel1[[#This Row],[Kursustype]]=valgliste!$D$3,1,2)*J447)","v":""}]
[null,null,null,null,null,null,null,null,{"$f":"IF(H448=\"\",\"\",IF(Tabel1[[#This Row],[Kursustype]]=valgliste!$D$3,1,2)*H448)","v":""},null,{"$f":"IF(J448=\"\",\"\",IF(Tabel1[[#This Row],[Kursustype]]=valgliste!$D$3,1,2)*J448)","v":""}]
[null,null,null,null,null,null,null,null,{"$f":"IF(H449=\"\",\"\",IF(Tabel1[[#This Row],[Kursustype]]=valgliste!$D$3,1,2)*H449)","v":""},null,{"$f":"IF(J449=\"\",\"\",IF(Tabel1[[#This Row],[Kursustype]]=valgliste!$D$3,1,2)*J449)","v":""}]
[null,null,null,null,null,null,null,null,{"$f":"IF(H450=\"\",\"\",IF(Tabel1[[#This Row],[Kursustype]]=valgliste!$D$3,1,2)*H450)","v":""},null,{"$f":"IF(J450=\"\",\"\",IF(Tabel1[[#This Row],[Kursustype]]=valgliste!$D$3,1,2)*J450)","v":""}]
[null,null,null,null,null,null,null,null,{"$f":"IF(H451=\"\",\"\",IF(Tabel1[[#This Row],[Kursustype]]=valgliste!$D$3,1,2)*H451)","v":""},null,{"$f":"IF(J451=\"\",\"\",IF(Tabel1[[#This Row],[Kursustype]]=valgliste!$D$3,1,2)*J451)","v":""}]
[null,null,null,null,null,null,null,null,{"$f":"IF(H452=\"\",\"\",IF(Tabel1[[#This Row],[Kursustype]]=valgliste!$D$3,1,2)*H452)","v":""},null,{"$f":"IF(J452=\"\",\"\",IF(Tabel1[[#This Row],[Kursustype]]=valgliste!$D$3,1,2)*J452)","v":""}]
[null,null,null,null,null,null,null,null,{"$f":"IF(H453=\"\",\"\",IF(Tabel1[[#This Row],[Kursustype]]=valgliste!$D$3,1,2)*H453)","v":""},null,{"$f":"IF(J453=\"\",\"\",IF(Tabel1[[#This Row],[Kursustype]]=valgliste!$D$3,1,2)*J453)","v":""}]
[null,null,null,null,null,null,null,null,{"$f":"IF(H454=\"\",\"\",IF(Tabel1[[#This Row],[Kursustype]]=valgliste!$D$3,1,2)*H454)","v":""},null,{"$f":"IF(J454=\"\",\"\",IF(Tabel1[[#This Row],[Kursustype]]=valgliste!$D$3,1,2)*J454)","v":""}]
[null,null,null,null,null,null,null,null,{"$f":"IF(H455=\"\",\"\",IF(Tabel1[[#This Row],[Kursustype]]=valgliste!$D$3,1,2)*H455)","v":""},null,{"$f":"IF(J455=\"\",\"\",IF(Tabel1[[#This Row],[Kursustype]]=valgliste!$D$3,1,2)*J455)","v":""}]
[null,null,null,null,null,null,null,null,{"$f":"IF(H456=\"\",\"\",IF(Tabel1[[#This Row],[Kursustype]]=valgliste!$D$3,1,2)*H456)","v":""},null,{"$f":"IF(J456=\"\",\"\",IF(Tabel1[[#This Row],[Kursustype]]=valgliste!$D$3,1,2)*J456)","v":""}]
[null,null,null,null,null,null,null,null,{"$f":"IF(H457=\"\",\"\",IF(Tabel1[[#This Row],[Kursustype]]=valgliste!$D$3,1,2)*H457)","v":""},null,{"$f":"IF(J457=\"\",\"\",IF(Tabel1[[#This Row],[Kursustype]]=valgliste!$D$3,1,2)*J457)","v":""}]
[null,null,null,null,null,null,null,null,{"$f":"IF(H458=\"\",\"\",IF(Tabel1[[#This Row],[Kursustype]]=valgliste!$D$3,1,2)*H458)","v":""},null,{"$f":"IF(J458=\"\",\"\",IF(Tabel1[[#This Row],[Kursustype]]=valgliste!$D$3,1,2)*J458)","v":""}]
[null,null,null,null,null,null,null,null,{"$f":"IF(H459=\"\",\"\",IF(Tabel1[[#This Row],[Kursustype]]=valgliste!$D$3,1,2)*H459)","v":""},null,{"$f":"IF(J459=\"\",\"\",IF(Tabel1[[#This Row],[Kursustype]]=valgliste!$D$3,1,2)*J459)","v":""}]
[null,null,null,null,null,null,null,null,{"$f":"IF(H460=\"\",\"\",IF(Tabel1[[#This Row],[Kursustype]]=valgliste!$D$3,1,2)*H460)","v":""},null,{"$f":"IF(J460=\"\",\"\",IF(Tabel1[[#This Row],[Kursustype]]=valgliste!$D$3,1,2)*J460)","v":""}]
[null,null,null,null,null,null,null,null,{"$f":"IF(H461=\"\",\"\",IF(Tabel1[[#This Row],[Kursustype]]=valgliste!$D$3,1,2)*H461)","v":""},null,{"$f":"IF(J461=\"\",\"\",IF(Tabel1[[#This Row],[Kursustype]]=valgliste!$D$3,1,2)*J461)","v":""}]
[null,null,null,null,null,null,null,null,{"$f":"IF(H462=\"\",\"\",IF(Tabel1[[#This Row],[Kursustype]]=valgliste!$D$3,1,2)*H462)","v":""},null,{"$f":"IF(J462=\"\",\"\",IF(Tabel1[[#This Row],[Kursustype]]=valgliste!$D$3,1,2)*J462)","v":""}]
[null,null,null,null,null,null,null,null,{"$f":"IF(H463=\"\",\"\",IF(Tabel1[[#This Row],[Kursustype]]=valgliste!$D$3,1,2)*H463)","v":""},null,{"$f":"IF(J463=\"\",\"\",IF(Tabel1[[#This Row],[Kursustype]]=valgliste!$D$3,1,2)*J463)","v":""}]
[null,null,null,null,null,null,null,null,{"$f":"IF(H464=\"\",\"\",IF(Tabel1[[#This Row],[Kursustype]]=valgliste!$D$3,1,2)*H464)","v":""},null,{"$f":"IF(J464=\"\",\"\",IF(Tabel1[[#This Row],[Kursustype]]=valgliste!$D$3,1,2)*J464)","v":""}]
[null,null,null,null,null,null,null,null,{"$f":"IF(H465=\"\",\"\",IF(Tabel1[[#This Row],[Kursustype]]=valgliste!$D$3,1,2)*H465)","v":""},null,{"$f":"IF(J465=\"\",\"\",IF(Tabel1[[#This Row],[Kursustype]]=valgliste!$D$3,1,2)*J465)","v":""}]
[null,null,null,null,null,null,null,null,{"$f":"IF(H466=\"\",\"\",IF(Tabel1[[#This Row],[Kursustype]]=valgliste!$D$3,1,2)*H466)","v":""},null,{"$f":"IF(J466=\"\",\"\",IF(Tabel1[[#This Row],[Kursustype]]=valgliste!$D$3,1,2)*J466)","v":""}]
[null,null,null,null,null,null,null,null,{"$f":"IF(H467=\"\",\"\",IF(Tabel1[[#This Row],[Kursustype]]=valgliste!$D$3,1,2)*H467)","v":""},null,{"$f":"IF(J467=\"\",\"\",IF(Tabel1[[#This Row],[Kursustype]]=valgliste!$D$3,1,2)*J467)","v":""}]
[null,null,null,null,null,null,null,null,{"$f":"IF(H468=\"\",\"\",IF(Tabel1[[#This Row],[Kursustype]]=valgliste!$D$3,1,2)*H468)","v":""},null,{"$f":"IF(J468=\"\",\"\",IF(Tabel1[[#This Row],[Kursustype]]=valgliste!$D$3,1,2)*J468)","v":""}]
[null,null,null,null,null,null,null,null,{"$f":"IF(H469=\"\",\"\",IF(Tabel1[[#This Row],[Kursustype]]=valgliste!$D$3,1,2)*H469)","v":""},null,{"$f":"IF(J469=\"\",\"\",IF(Tabel1[[#This Row],[Kursustype]]=valgliste!$D$3,1,2)*J469)","v":""}]
[null,null,null,null,null,null,null,null,{"$f":"IF(H470=\"\",\"\",IF(Tabel1[[#This Row],[Kursustype]]=valgliste!$D$3,1,2)*H470)","v":""},null,{"$f":"IF(J470=\"\",\"\",IF(Tabel1[[#This Row],[Kursustype]]=valgliste!$D$3,1,2)*J470)","v":""}]
[null,null,null,null,null,null,null,null,{"$f":"IF(H471=\"\",\"\",IF(Tabel1[[#This Row],[Kursustype]]=valgliste!$D$3,1,2)*H471)","v":""},null,{"$f":"IF(J471=\"\",\"\",IF(Tabel1[[#This Row],[Kursustype]]=valgliste!$D$3,1,2)*J471)","v":""}]
[null,null,null,null,null,null,null,null,{"$f":"IF(H472=\"\",\"\",IF(Tabel1[[#This Row],[Kursustype]]=valgliste!$D$3,1,2)*H472)","v":""},null,{"$f":"IF(J472=\"\",\"\",IF(Tabel1[[#This Row],[Kursustype]]=valgliste!$D$3,1,2)*J472)","v":""}]
[null,null,null,null,null,null,null,null,{"$f":"IF(H473=\"\",\"\",IF(Tabel1[[#This Row],[Kursustype]]=valgliste!$D$3,1,2)*H473)","v":""},null,{"$f":"IF(J473=\"\",\"\",IF(Tabel1[[#This Row],[Kursustype]]=valgliste!$D$3,1,2)*J473)","v":""}]
[null,null,null,null,null,null,null,null,{"$f":"IF(H474=\"\",\"\",IF(Tabel1[[#This Row],[Kursustype]]=valgliste!$D$3,1,2)*H474)","v":""},null,{"$f":"IF(J474=\"\",\"\",IF(Tabel1[[#This Row],[Kursustype]]=valgliste!$D$3,1,2)*J474)","v":""}]
[null,null,null,null,null,null,null,null,{"$f":"IF(H475=\"\",\"\",IF(Tabel1[[#This Row],[Kursustype]]=valgliste!$D$3,1,2)*H475)","v":""},null,{"$f":"IF(J475=\"\",\"\",IF(Tabel1[[#This Row],[Kursustype]]=valgliste!$D$3,1,2)*J475)","v":""}]
[null,null,null,null,null,null,null,null,{"$f":"IF(H476=\"\",\"\",IF(Tabel1[[#This Row],[Kursustype]]=valgliste!$D$3,1,2)*H476)","v":""},null,{"$f":"IF(J476=\"\",\"\",IF(Tabel1[[#This Row],[Kursustype]]=valgliste!$D$3,1,2)*J476)","v":""}]
[null,null,null,null,null,null,null,null,{"$f":"IF(H477=\"\",\"\",IF(Tabel1[[#This Row],[Kursustype]]=valgliste!$D$3,1,2)*H477)","v":""},null,{"$f":"IF(J477=\"\",\"\",IF(Tabel1[[#This Row],[Kursustype]]=valgliste!$D$3,1,2)*J477)","v":""}]
[null,null,null,null,null,null,null,null,{"$f":"IF(H478=\"\",\"\",IF(Tabel1[[#This Row],[Kursustype]]=valgliste!$D$3,1,2)*H478)","v":""},null,{"$f":"IF(J478=\"\",\"\",IF(Tabel1[[#This Row],[Kursustype]]=valgliste!$D$3,1,2)*J478)","v":""}]
[null,null,null,null,null,null,null,null,{"$f":"IF(H479=\"\",\"\",IF(Tabel1[[#This Row],[Kursustype]]=valgliste!$D$3,1,2)*H479)","v":""},null,{"$f":"IF(J479=\"\",\"\",IF(Tabel1[[#This Row],[Kursustype]]=valgliste!$D$3,1,2)*J479)","v":""}]
[null,null,null,null,null,null,null,null,{"$f":"IF(H480=\"\",\"\",IF(Tabel1[[#This Row],[Kursustype]]=valgliste!$D$3,1,2)*H480)","v":""},null,{"$f":"IF(J480=\"\",\"\",IF(Tabel1[[#This Row],[Kursustype]]=valgliste!$D$3,1,2)*J480)","v":""}]
[null,null,null,null,null,null,null,null,{"$f":"IF(H481=\"\",\"\",IF(Tabel1[[#This Row],[Kursustype]]=valgliste!$D$3,1,2)*H481)","v":""},null,{"$f":"IF(J481=\"\",\"\",IF(Tabel1[[#This Row],[Kursustype]]=valgliste!$D$3,1,2)*J481)","v":""}]
[null,null,null,null,null,null,null,null,{"$f":"IF(H482=\"\",\"\",IF(Tabel1[[#This Row],[Kursustype]]=valgliste!$D$3,1,2)*H482)","v":""},null,{"$f":"IF(J482=\"\",\"\",IF(Tabel1[[#This Row],[Kursustype]]=valgliste!$D$3,1,2)*J482)","v":""}]
[null,null,null,null,null,null,null,null,{"$f":"IF(H483=\"\",\"\",IF(Tabel1[[#This Row],[Kursustype]]=valgliste!$D$3,1,2)*H483)","v":""},null,{"$f":"IF(J483=\"\",\"\",IF(Tabel1[[#This Row],[Kursustype]]=valgliste!$D$3,1,2)*J483)","v":""}]
[null,null,null,null,null,null,null,null,{"$f":"IF(H484=\"\",\"\",IF(Tabel1[[#This Row],[Kursustype]]=valgliste!$D$3,1,2)*H484)","v":""},null,{"$f":"IF(J484=\"\",\"\",IF(Tabel1[[#This Row],[Kursustype]]=valgliste!$D$3,1,2)*J484)","v":""}]
[null,null,null,null,null,null,null,null,{"$f":"IF(H485=\"\",\"\",IF(Tabel1[[#This Row],[Kursustype]]=valgliste!$D$3,1,2)*H485)","v":""},null,{"$f":"IF(J485=\"\",\"\",IF(Tabel1[[#This Row],[Kursustype]]=valgliste!$D$3,1,2)*J485)","v":""}]
[null,null,null,null,null,null,null,null,{"$f":"IF(H486=\"\",\"\",IF(Tabel1[[#This Row],[Kursustype]]=valgliste!$D$3,1,2)*H486)","v":""},null,{"$f":"IF(J486=\"\",\"\",IF(Tabel1[[#This Row],[Kursustype]]=valgliste!$D$3,1,2)*J486)","v":""}]
[null,null,null,null,null,null,null,null,{"$f":"IF(H487=\"\",\"\",IF(Tabel1[[#This Row],[Kursustype]]=valgliste!$D$3,1,2)*H487)","v":""},null,{"$f":"IF(J487=\"\",\"\",IF(Tabel1[[#This Row],[Kursustype]]=valgliste!$D$3,1,2)*J487)","v":""}]
[null,null,null,null,null,null,null,null,{"$f":"IF(H488=\"\",\"\",IF(Tabel1[[#This Row],[Kursustype]]=valgliste!$D$3,1,2)*H488)","v":""},null,{"$f":"IF(J488=\"\",\"\",IF(Tabel1[[#This Row],[Kursustype]]=valgliste!$D$3,1,2)*J488)","v":""}]
[null,null,null,null,null,null,null,null,{"$f":"IF(H489=\"\",\"\",IF(Tabel1[[#This Row],[Kursustype]]=valgliste!$D$3,1,2)*H489)","v":""},null,{"$f":"IF(J489=\"\",\"\",IF(Tabel1[[#This Row],[Kursustype]]=valgliste!$D$3,1,2)*J489)","v":""}]
[null,null,null,null,null,null,null,null,{"$f":"IF(H490=\"\",\"\",IF(Tabel1[[#This Row],[Kursustype]]=valgliste!$D$3,1,2)*H490)","v":""},null,{"$f":"IF(J490=\"\",\"\",IF(Tabel1[[#This Row],[Kursustype]]=valgliste!$D$3,1,2)*J490)","v":""}]
[null,null,null,null,null,null,null,null,{"$f":"IF(H491=\"\",\"\",IF(Tabel1[[#This Row],[Kursustype]]=valgliste!$D$3,1,2)*H491)","v":""},null,{"$f":"IF(J491=\"\",\"\",IF(Tabel1[[#This Row],[Kursustype]]=valgliste!$D$3,1,2)*J491)","v":""}]
[null,null,null,null,null,null,null,null,{"$f":"IF(H492=\"\",\"\",IF(Tabel1[[#This Row],[Kursustype]]=valgliste!$D$3,1,2)*H492)","v":""},null,{"$f":"IF(J492=\"\",\"\",IF(Tabel1[[#This Row],[Kursustype]]=valgliste!$D$3,1,2)*J492)","v":""}]
[null,null,null,null,null,null,null,null,{"$f":"IF(H493=\"\",\"\",IF(Tabel1[[#This Row],[Kursustype]]=valgliste!$D$3,1,2)*H493)","v":""},null,{"$f":"IF(J493=\"\",\"\",IF(Tabel1[[#This Row],[Kursustype]]=valgliste!$D$3,1,2)*J493)","v":""}]
[null,null,null,null,null,null,null,null,{"$f":"IF(H494=\"\",\"\",IF(Tabel1[[#This Row],[Kursustype]]=valgliste!$D$3,1,2)*H494)","v":""},null,{"$f":"IF(J494=\"\",\"\",IF(Tabel1[[#This Row],[Kursustype]]=valgliste!$D$3,1,2)*J494)","v":""}]
[null,null,null,null,null,null,null,null,{"$f":"IF(H495=\"\",\"\",IF(Tabel1[[#This Row],[Kursustype]]=valgliste!$D$3,1,2)*H495)","v":""},null,{"$f":"IF(J495=\"\",\"\",IF(Tabel1[[#This Row],[Kursustype]]=valgliste!$D$3,1,2)*J495)","v":""}]
[null,null,null,null,null,null,null,null,{"$f":"IF(H496=\"\",\"\",IF(Tabel1[[#This Row],[Kursustype]]=valgliste!$D$3,1,2)*H496)","v":""},null,{"$f":"IF(J496=\"\",\"\",IF(Tabel1[[#This Row],[Kursustype]]=valgliste!$D$3,1,2)*J496)","v":""}]
[null,null,null,null,null,null,null,null,{"$f":"IF(H497=\"\",\"\",IF(Tabel1[[#This Row],[Kursustype]]=valgliste!$D$3,1,2)*H497)","v":""},null,{"$f":"IF(J497=\"\",\"\",IF(Tabel1[[#This Row],[Kursustype]]=valgliste!$D$3,1,2)*J497)","v":""}]
[null,null,null,null,null,null,null,null,{"$f":"IF(H498=\"\",\"\",IF(Tabel1[[#This Row],[Kursustype]]=valgliste!$D$3,1,2)*H498)","v":""},null,{"$f":"IF(J498=\"\",\"\",IF(Tabel1[[#This Row],[Kursustype]]=valgliste!$D$3,1,2)*J498)","v":""}]
[null,null,null,null,null,null,null,null,{"$f":"IF(H499=\"\",\"\",IF(Tabel1[[#This Row],[Kursustype]]=valgliste!$D$3,1,2)*H499)","v":""},null,{"$f":"IF(J499=\"\",\"\",IF(Tabel1[[#This Row],[Kursustype]]=valgliste!$D$3,1,2)*J499)","v":""}]
[null,null,null,null,null,null,null,null,{"$f":"IF(H500=\"\",\"\",IF(Tabel1[[#This Row],[Kursustype]]=valgliste!$D$3,1,2)*H500)","v":""},null,{"$f":"IF(J500=\"\",\"\",IF(Tabel1[[#This Row],[Kursustype]]=valgliste!$D$3,1,2)*J500)","v":""}]
[null,null,null,null,null,null,null,null,{"$f":"IF(H501=\"\",\"\",IF(Tabel1[[#This Row],[Kursustype]]=valgliste!$D$3,1,2)*H501)","v":""},null,{"$f":"IF(J501=\"\",\"\",IF(Tabel1[[#This Row],[Kursustype]]=valgliste!$D$3,1,2)*J501)","v":""}]
[null,null,null,null,null,null,null,null,{"$f":"IF(H502=\"\",\"\",IF(Tabel1[[#This Row],[Kursustype]]=valgliste!$D$3,1,2)*H502)","v":""},null,{"$f":"IF(J502=\"\",\"\",IF(Tabel1[[#This Row],[Kursustype]]=valgliste!$D$3,1,2)*J502)","v":""}]
[null,null,null,null,null,null,null,null,{"$f":"IF(H503=\"\",\"\",IF(Tabel1[[#This Row],[Kursustype]]=valgliste!$D$3,1,2)*H503)","v":""},null,{"$f":"IF(J503=\"\",\"\",IF(Tabel1[[#This Row],[Kursustype]]=valgliste!$D$3,1,2)*J503)","v":""}]
[null,null,null,null,null,null,null,null,{"$f":"IF(H504=\"\",\"\",IF(Tabel1[[#This Row],[Kursustype]]=valgliste!$D$3,1,2)*H504)","v":""},null,{"$f":"IF(J504=\"\",\"\",IF(Tabel1[[#This Row],[Kursustype]]=valgliste!$D$3,1,2)*J504)","v":""}]
[null,null,null,null,null,null,null,null,{"$f":"IF(H505=\"\",\"\",IF(Tabel1[[#This Row],[Kursustype]]=valgliste!$D$3,1,2)*H505)","v":""},null,{"$f":"IF(J505=\"\",\"\",IF(Tabel1[[#This Row],[Kursustype]]=valgliste!$D$3,1,2)*J505)","v":""}]
[null,null,null,null,null,null,null,null,{"$f":"IF(H506=\"\",\"\",IF(Tabel1[[#This Row],[Kursustype]]=valgliste!$D$3,1,2)*H506)","v":""},null,{"$f":"IF(J506=\"\",\"\",IF(Tabel1[[#This Row],[Kursustype]]=valgliste!$D$3,1,2)*J506)","v":""}]
[null,null,null,null,null,null,null,null,{"$f":"IF(H507=\"\",\"\",IF(Tabel1[[#This Row],[Kursustype]]=valgliste!$D$3,1,2)*H507)","v":""},null,{"$f":"IF(J507=\"\",\"\",IF(Tabel1[[#This Row],[Kursustype]]=valgliste!$D$3,1,2)*J507)","v":""}]
[null,null,null,null,null,null,null,null,{"$f":"IF(H508=\"\",\"\",IF(Tabel1[[#This Row],[Kursustype]]=valgliste!$D$3,1,2)*H508)","v":""},null,{"$f":"IF(J508=\"\",\"\",IF(Tabel1[[#This Row],[Kursustype]]=valgliste!$D$3,1,2)*J508)","v":""}]
[null,null,null,null,null,null,null,null,{"$f":"IF(H509=\"\",\"\",IF(Tabel1[[#This Row],[Kursustype]]=valgliste!$D$3,1,2)*H509)","v":""},null,{"$f":"IF(J509=\"\",\"\",IF(Tabel1[[#This Row],[Kursustype]]=valgliste!$D$3,1,2)*J509)","v":""}]
[null,null,null,null,null,null,null,null,{"$f":"IF(H510=\"\",\"\",IF(Tabel1[[#This Row],[Kursustype]]=valgliste!$D$3,1,2)*H510)","v":""},null,{"$f":"IF(J510=\"\",\"\",IF(Tabel1[[#This Row],[Kursustype]]=valgliste!$D$3,1,2)*J510)","v":""}]
[null,null,null,null,null,null,null,null,{"$f":"IF(H511=\"\",\"\",IF(Tabel1[[#This Row],[Kursustype]]=valgliste!$D$3,1,2)*H511)","v":""},null,{"$f":"IF(J511=\"\",\"\",IF(Tabel1[[#This Row],[Kursustype]]=valgliste!$D$3,1,2)*J511)","v":""}]
[null,null,null,null,null,null,null,null,{"$f":"IF(H512=\"\",\"\",IF(Tabel1[[#This Row],[Kursustype]]=valgliste!$D$3,1,2)*H512)","v":""},null,{"$f":"IF(J512=\"\",\"\",IF(Tabel1[[#This Row],[Kursustype]]=valgliste!$D$3,1,2)*J512)","v":""}]
[null,null,null,null,null,null,null,null,{"$f":"IF(H513=\"\",\"\",IF(Tabel1[[#This Row],[Kursustype]]=valgliste!$D$3,1,2)*H513)","v":""},null,{"$f":"IF(J513=\"\",\"\",IF(Tabel1[[#This Row],[Kursustype]]=valgliste!$D$3,1,2)*J513)","v":""}]
[null,null,null,null,null,null,null,null,{"$f":"IF(H514=\"\",\"\",IF(Tabel1[[#This Row],[Kursustype]]=valgliste!$D$3,1,2)*H514)","v":""},null,{"$f":"IF(J514=\"\",\"\",IF(Tabel1[[#This Row],[Kursustype]]=valgliste!$D$3,1,2)*J514)","v":""}]
[null,null,null,null,null,null,null,null,{"$f":"IF(H515=\"\",\"\",IF(Tabel1[[#This Row],[Kursustype]]=valgliste!$D$3,1,2)*H515)","v":""},null,{"$f":"IF(J515=\"\",\"\",IF(Tabel1[[#This Row],[Kursustype]]=valgliste!$D$3,1,2)*J515)","v":""}]
[null,null,null,null,null,null,null,null,{"$f":"IF(H516=\"\",\"\",IF(Tabel1[[#This Row],[Kursustype]]=valgliste!$D$3,1,2)*H516)","v":""},null,{"$f":"IF(J516=\"\",\"\",IF(Tabel1[[#This Row],[Kursustype]]=valgliste!$D$3,1,2)*J516)","v":""}]
[null,null,null,null,null,null,null,null,{"$f":"IF(H517=\"\",\"\",IF(Tabel1[[#This Row],[Kursustype]]=valgliste!$D$3,1,2)*H517)","v":""},null,{"$f":"IF(J517=\"\",\"\",IF(Tabel1[[#This Row],[Kursustype]]=valgliste!$D$3,1,2)*J517)","v":""}]
[null,null,null,null,null,null,null,null,{"$f":"IF(H518=\"\",\"\",IF(Tabel1[[#This Row],[Kursustype]]=valgliste!$D$3,1,2)*H518)","v":""},null,{"$f":"IF(J518=\"\",\"\",IF(Tabel1[[#This Row],[Kursustype]]=valgliste!$D$3,1,2)*J518)","v":""}]
[null,null,null,null,null,null,null,null,{"$f":"IF(H519=\"\",\"\",IF(Tabel1[[#This Row],[Kursustype]]=valgliste!$D$3,1,2)*H519)","v":""},null,{"$f":"IF(J519=\"\",\"\",IF(Tabel1[[#This Row],[Kursustype]]=valgliste!$D$3,1,2)*J519)","v":""}]
[null,null,null,null,null,null,null,null,{"$f":"IF(H520=\"\",\"\",IF(Tabel1[[#This Row],[Kursustype]]=valgliste!$D$3,1,2)*H520)","v":""},null,{"$f":"IF(J520=\"\",\"\",IF(Tabel1[[#This Row],[Kursustype]]=valgliste!$D$3,1,2)*J520)","v":""}]
[null,null,null,null,null,null,null,null,{"$f":"IF(H521=\"\",\"\",IF(Tabel1[[#This Row],[Kursustype]]=valgliste!$D$3,1,2)*H521)","v":""},null,{"$f":"IF(J521=\"\",\"\",IF(Tabel1[[#This Row],[Kursustype]]=valgliste!$D$3,1,2)*J521)","v":""}]
[null,null,null,null,null,null,null,null,{"$f":"IF(H522=\"\",\"\",IF(Tabel1[[#This Row],[Kursustype]]=valgliste!$D$3,1,2)*H522)","v":""},null,{"$f":"IF(J522=\"\",\"\",IF(Tabel1[[#This Row],[Kursustype]]=valgliste!$D$3,1,2)*J522)","v":""}]
[null,null,null,null,null,null,null,null,{"$f":"IF(H523=\"\",\"\",IF(Tabel1[[#This Row],[Kursustype]]=valgliste!$D$3,1,2)*H523)","v":""},null,{"$f":"IF(J523=\"\",\"\",IF(Tabel1[[#This Row],[Kursustype]]=valgliste!$D$3,1,2)*J523)","v":""}]
[null,null,null,null,null,null,null,null,{"$f":"IF(H524=\"\",\"\",IF(Tabel1[[#This Row],[Kursustype]]=valgliste!$D$3,1,2)*H524)","v":""},null,{"$f":"IF(J524=\"\",\"\",IF(Tabel1[[#This Row],[Kursustype]]=valgliste!$D$3,1,2)*J524)","v":""}]
[null,null,null,null,null,null,null,null,{"$f":"IF(H525=\"\",\"\",IF(Tabel1[[#This Row],[Kursustype]]=valgliste!$D$3,1,2)*H525)","v":""},null,{"$f":"IF(J525=\"\",\"\",IF(Tabel1[[#This Row],[Kursustype]]=valgliste!$D$3,1,2)*J525)","v":""}]
[null,null,null,null,null,null,null,null,{"$f":"IF(H526=\"\",\"\",IF(Tabel1[[#This Row],[Kursustype]]=valgliste!$D$3,1,2)*H526)","v":""},null,{"$f":"IF(J526=\"\",\"\",IF(Tabel1[[#This Row],[Kursustype]]=valgliste!$D$3,1,2)*J526)","v":""}]
[null,null,null,null,null,null,null,null,{"$f":"IF(H527=\"\",\"\",IF(Tabel1[[#This Row],[Kursustype]]=valgliste!$D$3,1,2)*H527)","v":""},null,{"$f":"IF(J527=\"\",\"\",IF(Tabel1[[#This Row],[Kursustype]]=valgliste!$D$3,1,2)*J527)","v":""}]
[null,null,null,null,null,null,null,null,{"$f":"IF(H528=\"\",\"\",IF(Tabel1[[#This Row],[Kursustype]]=valgliste!$D$3,1,2)*H528)","v":""},null,{"$f":"IF(J528=\"\",\"\",IF(Tabel1[[#This Row],[Kursustype]]=valgliste!$D$3,1,2)*J528)","v":""}]
[null,null,null,null,null,null,null,null,{"$f":"IF(H529=\"\",\"\",IF(Tabel1[[#This Row],[Kursustype]]=valgliste!$D$3,1,2)*H529)","v":""},null,{"$f":"IF(J529=\"\",\"\",IF(Tabel1[[#This Row],[Kursustype]]=valgliste!$D$3,1,2)*J529)","v":""}]
[null,null,null,null,null,null,null,null,{"$f":"IF(H530=\"\",\"\",IF(Tabel1[[#This Row],[Kursustype]]=valgliste!$D$3,1,2)*H530)","v":""},null,{"$f":"IF(J530=\"\",\"\",IF(Tabel1[[#This Row],[Kursustype]]=valgliste!$D$3,1,2)*J530)","v":""}]
[null,null,null,null,null,null,null,null,{"$f":"IF(H531=\"\",\"\",IF(Tabel1[[#This Row],[Kursustype]]=valgliste!$D$3,1,2)*H531)","v":""},null,{"$f":"IF(J531=\"\",\"\",IF(Tabel1[[#This Row],[Kursustype]]=valgliste!$D$3,1,2)*J531)","v":""}]
[null,null,null,null,null,null,null,null,{"$f":"IF(H532=\"\",\"\",IF(Tabel1[[#This Row],[Kursustype]]=valgliste!$D$3,1,2)*H532)","v":""},null,{"$f":"IF(J532=\"\",\"\",IF(Tabel1[[#This Row],[Kursustype]]=valgliste!$D$3,1,2)*J532)","v":""}]
[null,null,null,null,null,null,null,null,{"$f":"IF(H533=\"\",\"\",IF(Tabel1[[#This Row],[Kursustype]]=valgliste!$D$3,1,2)*H533)","v":""},null,{"$f":"IF(J533=\"\",\"\",IF(Tabel1[[#This Row],[Kursustype]]=valgliste!$D$3,1,2)*J533)","v":""}]
[null,null,null,null,null,null,null,null,{"$f":"IF(H534=\"\",\"\",IF(Tabel1[[#This Row],[Kursustype]]=valgliste!$D$3,1,2)*H534)","v":""},null,{"$f":"IF(J534=\"\",\"\",IF(Tabel1[[#This Row],[Kursustype]]=valgliste!$D$3,1,2)*J534)","v":""}]
[null,null,null,null,null,null,null,null,{"$f":"IF(H535=\"\",\"\",IF(Tabel1[[#This Row],[Kursustype]]=valgliste!$D$3,1,2)*H535)","v":""},null,{"$f":"IF(J535=\"\",\"\",IF(Tabel1[[#This Row],[Kursustype]]=valgliste!$D$3,1,2)*J535)","v":""}]
[null,null,null,null,null,null,null,null,{"$f":"IF(H536=\"\",\"\",IF(Tabel1[[#This Row],[Kursustype]]=valgliste!$D$3,1,2)*H536)","v":""},null,{"$f":"IF(J536=\"\",\"\",IF(Tabel1[[#This Row],[Kursustype]]=valgliste!$D$3,1,2)*J536)","v":""}]
[null,null,null,null,null,null,null,null,{"$f":"IF(H537=\"\",\"\",IF(Tabel1[[#This Row],[Kursustype]]=valgliste!$D$3,1,2)*H537)","v":""},null,{"$f":"IF(J537=\"\",\"\",IF(Tabel1[[#This Row],[Kursustype]]=valgliste!$D$3,1,2)*J537)","v":""}]
[null,null,null,null,null,null,null,null,{"$f":"IF(H538=\"\",\"\",IF(Tabel1[[#This Row],[Kursustype]]=valgliste!$D$3,1,2)*H538)","v":""},null,{"$f":"IF(J538=\"\",\"\",IF(Tabel1[[#This Row],[Kursustype]]=valgliste!$D$3,1,2)*J538)","v":""}]
[null,null,null,null,null,null,null,null,{"$f":"IF(H539=\"\",\"\",IF(Tabel1[[#This Row],[Kursustype]]=valgliste!$D$3,1,2)*H539)","v":""},null,{"$f":"IF(J539=\"\",\"\",IF(Tabel1[[#This Row],[Kursustype]]=valgliste!$D$3,1,2)*J539)","v":""}]
[null,null,null,null,null,null,null,null,{"$f":"IF(H540=\"\",\"\",IF(Tabel1[[#This Row],[Kursustype]]=valgliste!$D$3,1,2)*H540)","v":""},null,{"$f":"IF(J540=\"\",\"\",IF(Tabel1[[#This Row],[Kursustype]]=valgliste!$D$3,1,2)*J540)","v":""}]
[null,null,null,null,null,null,null,null,{"$f":"IF(H541=\"\",\"\",IF(Tabel1[[#This Row],[Kursustype]]=valgliste!$D$3,1,2)*H541)","v":""},null,{"$f":"IF(J541=\"\",\"\",IF(Tabel1[[#This Row],[Kursustype]]=valgliste!$D$3,1,2)*J541)","v":""}]
[null,null,null,null,null,null,null,null,{"$f":"IF(H542=\"\",\"\",IF(Tabel1[[#This Row],[Kursustype]]=valgliste!$D$3,1,2)*H542)","v":""},null,{"$f":"IF(J542=\"\",\"\",IF(Tabel1[[#This Row],[Kursustype]]=valgliste!$D$3,1,2)*J542)","v":""}]
[null,null,null,null,null,null,null,null,{"$f":"IF(H543=\"\",\"\",IF(Tabel1[[#This Row],[Kursustype]]=valgliste!$D$3,1,2)*H543)","v":""},null,{"$f":"IF(J543=\"\",\"\",IF(Tabel1[[#This Row],[Kursustype]]=valgliste!$D$3,1,2)*J543)","v":""}]
[null,null,null,null,null,null,null,null,{"$f":"IF(H544=\"\",\"\",IF(Tabel1[[#This Row],[Kursustype]]=valgliste!$D$3,1,2)*H544)","v":""},null,{"$f":"IF(J544=\"\",\"\",IF(Tabel1[[#This Row],[Kursustype]]=valgliste!$D$3,1,2)*J544)","v":""}]
[null,null,null,null,null,null,null,null,{"$f":"IF(H545=\"\",\"\",IF(Tabel1[[#This Row],[Kursustype]]=valgliste!$D$3,1,2)*H545)","v":""},null,{"$f":"IF(J545=\"\",\"\",IF(Tabel1[[#This Row],[Kursustype]]=valgliste!$D$3,1,2)*J545)","v":""}]
[null,null,null,null,null,null,null,null,{"$f":"IF(H546=\"\",\"\",IF(Tabel1[[#This Row],[Kursustype]]=valgliste!$D$3,1,2)*H546)","v":""},null,{"$f":"IF(J546=\"\",\"\",IF(Tabel1[[#This Row],[Kursustype]]=valgliste!$D$3,1,2)*J546)","v":""}]
[null,null,null,null,null,null,null,null,{"$f":"IF(H547=\"\",\"\",IF(Tabel1[[#This Row],[Kursustype]]=valgliste!$D$3,1,2)*H547)","v":""},null,{"$f":"IF(J547=\"\",\"\",IF(Tabel1[[#This Row],[Kursustype]]=valgliste!$D$3,1,2)*J547)","v":""}]
[null,null,null,null,null,null,null,null,{"$f":"IF(H548=\"\",\"\",IF(Tabel1[[#This Row],[Kursustype]]=valgliste!$D$3,1,2)*H548)","v":""},null,{"$f":"IF(J548=\"\",\"\",IF(Tabel1[[#This Row],[Kursustype]]=valgliste!$D$3,1,2)*J548)","v":""}]
[null,null,null,null,null,null,null,null,{"$f":"IF(H549=\"\",\"\",IF(Tabel1[[#This Row],[Kursustype]]=valgliste!$D$3,1,2)*H549)","v":""},null,{"$f":"IF(J549=\"\",\"\",IF(Tabel1[[#This Row],[Kursustype]]=valgliste!$D$3,1,2)*J549)","v":""}]
[null,null,null,null,null,null,null,null,{"$f":"IF(H550=\"\",\"\",IF(Tabel1[[#This Row],[Kursustype]]=valgliste!$D$3,1,2)*H550)","v":""},null,{"$f":"IF(J550=\"\",\"\",IF(Tabel1[[#This Row],[Kursustype]]=valgliste!$D$3,1,2)*J550)","v":""}]
[null,null,null,null,null,null,null,null,{"$f":"IF(H551=\"\",\"\",IF(Tabel1[[#This Row],[Kursustype]]=valgliste!$D$3,1,2)*H551)","v":""},null,{"$f":"IF(J551=\"\",\"\",IF(Tabel1[[#This Row],[Kursustype]]=valgliste!$D$3,1,2)*J551)","v":""}]
[null,null,null,null,null,null,null,null,{"$f":"IF(H552=\"\",\"\",IF(Tabel1[[#This Row],[Kursustype]]=valgliste!$D$3,1,2)*H552)","v":""},null,{"$f":"IF(J552=\"\",\"\",IF(Tabel1[[#This Row],[Kursustype]]=valgliste!$D$3,1,2)*J552)","v":""}]
[null,null,null,null,null,null,null,null,{"$f":"IF(H553=\"\",\"\",IF(Tabel1[[#This Row],[Kursustype]]=valgliste!$D$3,1,2)*H553)","v":""},null,{"$f":"IF(J553=\"\",\"\",IF(Tabel1[[#This Row],[Kursustype]]=valgliste!$D$3,1,2)*J553)","v":""}]
[null,null,null,null,null,null,null,null,{"$f":"IF(H554=\"\",\"\",IF(Tabel1[[#This Row],[Kursustype]]=valgliste!$D$3,1,2)*H554)","v":""},null,{"$f":"IF(J554=\"\",\"\",IF(Tabel1[[#This Row],[Kursustype]]=valgliste!$D$3,1,2)*J554)","v":""}]
[null,null,null,null,null,null,null,null,{"$f":"IF(H555=\"\",\"\",IF(Tabel1[[#This Row],[Kursustype]]=valgliste!$D$3,1,2)*H555)","v":""},null,{"$f":"IF(J555=\"\",\"\",IF(Tabel1[[#This Row],[Kursustype]]=valgliste!$D$3,1,2)*J555)","v":""}]
[null,null,null,null,null,null,null,null,{"$f":"IF(H556=\"\",\"\",IF(Tabel1[[#This Row],[Kursustype]]=valgliste!$D$3,1,2)*H556)","v":""},null,{"$f":"IF(J556=\"\",\"\",IF(Tabel1[[#This Row],[Kursustype]]=valgliste!$D$3,1,2)*J556)","v":""}]
[null,null,null,null,null,null,null,null,{"$f":"IF(H557=\"\",\"\",IF(Tabel1[[#This Row],[Kursustype]]=valgliste!$D$3,1,2)*H557)","v":""},null,{"$f":"IF(J557=\"\",\"\",IF(Tabel1[[#This Row],[Kursustype]]=valgliste!$D$3,1,2)*J557)","v":""}]
[null,null,null,null,null,null,null,null,{"$f":"IF(H558=\"\",\"\",IF(Tabel1[[#This Row],[Kursustype]]=valgliste!$D$3,1,2)*H558)","v":""},null,{"$f":"IF(J558=\"\",\"\",IF(Tabel1[[#This Row],[Kursustype]]=valgliste!$D$3,1,2)*J558)","v":""}]
[null,null,null,null,null,null,null,null,{"$f":"IF(H559=\"\",\"\",IF(Tabel1[[#This Row],[Kursustype]]=valgliste!$D$3,1,2)*H559)","v":""},null,{"$f":"IF(J559=\"\",\"\",IF(Tabel1[[#This Row],[Kursustype]]=valgliste!$D$3,1,2)*J559)","v":""}]
[null,null,null,null,null,null,null,null,{"$f":"IF(H560=\"\",\"\",IF(Tabel1[[#This Row],[Kursustype]]=valgliste!$D$3,1,2)*H560)","v":""},null,{"$f":"IF(J560=\"\",\"\",IF(Tabel1[[#This Row],[Kursustype]]=valgliste!$D$3,1,2)*J560)","v":""}]
[null,null,null,null,null,null,null,null,{"$f":"IF(H561=\"\",\"\",IF(Tabel1[[#This Row],[Kursustype]]=valgliste!$D$3,1,2)*H561)","v":""},null,{"$f":"IF(J561=\"\",\"\",IF(Tabel1[[#This Row],[Kursustype]]=valgliste!$D$3,1,2)*J561)","v":""}]
[null,null,null,null,null,null,null,null,{"$f":"IF(H562=\"\",\"\",IF(Tabel1[[#This Row],[Kursustype]]=valgliste!$D$3,1,2)*H562)","v":""},null,{"$f":"IF(J562=\"\",\"\",IF(Tabel1[[#This Row],[Kursustype]]=valgliste!$D$3,1,2)*J562)","v":""}]
[null,null,null,null,null,null,null,null,{"$f":"IF(H563=\"\",\"\",IF(Tabel1[[#This Row],[Kursustype]]=valgliste!$D$3,1,2)*H563)","v":""},null,{"$f":"IF(J563=\"\",\"\",IF(Tabel1[[#This Row],[Kursustype]]=valgliste!$D$3,1,2)*J563)","v":""}]
[null,null,null,null,null,null,null,null,{"$f":"IF(H564=\"\",\"\",IF(Tabel1[[#This Row],[Kursustype]]=valgliste!$D$3,1,2)*H564)","v":""},null,{"$f":"IF(J564=\"\",\"\",IF(Tabel1[[#This Row],[Kursustype]]=valgliste!$D$3,1,2)*J564)","v":""}]
[null,null,null,null,null,null,null,null,{"$f":"IF(H565=\"\",\"\",IF(Tabel1[[#This Row],[Kursustype]]=valgliste!$D$3,1,2)*H565)","v":""},null,{"$f":"IF(J565=\"\",\"\",IF(Tabel1[[#This Row],[Kursustype]]=valgliste!$D$3,1,2)*J565)","v":""}]
[null,null,null,null,null,null,null,null,{"$f":"IF(H566=\"\",\"\",IF(Tabel1[[#This Row],[Kursustype]]=valgliste!$D$3,1,2)*H566)","v":""},null,{"$f":"IF(J566=\"\",\"\",IF(Tabel1[[#This Row],[Kursustype]]=valgliste!$D$3,1,2)*J566)","v":""}]
[null,null,null,null,null,null,null,null,{"$f":"IF(H567=\"\",\"\",IF(Tabel1[[#This Row],[Kursustype]]=valgliste!$D$3,1,2)*H567)","v":""},null,{"$f":"IF(J567=\"\",\"\",IF(Tabel1[[#This Row],[Kursustype]]=valgliste!$D$3,1,2)*J567)","v":""}]
[null,null,null,null,null,null,null,null,{"$f":"IF(H568=\"\",\"\",IF(Tabel1[[#This Row],[Kursustype]]=valgliste!$D$3,1,2)*H568)","v":""},null,{"$f":"IF(J568=\"\",\"\",IF(Tabel1[[#This Row],[Kursustype]]=valgliste!$D$3,1,2)*J568)","v":""}]
[null,null,null,null,null,null,null,null,{"$f":"IF(H569=\"\",\"\",IF(Tabel1[[#This Row],[Kursustype]]=valgliste!$D$3,1,2)*H569)","v":""},null,{"$f":"IF(J569=\"\",\"\",IF(Tabel1[[#This Row],[Kursustype]]=valgliste!$D$3,1,2)*J569)","v":""}]
[null,null,null,null,null,null,null,null,{"$f":"IF(H570=\"\",\"\",IF(Tabel1[[#This Row],[Kursustype]]=valgliste!$D$3,1,2)*H570)","v":""},null,{"$f":"IF(J570=\"\",\"\",IF(Tabel1[[#This Row],[Kursustype]]=valgliste!$D$3,1,2)*J570)","v":""}]
[null,null,null,null,null,null,null,null,{"$f":"IF(H571=\"\",\"\",IF(Tabel1[[#This Row],[Kursustype]]=valgliste!$D$3,1,2)*H571)","v":""},null,{"$f":"IF(J571=\"\",\"\",IF(Tabel1[[#This Row],[Kursustype]]=valgliste!$D$3,1,2)*J571)","v":""}]
[null,null,null,null,null,null,null,null,{"$f":"IF(H572=\"\",\"\",IF(Tabel1[[#This Row],[Kursustype]]=valgliste!$D$3,1,2)*H572)","v":""},null,{"$f":"IF(J572=\"\",\"\",IF(Tabel1[[#This Row],[Kursustype]]=valgliste!$D$3,1,2)*J572)","v":""}]
[null,null,null,null,null,null,null,null,{"$f":"IF(H573=\"\",\"\",IF(Tabel1[[#This Row],[Kursustype]]=valgliste!$D$3,1,2)*H573)","v":""},null,{"$f":"IF(J573=\"\",\"\",IF(Tabel1[[#This Row],[Kursustype]]=valgliste!$D$3,1,2)*J573)","v":""}]
[null,null,null,null,null,null,null,null,{"$f":"IF(H574=\"\",\"\",IF(Tabel1[[#This Row],[Kursustype]]=valgliste!$D$3,1,2)*H574)","v":""},null,{"$f":"IF(J574=\"\",\"\",IF(Tabel1[[#This Row],[Kursustype]]=valgliste!$D$3,1,2)*J574)","v":""}]
[null,null,null,null,null,null,null,null,{"$f":"IF(H575=\"\",\"\",IF(Tabel1[[#This Row],[Kursustype]]=valgliste!$D$3,1,2)*H575)","v":""},null,{"$f":"IF(J575=\"\",\"\",IF(Tabel1[[#This Row],[Kursustype]]=valgliste!$D$3,1,2)*J575)","v":""}]
[null,null,null,null,null,null,null,null,{"$f":"IF(H576=\"\",\"\",IF(Tabel1[[#This Row],[Kursustype]]=valgliste!$D$3,1,2)*H576)","v":""},null,{"$f":"IF(J576=\"\",\"\",IF(Tabel1[[#This Row],[Kursustype]]=valgliste!$D$3,1,2)*J576)","v":""}]
[null,null,null,null,null,null,null,null,{"$f":"IF(H577=\"\",\"\",IF(Tabel1[[#This Row],[Kursustype]]=valgliste!$D$3,1,2)*H577)","v":""},null,{"$f":"IF(J577=\"\",\"\",IF(Tabel1[[#This Row],[Kursustype]]=valgliste!$D$3,1,2)*J577)","v":""}]
[null,null,null,null,null,null,null,null,{"$f":"IF(H578=\"\",\"\",IF(Tabel1[[#This Row],[Kursustype]]=valgliste!$D$3,1,2)*H578)","v":""},null,{"$f":"IF(J578=\"\",\"\",IF(Tabel1[[#This Row],[Kursustype]]=valgliste!$D$3,1,2)*J578)","v":""}]
[null,null,null,null,null,null,null,null,{"$f":"IF(H579=\"\",\"\",IF(Tabel1[[#This Row],[Kursustype]]=valgliste!$D$3,1,2)*H579)","v":""},null,{"$f":"IF(J579=\"\",\"\",IF(Tabel1[[#This Row],[Kursustype]]=valgliste!$D$3,1,2)*J579)","v":""}]
[null,null,null,null,null,null,null,null,{"$f":"IF(H580=\"\",\"\",IF(Tabel1[[#This Row],[Kursustype]]=valgliste!$D$3,1,2)*H580)","v":""},null,{"$f":"IF(J580=\"\",\"\",IF(Tabel1[[#This Row],[Kursustype]]=valgliste!$D$3,1,2)*J580)","v":""}]
[null,null,null,null,null,null,null,null,{"$f":"IF(H581=\"\",\"\",IF(Tabel1[[#This Row],[Kursustype]]=valgliste!$D$3,1,2)*H581)","v":""},null,{"$f":"IF(J581=\"\",\"\",IF(Tabel1[[#This Row],[Kursustype]]=valgliste!$D$3,1,2)*J581)","v":""}]
[null,null,null,null,null,null,null,null,{"$f":"IF(H582=\"\",\"\",IF(Tabel1[[#This Row],[Kursustype]]=valgliste!$D$3,1,2)*H582)","v":""},null,{"$f":"IF(J582=\"\",\"\",IF(Tabel1[[#This Row],[Kursustype]]=valgliste!$D$3,1,2)*J582)","v":""}]
[null,null,null,null,null,null,null,null,{"$f":"IF(H583=\"\",\"\",IF(Tabel1[[#This Row],[Kursustype]]=valgliste!$D$3,1,2)*H583)","v":""},null,{"$f":"IF(J583=\"\",\"\",IF(Tabel1[[#This Row],[Kursustype]]=valgliste!$D$3,1,2)*J583)","v":""}]
[null,null,null,null,null,null,null,null,{"$f":"IF(H584=\"\",\"\",IF(Tabel1[[#This Row],[Kursustype]]=valgliste!$D$3,1,2)*H584)","v":""},null,{"$f":"IF(J584=\"\",\"\",IF(Tabel1[[#This Row],[Kursustype]]=valgliste!$D$3,1,2)*J584)","v":""}]
[null,null,null,null,null,null,null,null,{"$f":"IF(H585=\"\",\"\",IF(Tabel1[[#This Row],[Kursustype]]=valgliste!$D$3,1,2)*H585)","v":""},null,{"$f":"IF(J585=\"\",\"\",IF(Tabel1[[#This Row],[Kursustype]]=valgliste!$D$3,1,2)*J585)","v":""}]
[null,null,null,null,null,null,null,null,{"$f":"IF(H586=\"\",\"\",IF(Tabel1[[#This Row],[Kursustype]]=valgliste!$D$3,1,2)*H586)","v":""},null,{"$f":"IF(J586=\"\",\"\",IF(Tabel1[[#This Row],[Kursustype]]=valgliste!$D$3,1,2)*J586)","v":""}]
[null,null,null,null,null,null,null,null,{"$f":"IF(H587=\"\",\"\",IF(Tabel1[[#This Row],[Kursustype]]=valgliste!$D$3,1,2)*H587)","v":""},null,{"$f":"IF(J587=\"\",\"\",IF(Tabel1[[#This Row],[Kursustype]]=valgliste!$D$3,1,2)*J587)","v":""}]
[null,null,null,null,null,null,null,null,{"$f":"IF(H588=\"\",\"\",IF(Tabel1[[#This Row],[Kursustype]]=valgliste!$D$3,1,2)*H588)","v":""},null,{"$f":"IF(J588=\"\",\"\",IF(Tabel1[[#This Row],[Kursustype]]=valgliste!$D$3,1,2)*J588)","v":""}]
[null,null,null,null,null,null,null,null,{"$f":"IF(H589=\"\",\"\",IF(Tabel1[[#This Row],[Kursustype]]=valgliste!$D$3,1,2)*H589)","v":""},null,{"$f":"IF(J589=\"\",\"\",IF(Tabel1[[#This Row],[Kursustype]]=valgliste!$D$3,1,2)*J589)","v":""}]
[null,null,null,null,null,null,null,null,{"$f":"IF(H590=\"\",\"\",IF(Tabel1[[#This Row],[Kursustype]]=valgliste!$D$3,1,2)*H590)","v":""},null,{"$f":"IF(J590=\"\",\"\",IF(Tabel1[[#This Row],[Kursustype]]=valgliste!$D$3,1,2)*J590)","v":""}]
[null,null,null,null,null,null,null,null,{"$f":"IF(H591=\"\",\"\",IF(Tabel1[[#This Row],[Kursustype]]=valgliste!$D$3,1,2)*H591)","v":""},null,{"$f":"IF(J591=\"\",\"\",IF(Tabel1[[#This Row],[Kursustype]]=valgliste!$D$3,1,2)*J591)","v":""}]
[null,null,null,null,null,null,null,null,{"$f":"IF(H592=\"\",\"\",IF(Tabel1[[#This Row],[Kursustype]]=valgliste!$D$3,1,2)*H592)","v":""},null,{"$f":"IF(J592=\"\",\"\",IF(Tabel1[[#This Row],[Kursustype]]=valgliste!$D$3,1,2)*J592)","v":""}]
[null,null,null,null,null,null,null,null,{"$f":"IF(H593=\"\",\"\",IF(Tabel1[[#This Row],[Kursustype]]=valgliste!$D$3,1,2)*H593)","v":""},null,{"$f":"IF(J593=\"\",\"\",IF(Tabel1[[#This Row],[Kursustype]]=valgliste!$D$3,1,2)*J593)","v":""}]
[null,null,null,null,null,null,null,null,{"$f":"IF(H594=\"\",\"\",IF(Tabel1[[#This Row],[Kursustype]]=valgliste!$D$3,1,2)*H594)","v":""},null,{"$f":"IF(J594=\"\",\"\",IF(Tabel1[[#This Row],[Kursustype]]=valgliste!$D$3,1,2)*J594)","v":""}]
[null,null,null,null,null,null,null,null,{"$f":"IF(H595=\"\",\"\",IF(Tabel1[[#This Row],[Kursustype]]=valgliste!$D$3,1,2)*H595)","v":""},null,{"$f":"IF(J595=\"\",\"\",IF(Tabel1[[#This Row],[Kursustype]]=valgliste!$D$3,1,2)*J595)","v":""}]
[null,null,null,null,null,null,null,null,{"$f":"IF(H596=\"\",\"\",IF(Tabel1[[#This Row],[Kursustype]]=valgliste!$D$3,1,2)*H596)","v":""},null,{"$f":"IF(J596=\"\",\"\",IF(Tabel1[[#This Row],[Kursustype]]=valgliste!$D$3,1,2)*J596)","v":""}]
[null,null,null,null,null,null,null,null,{"$f":"IF(H597=\"\",\"\",IF(Tabel1[[#This Row],[Kursustype]]=valgliste!$D$3,1,2)*H597)","v":""},null,{"$f":"IF(J597=\"\",\"\",IF(Tabel1[[#This Row],[Kursustype]]=valgliste!$D$3,1,2)*J597)","v":""}]
[null,null,null,null,null,null,null,null,{"$f":"IF(H598=\"\",\"\",IF(Tabel1[[#This Row],[Kursustype]]=valgliste!$D$3,1,2)*H598)","v":""},null,{"$f":"IF(J598=\"\",\"\",IF(Tabel1[[#This Row],[Kursustype]]=valgliste!$D$3,1,2)*J598)","v":""}]
[null,null,null,null,null,null,null,null,{"$f":"IF(H599=\"\",\"\",IF(Tabel1[[#This Row],[Kursustype]]=valgliste!$D$3,1,2)*H599)","v":""},null,{"$f":"IF(J599=\"\",\"\",IF(Tabel1[[#This Row],[Kursustype]]=valgliste!$D$3,1,2)*J599)","v":""}]
[null,null,null,null,null,null,null,null,{"$f":"IF(H600=\"\",\"\",IF(Tabel1[[#This Row],[Kursustype]]=valgliste!$D$3,1,2)*H600)","v":""},null,{"$f":"IF(J600=\"\",\"\",IF(Tabel1[[#This Row],[Kursustype]]=valgliste!$D$3,1,2)*J600)","v":""}]
[null,null,null,null,null,null,null,null,{"$f":"IF(H601=\"\",\"\",IF(Tabel1[[#This Row],[Kursustype]]=valgliste!$D$3,1,2)*H601)","v":""},null,{"$f":"IF(J601=\"\",\"\",IF(Tabel1[[#This Row],[Kursustype]]=valgliste!$D$3,1,2)*J601)","v":""}]
[null,null,null,null,null,null,null,null,{"$f":"IF(H602=\"\",\"\",IF(Tabel1[[#This Row],[Kursustype]]=valgliste!$D$3,1,2)*H602)","v":""},null,{"$f":"IF(J602=\"\",\"\",IF(Tabel1[[#This Row],[Kursustype]]=valgliste!$D$3,1,2)*J602)","v":""}]
[null,null,null,null,null,null,null,null,{"$f":"IF(H603=\"\",\"\",IF(Tabel1[[#This Row],[Kursustype]]=valgliste!$D$3,1,2)*H603)","v":""},null,{"$f":"IF(J603=\"\",\"\",IF(Tabel1[[#This Row],[Kursustype]]=valgliste!$D$3,1,2)*J603)","v":""}]
[null,null,null,null,null,null,null,null,{"$f":"IF(H604=\"\",\"\",IF(Tabel1[[#This Row],[Kursustype]]=valgliste!$D$3,1,2)*H604)","v":""},null,{"$f":"IF(J604=\"\",\"\",IF(Tabel1[[#This Row],[Kursustype]]=valgliste!$D$3,1,2)*J604)","v":""}]
[null,null,null,null,null,null,null,null,{"$f":"IF(H605=\"\",\"\",IF(Tabel1[[#This Row],[Kursustype]]=valgliste!$D$3,1,2)*H605)","v":""},null,{"$f":"IF(J605=\"\",\"\",IF(Tabel1[[#This Row],[Kursustype]]=valgliste!$D$3,1,2)*J605)","v":""}]
[null,null,null,null,null,null,null,null,{"$f":"IF(H606=\"\",\"\",IF(Tabel1[[#This Row],[Kursustype]]=valgliste!$D$3,1,2)*H606)","v":""},null,{"$f":"IF(J606=\"\",\"\",IF(Tabel1[[#This Row],[Kursustype]]=valgliste!$D$3,1,2)*J606)","v":""}]
[null,null,null,null,null,null,null,null,{"$f":"IF(H607=\"\",\"\",IF(Tabel1[[#This Row],[Kursustype]]=valgliste!$D$3,1,2)*H607)","v":""},null,{"$f":"IF(J607=\"\",\"\",IF(Tabel1[[#This Row],[Kursustype]]=valgliste!$D$3,1,2)*J607)","v":""}]
[null,null,null,null,null,null,null,null,{"$f":"IF(H608=\"\",\"\",IF(Tabel1[[#This Row],[Kursustype]]=valgliste!$D$3,1,2)*H608)","v":""},null,{"$f":"IF(J608=\"\",\"\",IF(Tabel1[[#This Row],[Kursustype]]=valgliste!$D$3,1,2)*J608)","v":""}]
[null,null,null,null,null,null,null,null,{"$f":"IF(H609=\"\",\"\",IF(Tabel1[[#This Row],[Kursustype]]=valgliste!$D$3,1,2)*H609)","v":""},null,{"$f":"IF(J609=\"\",\"\",IF(Tabel1[[#This Row],[Kursustype]]=valgliste!$D$3,1,2)*J609)","v":""}]
[null,null,null,null,null,null,null,null,{"$f":"IF(H610=\"\",\"\",IF(Tabel1[[#This Row],[Kursustype]]=valgliste!$D$3,1,2)*H610)","v":""},null,{"$f":"IF(J610=\"\",\"\",IF(Tabel1[[#This Row],[Kursustype]]=valgliste!$D$3,1,2)*J610)","v":""}]
[null,null,null,null,null,null,null,null,{"$f":"IF(H611=\"\",\"\",IF(Tabel1[[#This Row],[Kursustype]]=valgliste!$D$3,1,2)*H611)","v":""},null,{"$f":"IF(J611=\"\",\"\",IF(Tabel1[[#This Row],[Kursustype]]=valgliste!$D$3,1,2)*J611)","v":""}]
[null,null,null,null,null,null,null,null,{"$f":"IF(H612=\"\",\"\",IF(Tabel1[[#This Row],[Kursustype]]=valgliste!$D$3,1,2)*H612)","v":""},null,{"$f":"IF(J612=\"\",\"\",IF(Tabel1[[#This Row],[Kursustype]]=valgliste!$D$3,1,2)*J612)","v":""}]
[null,null,null,null,null,null,null,null,{"$f":"IF(H613=\"\",\"\",IF(Tabel1[[#This Row],[Kursustype]]=valgliste!$D$3,1,2)*H613)","v":""},null,{"$f":"IF(J613=\"\",\"\",IF(Tabel1[[#This Row],[Kursustype]]=valgliste!$D$3,1,2)*J613)","v":""}]
[null,null,null,null,null,null,null,null,{"$f":"IF(H614=\"\",\"\",IF(Tabel1[[#This Row],[Kursustype]]=valgliste!$D$3,1,2)*H614)","v":""},null,{"$f":"IF(J614=\"\",\"\",IF(Tabel1[[#This Row],[Kursustype]]=valgliste!$D$3,1,2)*J614)","v":""}]
[null,null,null,null,null,null,null,null,{"$f":"IF(H615=\"\",\"\",IF(Tabel1[[#This Row],[Kursustype]]=valgliste!$D$3,1,2)*H615)","v":""},null,{"$f":"IF(J615=\"\",\"\",IF(Tabel1[[#This Row],[Kursustype]]=valgliste!$D$3,1,2)*J615)","v":""}]
[null,null,null,null,null,null,null,null,{"$f":"IF(H616=\"\",\"\",IF(Tabel1[[#This Row],[Kursustype]]=valgliste!$D$3,1,2)*H616)","v":""},null,{"$f":"IF(J616=\"\",\"\",IF(Tabel1[[#This Row],[Kursustype]]=valgliste!$D$3,1,2)*J616)","v":""}]
[null,null,null,null,null,null,null,null,{"$f":"IF(H617=\"\",\"\",IF(Tabel1[[#This Row],[Kursustype]]=valgliste!$D$3,1,2)*H617)","v":""},null,{"$f":"IF(J617=\"\",\"\",IF(Tabel1[[#This Row],[Kursustype]]=valgliste!$D$3,1,2)*J617)","v":""}]
[null,null,null,null,null,null,null,null,{"$f":"IF(H618=\"\",\"\",IF(Tabel1[[#This Row],[Kursustype]]=valgliste!$D$3,1,2)*H618)","v":""},null,{"$f":"IF(J618=\"\",\"\",IF(Tabel1[[#This Row],[Kursustype]]=valgliste!$D$3,1,2)*J618)","v":""}]
[null,null,null,null,null,null,null,null,{"$f":"IF(H619=\"\",\"\",IF(Tabel1[[#This Row],[Kursustype]]=valgliste!$D$3,1,2)*H619)","v":""},null,{"$f":"IF(J619=\"\",\"\",IF(Tabel1[[#This Row],[Kursustype]]=valgliste!$D$3,1,2)*J619)","v":""}]
[null,null,null,null,null,null,null,null,{"$f":"IF(H620=\"\",\"\",IF(Tabel1[[#This Row],[Kursustype]]=valgliste!$D$3,1,2)*H620)","v":""},null,{"$f":"IF(J620=\"\",\"\",IF(Tabel1[[#This Row],[Kursustype]]=valgliste!$D$3,1,2)*J620)","v":""}]
[null,null,null,null,null,null,null,null,{"$f":"IF(H621=\"\",\"\",IF(Tabel1[[#This Row],[Kursustype]]=valgliste!$D$3,1,2)*H621)","v":""},null,{"$f":"IF(J621=\"\",\"\",IF(Tabel1[[#This Row],[Kursustype]]=valgliste!$D$3,1,2)*J621)","v":""}]
[null,null,null,null,null,null,null,null,{"$f":"IF(H622=\"\",\"\",IF(Tabel1[[#This Row],[Kursustype]]=valgliste!$D$3,1,2)*H622)","v":""},null,{"$f":"IF(J622=\"\",\"\",IF(Tabel1[[#This Row],[Kursustype]]=valgliste!$D$3,1,2)*J622)","v":""}]
[null,null,null,null,null,null,null,null,{"$f":"IF(H623=\"\",\"\",IF(Tabel1[[#This Row],[Kursustype]]=valgliste!$D$3,1,2)*H623)","v":""},null,{"$f":"IF(J623=\"\",\"\",IF(Tabel1[[#This Row],[Kursustype]]=valgliste!$D$3,1,2)*J623)","v":""}]
[null,null,null,null,null,null,null,null,{"$f":"IF(H624=\"\",\"\",IF(Tabel1[[#This Row],[Kursustype]]=valgliste!$D$3,1,2)*H624)","v":""},null,{"$f":"IF(J624=\"\",\"\",IF(Tabel1[[#This Row],[Kursustype]]=valgliste!$D$3,1,2)*J624)","v":""}]
[null,null,null,null,null,null,null,null,{"$f":"IF(H625=\"\",\"\",IF(Tabel1[[#This Row],[Kursustype]]=valgliste!$D$3,1,2)*H625)","v":""},null,{"$f":"IF(J625=\"\",\"\",IF(Tabel1[[#This Row],[Kursustype]]=valgliste!$D$3,1,2)*J625)","v":""}]
[null,null,null,null,null,null,null,null,{"$f":"IF(H626=\"\",\"\",IF(Tabel1[[#This Row],[Kursustype]]=valgliste!$D$3,1,2)*H626)","v":""},null,{"$f":"IF(J626=\"\",\"\",IF(Tabel1[[#This Row],[Kursustype]]=valgliste!$D$3,1,2)*J626)","v":""}]
[null,null,null,null,null,null,null,null,{"$f":"IF(H627=\"\",\"\",IF(Tabel1[[#This Row],[Kursustype]]=valgliste!$D$3,1,2)*H627)","v":""},null,{"$f":"IF(J627=\"\",\"\",IF(Tabel1[[#This Row],[Kursustype]]=valgliste!$D$3,1,2)*J627)","v":""}]
[null,null,null,null,null,null,null,null,{"$f":"IF(H628=\"\",\"\",IF(Tabel1[[#This Row],[Kursustype]]=valgliste!$D$3,1,2)*H628)","v":""},null,{"$f":"IF(J628=\"\",\"\",IF(Tabel1[[#This Row],[Kursustype]]=valgliste!$D$3,1,2)*J628)","v":""}]
[null,null,null,null,null,null,null,null,{"$f":"IF(H629=\"\",\"\",IF(Tabel1[[#This Row],[Kursustype]]=valgliste!$D$3,1,2)*H629)","v":""},null,{"$f":"IF(J629=\"\",\"\",IF(Tabel1[[#This Row],[Kursustype]]=valgliste!$D$3,1,2)*J629)","v":""}]
[null,null,null,null,null,null,null,null,{"$f":"IF(H630=\"\",\"\",IF(Tabel1[[#This Row],[Kursustype]]=valgliste!$D$3,1,2)*H630)","v":""},null,{"$f":"IF(J630=\"\",\"\",IF(Tabel1[[#This Row],[Kursustype]]=valgliste!$D$3,1,2)*J630)","v":""}]
[null,null,null,null,null,null,null,null,{"$f":"IF(H631=\"\",\"\",IF(Tabel1[[#This Row],[Kursustype]]=valgliste!$D$3,1,2)*H631)","v":""},null,{"$f":"IF(J631=\"\",\"\",IF(Tabel1[[#This Row],[Kursustype]]=valgliste!$D$3,1,2)*J631)","v":""}]
[null,null,null,null,null,null,null,null,{"$f":"IF(H632=\"\",\"\",IF(Tabel1[[#This Row],[Kursustype]]=valgliste!$D$3,1,2)*H632)","v":""},null,{"$f":"IF(J632=\"\",\"\",IF(Tabel1[[#This Row],[Kursustype]]=valgliste!$D$3,1,2)*J632)","v":""}]
[null,null,null,null,null,null,null,null,{"$f":"IF(H633=\"\",\"\",IF(Tabel1[[#This Row],[Kursustype]]=valgliste!$D$3,1,2)*H633)","v":""},null,{"$f":"IF(J633=\"\",\"\",IF(Tabel1[[#This Row],[Kursustype]]=valgliste!$D$3,1,2)*J633)","v":""}]
[null,null,null,null,null,null,null,null,{"$f":"IF(H634=\"\",\"\",IF(Tabel1[[#This Row],[Kursustype]]=valgliste!$D$3,1,2)*H634)","v":""},null,{"$f":"IF(J634=\"\",\"\",IF(Tabel1[[#This Row],[Kursustype]]=valgliste!$D$3,1,2)*J634)","v":""}]
[null,null,null,null,null,null,null,null,{"$f":"IF(H635=\"\",\"\",IF(Tabel1[[#This Row],[Kursustype]]=valgliste!$D$3,1,2)*H635)","v":""},null,{"$f":"IF(J635=\"\",\"\",IF(Tabel1[[#This Row],[Kursustype]]=valgliste!$D$3,1,2)*J635)","v":""}]
[null,null,null,null,null,null,null,null,{"$f":"IF(H636=\"\",\"\",IF(Tabel1[[#This Row],[Kursustype]]=valgliste!$D$3,1,2)*H636)","v":""},null,{"$f":"IF(J636=\"\",\"\",IF(Tabel1[[#This Row],[Kursustype]]=valgliste!$D$3,1,2)*J636)","v":""}]
[null,null,null,null,null,null,null,null,{"$f":"IF(H637=\"\",\"\",IF(Tabel1[[#This Row],[Kursustype]]=valgliste!$D$3,1,2)*H637)","v":""},null,{"$f":"IF(J637=\"\",\"\",IF(Tabel1[[#This Row],[Kursustype]]=valgliste!$D$3,1,2)*J637)","v":""}]
[null,null,null,null,null,null,null,null,{"$f":"IF(H638=\"\",\"\",IF(Tabel1[[#This Row],[Kursustype]]=valgliste!$D$3,1,2)*H638)","v":""},null,{"$f":"IF(J638=\"\",\"\",IF(Tabel1[[#This Row],[Kursustype]]=valgliste!$D$3,1,2)*J638)","v":""}]
[null,null,null,null,null,null,null,null,{"$f":"IF(H639=\"\",\"\",IF(Tabel1[[#This Row],[Kursustype]]=valgliste!$D$3,1,2)*H639)","v":""},null,{"$f":"IF(J639=\"\",\"\",IF(Tabel1[[#This Row],[Kursustype]]=valgliste!$D$3,1,2)*J639)","v":""}]
[null,null,null,null,null,null,null,null,{"$f":"IF(H640=\"\",\"\",IF(Tabel1[[#This Row],[Kursustype]]=valgliste!$D$3,1,2)*H640)","v":""},null,{"$f":"IF(J640=\"\",\"\",IF(Tabel1[[#This Row],[Kursustype]]=valgliste!$D$3,1,2)*J640)","v":""}]
[null,null,null,null,null,null,null,null,{"$f":"IF(H641=\"\",\"\",IF(Tabel1[[#This Row],[Kursustype]]=valgliste!$D$3,1,2)*H641)","v":""},null,{"$f":"IF(J641=\"\",\"\",IF(Tabel1[[#This Row],[Kursustype]]=valgliste!$D$3,1,2)*J641)","v":""}]
[null,null,null,null,null,null,null,null,{"$f":"IF(H642=\"\",\"\",IF(Tabel1[[#This Row],[Kursustype]]=valgliste!$D$3,1,2)*H642)","v":""},null,{"$f":"IF(J642=\"\",\"\",IF(Tabel1[[#This Row],[Kursustype]]=valgliste!$D$3,1,2)*J642)","v":""}]
[null,null,null,null,null,null,null,null,{"$f":"IF(H643=\"\",\"\",IF(Tabel1[[#This Row],[Kursustype]]=valgliste!$D$3,1,2)*H643)","v":""},null,{"$f":"IF(J643=\"\",\"\",IF(Tabel1[[#This Row],[Kursustype]]=valgliste!$D$3,1,2)*J643)","v":""}]
[null,null,null,null,null,null,null,null,{"$f":"IF(H644=\"\",\"\",IF(Tabel1[[#This Row],[Kursustype]]=valgliste!$D$3,1,2)*H644)","v":""},null,{"$f":"IF(J644=\"\",\"\",IF(Tabel1[[#This Row],[Kursustype]]=valgliste!$D$3,1,2)*J644)","v":""}]
[null,null,null,null,null,null,null,null,{"$f":"IF(H645=\"\",\"\",IF(Tabel1[[#This Row],[Kursustype]]=valgliste!$D$3,1,2)*H645)","v":""},null,{"$f":"IF(J645=\"\",\"\",IF(Tabel1[[#This Row],[Kursustype]]=valgliste!$D$3,1,2)*J645)","v":""}]
[null,null,null,null,null,null,null,null,{"$f":"IF(H646=\"\",\"\",IF(Tabel1[[#This Row],[Kursustype]]=valgliste!$D$3,1,2)*H646)","v":""},null,{"$f":"IF(J646=\"\",\"\",IF(Tabel1[[#This Row],[Kursustype]]=valgliste!$D$3,1,2)*J646)","v":""}]
[null,null,null,null,null,null,null,null,{"$f":"IF(H647=\"\",\"\",IF(Tabel1[[#This Row],[Kursustype]]=valgliste!$D$3,1,2)*H647)","v":""},null,{"$f":"IF(J647=\"\",\"\",IF(Tabel1[[#This Row],[Kursustype]]=valgliste!$D$3,1,2)*J647)","v":""}]
[null,null,null,null,null,null,null,null,{"$f":"IF(H648=\"\",\"\",IF(Tabel1[[#This Row],[Kursustype]]=valgliste!$D$3,1,2)*H648)","v":""},null,{"$f":"IF(J648=\"\",\"\",IF(Tabel1[[#This Row],[Kursustype]]=valgliste!$D$3,1,2)*J648)","v":""}]
[null,null,null,null,null,null,null,null,{"$f":"IF(H649=\"\",\"\",IF(Tabel1[[#This Row],[Kursustype]]=valgliste!$D$3,1,2)*H649)","v":""},null,{"$f":"IF(J649=\"\",\"\",IF(Tabel1[[#This Row],[Kursustype]]=valgliste!$D$3,1,2)*J649)","v":""}]
[null,null,null,null,null,null,null,null,{"$f":"IF(H650=\"\",\"\",IF(Tabel1[[#This Row],[Kursustype]]=valgliste!$D$3,1,2)*H650)","v":""},null,{"$f":"IF(J650=\"\",\"\",IF(Tabel1[[#This Row],[Kursustype]]=valgliste!$D$3,1,2)*J650)","v":""}]
[null,null,null,null,null,null,null,null,{"$f":"IF(H651=\"\",\"\",IF(Tabel1[[#This Row],[Kursustype]]=valgliste!$D$3,1,2)*H651)","v":""},null,{"$f":"IF(J651=\"\",\"\",IF(Tabel1[[#This Row],[Kursustype]]=valgliste!$D$3,1,2)*J651)","v":""}]
[null,null,null,null,null,null,null,null,{"$f":"IF(H652=\"\",\"\",IF(Tabel1[[#This Row],[Kursustype]]=valgliste!$D$3,1,2)*H652)","v":""},null,{"$f":"IF(J652=\"\",\"\",IF(Tabel1[[#This Row],[Kursustype]]=valgliste!$D$3,1,2)*J652)","v":""}]
[null,null,null,null,null,null,null,null,{"$f":"IF(H653=\"\",\"\",IF(Tabel1[[#This Row],[Kursustype]]=valgliste!$D$3,1,2)*H653)","v":""},null,{"$f":"IF(J653=\"\",\"\",IF(Tabel1[[#This Row],[Kursustype]]=valgliste!$D$3,1,2)*J653)","v":""}]
[null,null,null,null,null,null,null,null,{"$f":"IF(H654=\"\",\"\",IF(Tabel1[[#This Row],[Kursustype]]=valgliste!$D$3,1,2)*H654)","v":""},null,{"$f":"IF(J654=\"\",\"\",IF(Tabel1[[#This Row],[Kursustype]]=valgliste!$D$3,1,2)*J654)","v":""}]
[null,null,null,null,null,null,null,null,{"$f":"IF(H655=\"\",\"\",IF(Tabel1[[#This Row],[Kursustype]]=valgliste!$D$3,1,2)*H655)","v":""},null,{"$f":"IF(J655=\"\",\"\",IF(Tabel1[[#This Row],[Kursustype]]=valgliste!$D$3,1,2)*J655)","v":""}]
[null,null,null,null,null,null,null,null,{"$f":"IF(H656=\"\",\"\",IF(Tabel1[[#This Row],[Kursustype]]=valgliste!$D$3,1,2)*H656)","v":""},null,{"$f":"IF(J656=\"\",\"\",IF(Tabel1[[#This Row],[Kursustype]]=valgliste!$D$3,1,2)*J656)","v":""}]
[null,null,null,null,null,null,null,null,{"$f":"IF(H657=\"\",\"\",IF(Tabel1[[#This Row],[Kursustype]]=valgliste!$D$3,1,2)*H657)","v":""},null,{"$f":"IF(J657=\"\",\"\",IF(Tabel1[[#This Row],[Kursustype]]=valgliste!$D$3,1,2)*J657)","v":""}]
[null,null,null,null,null,null,null,null,{"$f":"IF(H658=\"\",\"\",IF(Tabel1[[#This Row],[Kursustype]]=valgliste!$D$3,1,2)*H658)","v":""},null,{"$f":"IF(J658=\"\",\"\",IF(Tabel1[[#This Row],[Kursustype]]=valgliste!$D$3,1,2)*J658)","v":""}]
[null,null,null,null,null,null,null,null,{"$f":"IF(H659=\"\",\"\",IF(Tabel1[[#This Row],[Kursustype]]=valgliste!$D$3,1,2)*H659)","v":""},null,{"$f":"IF(J659=\"\",\"\",IF(Tabel1[[#This Row],[Kursustype]]=valgliste!$D$3,1,2)*J659)","v":""}]
[null,null,null,null,null,null,null,null,{"$f":"IF(H660=\"\",\"\",IF(Tabel1[[#This Row],[Kursustype]]=valgliste!$D$3,1,2)*H660)","v":""},null,{"$f":"IF(J660=\"\",\"\",IF(Tabel1[[#This Row],[Kursustype]]=valgliste!$D$3,1,2)*J660)","v":""}]
[null,null,null,null,null,null,null,null,{"$f":"IF(H661=\"\",\"\",IF(Tabel1[[#This Row],[Kursustype]]=valgliste!$D$3,1,2)*H661)","v":""},null,{"$f":"IF(J661=\"\",\"\",IF(Tabel1[[#This Row],[Kursustype]]=valgliste!$D$3,1,2)*J661)","v":""}]
[null,null,null,null,null,null,null,null,{"$f":"IF(H662=\"\",\"\",IF(Tabel1[[#This Row],[Kursustype]]=valgliste!$D$3,1,2)*H662)","v":""},null,{"$f":"IF(J662=\"\",\"\",IF(Tabel1[[#This Row],[Kursustype]]=valgliste!$D$3,1,2)*J662)","v":""}]
[null,null,null,null,null,null,null,null,{"$f":"IF(H663=\"\",\"\",IF(Tabel1[[#This Row],[Kursustype]]=valgliste!$D$3,1,2)*H663)","v":""},null,{"$f":"IF(J663=\"\",\"\",IF(Tabel1[[#This Row],[Kursustype]]=valgliste!$D$3,1,2)*J663)","v":""}]
[null,null,null,null,null,null,null,null,{"$f":"IF(H664=\"\",\"\",IF(Tabel1[[#This Row],[Kursustype]]=valgliste!$D$3,1,2)*H664)","v":""},null,{"$f":"IF(J664=\"\",\"\",IF(Tabel1[[#This Row],[Kursustype]]=valgliste!$D$3,1,2)*J664)","v":""}]
[null,null,null,null,null,null,null,null,{"$f":"IF(H665=\"\",\"\",IF(Tabel1[[#This Row],[Kursustype]]=valgliste!$D$3,1,2)*H665)","v":""},null,{"$f":"IF(J665=\"\",\"\",IF(Tabel1[[#This Row],[Kursustype]]=valgliste!$D$3,1,2)*J665)","v":""}]
[null,null,null,null,null,null,null,null,{"$f":"IF(H666=\"\",\"\",IF(Tabel1[[#This Row],[Kursustype]]=valgliste!$D$3,1,2)*H666)","v":""},null,{"$f":"IF(J666=\"\",\"\",IF(Tabel1[[#This Row],[Kursustype]]=valgliste!$D$3,1,2)*J666)","v":""}]
[null,null,null,null,null,null,null,null,{"$f":"IF(H667=\"\",\"\",IF(Tabel1[[#This Row],[Kursustype]]=valgliste!$D$3,1,2)*H667)","v":""},null,{"$f":"IF(J667=\"\",\"\",IF(Tabel1[[#This Row],[Kursustype]]=valgliste!$D$3,1,2)*J667)","v":""}]
[null,null,null,null,null,null,null,null,{"$f":"IF(H668=\"\",\"\",IF(Tabel1[[#This Row],[Kursustype]]=valgliste!$D$3,1,2)*H668)","v":""},null,{"$f":"IF(J668=\"\",\"\",IF(Tabel1[[#This Row],[Kursustype]]=valgliste!$D$3,1,2)*J668)","v":""}]
[null,null,null,null,null,null,null,null,{"$f":"IF(H669=\"\",\"\",IF(Tabel1[[#This Row],[Kursustype]]=valgliste!$D$3,1,2)*H669)","v":""},null,{"$f":"IF(J669=\"\",\"\",IF(Tabel1[[#This Row],[Kursustype]]=valgliste!$D$3,1,2)*J669)","v":""}]
[null,null,null,null,null,null,null,null,{"$f":"IF(H670=\"\",\"\",IF(Tabel1[[#This Row],[Kursustype]]=valgliste!$D$3,1,2)*H670)","v":""},null,{"$f":"IF(J670=\"\",\"\",IF(Tabel1[[#This Row],[Kursustype]]=valgliste!$D$3,1,2)*J670)","v":""}]
[null,null,null,null,null,null,null,null,{"$f":"IF(H671=\"\",\"\",IF(Tabel1[[#This Row],[Kursustype]]=valgliste!$D$3,1,2)*H671)","v":""},null,{"$f":"IF(J671=\"\",\"\",IF(Tabel1[[#This Row],[Kursustype]]=valgliste!$D$3,1,2)*J671)","v":""}]
[null,null,null,null,null,null,null,null,{"$f":"IF(H672=\"\",\"\",IF(Tabel1[[#This Row],[Kursustype]]=valgliste!$D$3,1,2)*H672)","v":""},null,{"$f":"IF(J672=\"\",\"\",IF(Tabel1[[#This Row],[Kursustype]]=valgliste!$D$3,1,2)*J672)","v":""}]
[null,null,null,null,null,null,null,null,{"$f":"IF(H673=\"\",\"\",IF(Tabel1[[#This Row],[Kursustype]]=valgliste!$D$3,1,2)*H673)","v":""},null,{"$f":"IF(J673=\"\",\"\",IF(Tabel1[[#This Row],[Kursustype]]=valgliste!$D$3,1,2)*J673)","v":""}]
[null,null,null,null,null,null,null,null,{"$f":"IF(H674=\"\",\"\",IF(Tabel1[[#This Row],[Kursustype]]=valgliste!$D$3,1,2)*H674)","v":""},null,{"$f":"IF(J674=\"\",\"\",IF(Tabel1[[#This Row],[Kursustype]]=valgliste!$D$3,1,2)*J674)","v":""}]
[null,null,null,null,null,null,null,null,{"$f":"IF(H675=\"\",\"\",IF(Tabel1[[#This Row],[Kursustype]]=valgliste!$D$3,1,2)*H675)","v":""},null,{"$f":"IF(J675=\"\",\"\",IF(Tabel1[[#This Row],[Kursustype]]=valgliste!$D$3,1,2)*J675)","v":""}]
[null,null,null,null,null,null,null,null,{"$f":"IF(H676=\"\",\"\",IF(Tabel1[[#This Row],[Kursustype]]=valgliste!$D$3,1,2)*H676)","v":""},null,{"$f":"IF(J676=\"\",\"\",IF(Tabel1[[#This Row],[Kursustype]]=valgliste!$D$3,1,2)*J676)","v":""}]
[null,null,null,null,null,null,null,null,{"$f":"IF(H677=\"\",\"\",IF(Tabel1[[#This Row],[Kursustype]]=valgliste!$D$3,1,2)*H677)","v":""},null,{"$f":"IF(J677=\"\",\"\",IF(Tabel1[[#This Row],[Kursustype]]=valgliste!$D$3,1,2)*J677)","v":""}]
[null,null,null,null,null,null,null,null,{"$f":"IF(H678=\"\",\"\",IF(Tabel1[[#This Row],[Kursustype]]=valgliste!$D$3,1,2)*H678)","v":""},null,{"$f":"IF(J678=\"\",\"\",IF(Tabel1[[#This Row],[Kursustype]]=valgliste!$D$3,1,2)*J678)","v":""}]
[null,null,null,null,null,null,null,null,{"$f":"IF(H679=\"\",\"\",IF(Tabel1[[#This Row],[Kursustype]]=valgliste!$D$3,1,2)*H679)","v":""},null,{"$f":"IF(J679=\"\",\"\",IF(Tabel1[[#This Row],[Kursustype]]=valgliste!$D$3,1,2)*J679)","v":""}]
[null,null,null,null,null,null,null,null,{"$f":"IF(H680=\"\",\"\",IF(Tabel1[[#This Row],[Kursustype]]=valgliste!$D$3,1,2)*H680)","v":""},null,{"$f":"IF(J680=\"\",\"\",IF(Tabel1[[#This Row],[Kursustype]]=valgliste!$D$3,1,2)*J680)","v":""}]
[null,null,null,null,null,null,null,null,{"$f":"IF(H681=\"\",\"\",IF(Tabel1[[#This Row],[Kursustype]]=valgliste!$D$3,1,2)*H681)","v":""},null,{"$f":"IF(J681=\"\",\"\",IF(Tabel1[[#This Row],[Kursustype]]=valgliste!$D$3,1,2)*J681)","v":""}]
[null,null,null,null,null,null,null,null,{"$f":"IF(H682=\"\",\"\",IF(Tabel1[[#This Row],[Kursustype]]=valgliste!$D$3,1,2)*H682)","v":""},null,{"$f":"IF(J682=\"\",\"\",IF(Tabel1[[#This Row],[Kursustype]]=valgliste!$D$3,1,2)*J682)","v":""}]
[null,null,null,null,null,null,null,null,{"$f":"IF(H683=\"\",\"\",IF(Tabel1[[#This Row],[Kursustype]]=valgliste!$D$3,1,2)*H683)","v":""},null,{"$f":"IF(J683=\"\",\"\",IF(Tabel1[[#This Row],[Kursustype]]=valgliste!$D$3,1,2)*J683)","v":""}]
[null,null,null,null,null,null,null,null,{"$f":"IF(H684=\"\",\"\",IF(Tabel1[[#This Row],[Kursustype]]=valgliste!$D$3,1,2)*H684)","v":""},null,{"$f":"IF(J684=\"\",\"\",IF(Tabel1[[#This Row],[Kursustype]]=valgliste!$D$3,1,2)*J684)","v":""}]
[null,null,null,null,null,null,null,null,{"$f":"IF(H685=\"\",\"\",IF(Tabel1[[#This Row],[Kursustype]]=valgliste!$D$3,1,2)*H685)","v":""},null,{"$f":"IF(J685=\"\",\"\",IF(Tabel1[[#This Row],[Kursustype]]=valgliste!$D$3,1,2)*J685)","v":""}]
[null,null,null,null,null,null,null,null,{"$f":"IF(H686=\"\",\"\",IF(Tabel1[[#This Row],[Kursustype]]=valgliste!$D$3,1,2)*H686)","v":""},null,{"$f":"IF(J686=\"\",\"\",IF(Tabel1[[#This Row],[Kursustype]]=valgliste!$D$3,1,2)*J686)","v":""}]
[null,null,null,null,null,null,null,null,{"$f":"IF(H687=\"\",\"\",IF(Tabel1[[#This Row],[Kursustype]]=valgliste!$D$3,1,2)*H687)","v":""},null,{"$f":"IF(J687=\"\",\"\",IF(Tabel1[[#This Row],[Kursustype]]=valgliste!$D$3,1,2)*J687)","v":""}]
[null,null,null,null,null,null,null,null,{"$f":"IF(H688=\"\",\"\",IF(Tabel1[[#This Row],[Kursustype]]=valgliste!$D$3,1,2)*H688)","v":""},null,{"$f":"IF(J688=\"\",\"\",IF(Tabel1[[#This Row],[Kursustype]]=valgliste!$D$3,1,2)*J688)","v":""}]
[null,null,null,null,null,null,null,null,{"$f":"IF(H689=\"\",\"\",IF(Tabel1[[#This Row],[Kursustype]]=valgliste!$D$3,1,2)*H689)","v":""},null,{"$f":"IF(J689=\"\",\"\",IF(Tabel1[[#This Row],[Kursustype]]=valgliste!$D$3,1,2)*J689)","v":""}]
[null,null,null,null,null,null,null,null,{"$f":"IF(H690=\"\",\"\",IF(Tabel1[[#This Row],[Kursustype]]=valgliste!$D$3,1,2)*H690)","v":""},null,{"$f":"IF(J690=\"\",\"\",IF(Tabel1[[#This Row],[Kursustype]]=valgliste!$D$3,1,2)*J690)","v":""}]
[null,null,null,null,null,null,null,null,{"$f":"IF(H691=\"\",\"\",IF(Tabel1[[#This Row],[Kursustype]]=valgliste!$D$3,1,2)*H691)","v":""},null,{"$f":"IF(J691=\"\",\"\",IF(Tabel1[[#This Row],[Kursustype]]=valgliste!$D$3,1,2)*J691)","v":""}]
[null,null,null,null,null,null,null,null,{"$f":"IF(H692=\"\",\"\",IF(Tabel1[[#This Row],[Kursustype]]=valgliste!$D$3,1,2)*H692)","v":""},null,{"$f":"IF(J692=\"\",\"\",IF(Tabel1[[#This Row],[Kursustype]]=valgliste!$D$3,1,2)*J692)","v":""}]
[null,null,null,null,null,null,null,null,{"$f":"IF(H693=\"\",\"\",IF(Tabel1[[#This Row],[Kursustype]]=valgliste!$D$3,1,2)*H693)","v":""},null,{"$f":"IF(J693=\"\",\"\",IF(Tabel1[[#This Row],[Kursustype]]=valgliste!$D$3,1,2)*J693)","v":""}]
[null,null,null,null,null,null,null,null,{"$f":"IF(H694=\"\",\"\",IF(Tabel1[[#This Row],[Kursustype]]=valgliste!$D$3,1,2)*H694)","v":""},null,{"$f":"IF(J694=\"\",\"\",IF(Tabel1[[#This Row],[Kursustype]]=valgliste!$D$3,1,2)*J694)","v":""}]
[null,null,null,null,null,null,null,null,{"$f":"IF(H695=\"\",\"\",IF(Tabel1[[#This Row],[Kursustype]]=valgliste!$D$3,1,2)*H695)","v":""},null,{"$f":"IF(J695=\"\",\"\",IF(Tabel1[[#This Row],[Kursustype]]=valgliste!$D$3,1,2)*J695)","v":""}]
[null,null,null,null,null,null,null,null,{"$f":"IF(H696=\"\",\"\",IF(Tabel1[[#This Row],[Kursustype]]=valgliste!$D$3,1,2)*H696)","v":""},null,{"$f":"IF(J696=\"\",\"\",IF(Tabel1[[#This Row],[Kursustype]]=valgliste!$D$3,1,2)*J696)","v":""}]
[null,null,null,null,null,null,null,null,{"$f":"IF(H697=\"\",\"\",IF(Tabel1[[#This Row],[Kursustype]]=valgliste!$D$3,1,2)*H697)","v":""},null,{"$f":"IF(J697=\"\",\"\",IF(Tabel1[[#This Row],[Kursustype]]=valgliste!$D$3,1,2)*J697)","v":""}]
[null,null,null,null,null,null,null,null,{"$f":"IF(H698=\"\",\"\",IF(Tabel1[[#This Row],[Kursustype]]=valgliste!$D$3,1,2)*H698)","v":""},null,{"$f":"IF(J698=\"\",\"\",IF(Tabel1[[#This Row],[Kursustype]]=valgliste!$D$3,1,2)*J698)","v":""}]
[null,null,null,null,null,null,null,null,{"$f":"IF(H699=\"\",\"\",IF(Tabel1[[#This Row],[Kursustype]]=valgliste!$D$3,1,2)*H699)","v":""},null,{"$f":"IF(J699=\"\",\"\",IF(Tabel1[[#This Row],[Kursustype]]=valgliste!$D$3,1,2)*J699)","v":""}]
[null,null,null,null,null,null,null,null,{"$f":"IF(H700=\"\",\"\",IF(Tabel1[[#This Row],[Kursustype]]=valgliste!$D$3,1,2)*H700)","v":""},null,{"$f":"IF(J700=\"\",\"\",IF(Tabel1[[#This Row],[Kursustype]]=valgliste!$D$3,1,2)*J700)","v":""}]
[null,null,null,null,null,null,null,null,{"$f":"IF(H701=\"\",\"\",IF(Tabel1[[#This Row],[Kursustype]]=valgliste!$D$3,1,2)*H701)","v":""},null,{"$f":"IF(J701=\"\",\"\",IF(Tabel1[[#This Row],[Kursustype]]=valgliste!$D$3,1,2)*J701)","v":""}]
[null,null,null,null,null,null,null,null,{"$f":"IF(H702=\"\",\"\",IF(Tabel1[[#This Row],[Kursustype]]=valgliste!$D$3,1,2)*H702)","v":""},null,{"$f":"IF(J702=\"\",\"\",IF(Tabel1[[#This Row],[Kursustype]]=valgliste!$D$3,1,2)*J702)","v":""}]
[null,null,null,null,null,null,null,null,{"$f":"IF(H703=\"\",\"\",IF(Tabel1[[#This Row],[Kursustype]]=valgliste!$D$3,1,2)*H703)","v":""},null,{"$f":"IF(J703=\"\",\"\",IF(Tabel1[[#This Row],[Kursustype]]=valgliste!$D$3,1,2)*J703)","v":""}]
[null,null,null,null,null,null,null,null,{"$f":"IF(H704=\"\",\"\",IF(Tabel1[[#This Row],[Kursustype]]=valgliste!$D$3,1,2)*H704)","v":""},null,{"$f":"IF(J704=\"\",\"\",IF(Tabel1[[#This Row],[Kursustype]]=valgliste!$D$3,1,2)*J704)","v":""}]
[null,null,null,null,null,null,null,null,{"$f":"IF(H705=\"\",\"\",IF(Tabel1[[#This Row],[Kursustype]]=valgliste!$D$3,1,2)*H705)","v":""},null,{"$f":"IF(J705=\"\",\"\",IF(Tabel1[[#This Row],[Kursustype]]=valgliste!$D$3,1,2)*J705)","v":""}]
[null,null,null,null,null,null,null,null,{"$f":"IF(H706=\"\",\"\",IF(Tabel1[[#This Row],[Kursustype]]=valgliste!$D$3,1,2)*H706)","v":""},null,{"$f":"IF(J706=\"\",\"\",IF(Tabel1[[#This Row],[Kursustype]]=valgliste!$D$3,1,2)*J706)","v":""}]
[null,null,null,null,null,null,null,null,{"$f":"IF(H707=\"\",\"\",IF(Tabel1[[#This Row],[Kursustype]]=valgliste!$D$3,1,2)*H707)","v":""},null,{"$f":"IF(J707=\"\",\"\",IF(Tabel1[[#This Row],[Kursustype]]=valgliste!$D$3,1,2)*J707)","v":""}]
[null,null,null,null,null,null,null,null,{"$f":"IF(H708=\"\",\"\",IF(Tabel1[[#This Row],[Kursustype]]=valgliste!$D$3,1,2)*H708)","v":""},null,{"$f":"IF(J708=\"\",\"\",IF(Tabel1[[#This Row],[Kursustype]]=valgliste!$D$3,1,2)*J708)","v":""}]
[null,null,null,null,null,null,null,null,{"$f":"IF(H709=\"\",\"\",IF(Tabel1[[#This Row],[Kursustype]]=valgliste!$D$3,1,2)*H709)","v":""},null,{"$f":"IF(J709=\"\",\"\",IF(Tabel1[[#This Row],[Kursustype]]=valgliste!$D$3,1,2)*J709)","v":""}]
[null,null,null,null,null,null,null,null,{"$f":"IF(H710=\"\",\"\",IF(Tabel1[[#This Row],[Kursustype]]=valgliste!$D$3,1,2)*H710)","v":""},null,{"$f":"IF(J710=\"\",\"\",IF(Tabel1[[#This Row],[Kursustype]]=valgliste!$D$3,1,2)*J710)","v":""}]
[null,null,null,null,null,null,null,null,{"$f":"IF(H711=\"\",\"\",IF(Tabel1[[#This Row],[Kursustype]]=valgliste!$D$3,1,2)*H711)","v":""},null,{"$f":"IF(J711=\"\",\"\",IF(Tabel1[[#This Row],[Kursustype]]=valgliste!$D$3,1,2)*J711)","v":""}]
[null,null,null,null,null,null,null,null,{"$f":"IF(H712=\"\",\"\",IF(Tabel1[[#This Row],[Kursustype]]=valgliste!$D$3,1,2)*H712)","v":""},null,{"$f":"IF(J712=\"\",\"\",IF(Tabel1[[#This Row],[Kursustype]]=valgliste!$D$3,1,2)*J712)","v":""}]
[null,null,null,null,null,null,null,null,{"$f":"IF(H713=\"\",\"\",IF(Tabel1[[#This Row],[Kursustype]]=valgliste!$D$3,1,2)*H713)","v":""},null,{"$f":"IF(J713=\"\",\"\",IF(Tabel1[[#This Row],[Kursustype]]=valgliste!$D$3,1,2)*J713)","v":""}]
[null,null,null,null,null,null,null,null,{"$f":"IF(H714=\"\",\"\",IF(Tabel1[[#This Row],[Kursustype]]=valgliste!$D$3,1,2)*H714)","v":""},null,{"$f":"IF(J714=\"\",\"\",IF(Tabel1[[#This Row],[Kursustype]]=valgliste!$D$3,1,2)*J714)","v":""}]
[null,null,null,null,null,null,null,null,{"$f":"IF(H715=\"\",\"\",IF(Tabel1[[#This Row],[Kursustype]]=valgliste!$D$3,1,2)*H715)","v":""},null,{"$f":"IF(J715=\"\",\"\",IF(Tabel1[[#This Row],[Kursustype]]=valgliste!$D$3,1,2)*J715)","v":""}]
[null,null,null,null,null,null,null,null,{"$f":"IF(H716=\"\",\"\",IF(Tabel1[[#This Row],[Kursustype]]=valgliste!$D$3,1,2)*H716)","v":""},null,{"$f":"IF(J716=\"\",\"\",IF(Tabel1[[#This Row],[Kursustype]]=valgliste!$D$3,1,2)*J716)","v":""}]
[null,null,null,null,null,null,null,null,{"$f":"IF(H717=\"\",\"\",IF(Tabel1[[#This Row],[Kursustype]]=valgliste!$D$3,1,2)*H717)","v":""},null,{"$f":"IF(J717=\"\",\"\",IF(Tabel1[[#This Row],[Kursustype]]=valgliste!$D$3,1,2)*J717)","v":""}]
[null,null,null,null,null,null,null,null,{"$f":"IF(H718=\"\",\"\",IF(Tabel1[[#This Row],[Kursustype]]=valgliste!$D$3,1,2)*H718)","v":""},null,{"$f":"IF(J718=\"\",\"\",IF(Tabel1[[#This Row],[Kursustype]]=valgliste!$D$3,1,2)*J718)","v":""}]
[null,null,null,null,null,null,null,null,{"$f":"IF(H719=\"\",\"\",IF(Tabel1[[#This Row],[Kursustype]]=valgliste!$D$3,1,2)*H719)","v":""},null,{"$f":"IF(J719=\"\",\"\",IF(Tabel1[[#This Row],[Kursustype]]=valgliste!$D$3,1,2)*J719)","v":""}]
[null,null,null,null,null,null,null,null,{"$f":"IF(H720=\"\",\"\",IF(Tabel1[[#This Row],[Kursustype]]=valgliste!$D$3,1,2)*H720)","v":""},null,{"$f":"IF(J720=\"\",\"\",IF(Tabel1[[#This Row],[Kursustype]]=valgliste!$D$3,1,2)*J720)","v":""}]
[null,null,null,null,null,null,null,null,{"$f":"IF(H721=\"\",\"\",IF(Tabel1[[#This Row],[Kursustype]]=valgliste!$D$3,1,2)*H721)","v":""},null,{"$f":"IF(J721=\"\",\"\",IF(Tabel1[[#This Row],[Kursustype]]=valgliste!$D$3,1,2)*J721)","v":""}]
[null,null,null,null,null,null,null,null,{"$f":"IF(H722=\"\",\"\",IF(Tabel1[[#This Row],[Kursustype]]=valgliste!$D$3,1,2)*H722)","v":""},null,{"$f":"IF(J722=\"\",\"\",IF(Tabel1[[#This Row],[Kursustype]]=valgliste!$D$3,1,2)*J722)","v":""}]
[null,null,null,null,null,null,null,null,{"$f":"IF(H723=\"\",\"\",IF(Tabel1[[#This Row],[Kursustype]]=valgliste!$D$3,1,2)*H723)","v":""},null,{"$f":"IF(J723=\"\",\"\",IF(Tabel1[[#This Row],[Kursustype]]=valgliste!$D$3,1,2)*J723)","v":""}]
[null,null,null,null,null,null,null,null,{"$f":"IF(H724=\"\",\"\",IF(Tabel1[[#This Row],[Kursustype]]=valgliste!$D$3,1,2)*H724)","v":""},null,{"$f":"IF(J724=\"\",\"\",IF(Tabel1[[#This Row],[Kursustype]]=valgliste!$D$3,1,2)*J724)","v":""}]
[null,null,null,null,null,null,null,null,{"$f":"IF(H725=\"\",\"\",IF(Tabel1[[#This Row],[Kursustype]]=valgliste!$D$3,1,2)*H725)","v":""},null,{"$f":"IF(J725=\"\",\"\",IF(Tabel1[[#This Row],[Kursustype]]=valgliste!$D$3,1,2)*J725)","v":""}]
[null,null,null,null,null,null,null,null,{"$f":"IF(H726=\"\",\"\",IF(Tabel1[[#This Row],[Kursustype]]=valgliste!$D$3,1,2)*H726)","v":""},null,{"$f":"IF(J726=\"\",\"\",IF(Tabel1[[#This Row],[Kursustype]]=valgliste!$D$3,1,2)*J726)","v":""}]
[null,null,null,null,null,null,null,null,{"$f":"IF(H727=\"\",\"\",IF(Tabel1[[#This Row],[Kursustype]]=valgliste!$D$3,1,2)*H727)","v":""},null,{"$f":"IF(J727=\"\",\"\",IF(Tabel1[[#This Row],[Kursustype]]=valgliste!$D$3,1,2)*J727)","v":""}]
[null,null,null,null,null,null,null,null,{"$f":"IF(H728=\"\",\"\",IF(Tabel1[[#This Row],[Kursustype]]=valgliste!$D$3,1,2)*H728)","v":""},null,{"$f":"IF(J728=\"\",\"\",IF(Tabel1[[#This Row],[Kursustype]]=valgliste!$D$3,1,2)*J728)","v":""}]
[null,null,null,null,null,null,null,null,{"$f":"IF(H729=\"\",\"\",IF(Tabel1[[#This Row],[Kursustype]]=valgliste!$D$3,1,2)*H729)","v":""},null,{"$f":"IF(J729=\"\",\"\",IF(Tabel1[[#This Row],[Kursustype]]=valgliste!$D$3,1,2)*J729)","v":""}]
[null,null,null,null,null,null,null,null,{"$f":"IF(H730=\"\",\"\",IF(Tabel1[[#This Row],[Kursustype]]=valgliste!$D$3,1,2)*H730)","v":""},null,{"$f":"IF(J730=\"\",\"\",IF(Tabel1[[#This Row],[Kursustype]]=valgliste!$D$3,1,2)*J730)","v":""}]
[null,null,null,null,null,null,null,null,{"$f":"IF(H731=\"\",\"\",IF(Tabel1[[#This Row],[Kursustype]]=valgliste!$D$3,1,2)*H731)","v":""},null,{"$f":"IF(J731=\"\",\"\",IF(Tabel1[[#This Row],[Kursustype]]=valgliste!$D$3,1,2)*J731)","v":""}]
[null,null,null,null,null,null,null,null,{"$f":"IF(H732=\"\",\"\",IF(Tabel1[[#This Row],[Kursustype]]=valgliste!$D$3,1,2)*H732)","v":""},null,{"$f":"IF(J732=\"\",\"\",IF(Tabel1[[#This Row],[Kursustype]]=valgliste!$D$3,1,2)*J732)","v":""}]
[null,null,null,null,null,null,null,null,{"$f":"IF(H733=\"\",\"\",IF(Tabel1[[#This Row],[Kursustype]]=valgliste!$D$3,1,2)*H733)","v":""},null,{"$f":"IF(J733=\"\",\"\",IF(Tabel1[[#This Row],[Kursustype]]=valgliste!$D$3,1,2)*J733)","v":""}]
[null,null,null,null,null,null,null,null,{"$f":"IF(H734=\"\",\"\",IF(Tabel1[[#This Row],[Kursustype]]=valgliste!$D$3,1,2)*H734)","v":""},null,{"$f":"IF(J734=\"\",\"\",IF(Tabel1[[#This Row],[Kursustype]]=valgliste!$D$3,1,2)*J734)","v":""}]
[null,null,null,null,null,null,null,null,{"$f":"IF(H735=\"\",\"\",IF(Tabel1[[#This Row],[Kursustype]]=valgliste!$D$3,1,2)*H735)","v":""},null,{"$f":"IF(J735=\"\",\"\",IF(Tabel1[[#This Row],[Kursustype]]=valgliste!$D$3,1,2)*J735)","v":""}]
[null,null,null,null,null,null,null,null,{"$f":"IF(H736=\"\",\"\",IF(Tabel1[[#This Row],[Kursustype]]=valgliste!$D$3,1,2)*H736)","v":""},null,{"$f":"IF(J736=\"\",\"\",IF(Tabel1[[#This Row],[Kursustype]]=valgliste!$D$3,1,2)*J736)","v":""}]
[null,null,null,null,null,null,null,null,{"$f":"IF(H737=\"\",\"\",IF(Tabel1[[#This Row],[Kursustype]]=valgliste!$D$3,1,2)*H737)","v":""},null,{"$f":"IF(J737=\"\",\"\",IF(Tabel1[[#This Row],[Kursustype]]=valgliste!$D$3,1,2)*J737)","v":""}]
[null,null,null,null,null,null,null,null,{"$f":"IF(H738=\"\",\"\",IF(Tabel1[[#This Row],[Kursustype]]=valgliste!$D$3,1,2)*H738)","v":""},null,{"$f":"IF(J738=\"\",\"\",IF(Tabel1[[#This Row],[Kursustype]]=valgliste!$D$3,1,2)*J738)","v":""}]
[null,null,null,null,null,null,null,null,{"$f":"IF(H739=\"\",\"\",IF(Tabel1[[#This Row],[Kursustype]]=valgliste!$D$3,1,2)*H739)","v":""},null,{"$f":"IF(J739=\"\",\"\",IF(Tabel1[[#This Row],[Kursustype]]=valgliste!$D$3,1,2)*J739)","v":""}]
[null,null,null,null,null,null,null,null,{"$f":"IF(H740=\"\",\"\",IF(Tabel1[[#This Row],[Kursustype]]=valgliste!$D$3,1,2)*H740)","v":""},null,{"$f":"IF(J740=\"\",\"\",IF(Tabel1[[#This Row],[Kursustype]]=valgliste!$D$3,1,2)*J740)","v":""}]
[null,null,null,null,null,null,null,null,{"$f":"IF(H741=\"\",\"\",IF(Tabel1[[#This Row],[Kursustype]]=valgliste!$D$3,1,2)*H741)","v":""},null,{"$f":"IF(J741=\"\",\"\",IF(Tabel1[[#This Row],[Kursustype]]=valgliste!$D$3,1,2)*J741)","v":""}]
[null,null,null,null,null,null,null,null,{"$f":"IF(H742=\"\",\"\",IF(Tabel1[[#This Row],[Kursustype]]=valgliste!$D$3,1,2)*H742)","v":""},null,{"$f":"IF(J742=\"\",\"\",IF(Tabel1[[#This Row],[Kursustype]]=valgliste!$D$3,1,2)*J742)","v":""}]
[null,null,null,null,null,null,null,null,{"$f":"IF(H743=\"\",\"\",IF(Tabel1[[#This Row],[Kursustype]]=valgliste!$D$3,1,2)*H743)","v":""},null,{"$f":"IF(J743=\"\",\"\",IF(Tabel1[[#This Row],[Kursustype]]=valgliste!$D$3,1,2)*J743)","v":""}]
[null,null,null,null,null,null,null,null,{"$f":"IF(H744=\"\",\"\",IF(Tabel1[[#This Row],[Kursustype]]=valgliste!$D$3,1,2)*H744)","v":""},null,{"$f":"IF(J744=\"\",\"\",IF(Tabel1[[#This Row],[Kursustype]]=valgliste!$D$3,1,2)*J744)","v":""}]
[null,null,null,null,null,null,null,null,{"$f":"IF(H745=\"\",\"\",IF(Tabel1[[#This Row],[Kursustype]]=valgliste!$D$3,1,2)*H745)","v":""},null,{"$f":"IF(J745=\"\",\"\",IF(Tabel1[[#This Row],[Kursustype]]=valgliste!$D$3,1,2)*J745)","v":""}]
[null,null,null,null,null,null,null,null,{"$f":"IF(H746=\"\",\"\",IF(Tabel1[[#This Row],[Kursustype]]=valgliste!$D$3,1,2)*H746)","v":""},null,{"$f":"IF(J746=\"\",\"\",IF(Tabel1[[#This Row],[Kursustype]]=valgliste!$D$3,1,2)*J746)","v":""}]
[null,null,null,null,null,null,null,null,{"$f":"IF(H747=\"\",\"\",IF(Tabel1[[#This Row],[Kursustype]]=valgliste!$D$3,1,2)*H747)","v":""},null,{"$f":"IF(J747=\"\",\"\",IF(Tabel1[[#This Row],[Kursustype]]=valgliste!$D$3,1,2)*J747)","v":""}]
[null,null,null,null,null,null,null,null,{"$f":"IF(H748=\"\",\"\",IF(Tabel1[[#This Row],[Kursustype]]=valgliste!$D$3,1,2)*H748)","v":""},null,{"$f":"IF(J748=\"\",\"\",IF(Tabel1[[#This Row],[Kursustype]]=valgliste!$D$3,1,2)*J748)","v":""}]
[null,null,null,null,null,null,null,null,{"$f":"IF(H749=\"\",\"\",IF(Tabel1[[#This Row],[Kursustype]]=valgliste!$D$3,1,2)*H749)","v":""},null,{"$f":"IF(J749=\"\",\"\",IF(Tabel1[[#This Row],[Kursustype]]=valgliste!$D$3,1,2)*J749)","v":""}]
[null,null,null,null,null,null,null,null,{"$f":"IF(H750=\"\",\"\",IF(Tabel1[[#This Row],[Kursustype]]=valgliste!$D$3,1,2)*H750)","v":""},null,{"$f":"IF(J750=\"\",\"\",IF(Tabel1[[#This Row],[Kursustype]]=valgliste!$D$3,1,2)*J750)","v":""}]
[null,null,null,null,null,null,null,null,{"$f":"IF(H751=\"\",\"\",IF(Tabel1[[#This Row],[Kursustype]]=valgliste!$D$3,1,2)*H751)","v":""},null,{"$f":"IF(J751=\"\",\"\",IF(Tabel1[[#This Row],[Kursustype]]=valgliste!$D$3,1,2)*J751)","v":""}]
[null,null,null,null,null,null,null,null,{"$f":"IF(H752=\"\",\"\",IF(Tabel1[[#This Row],[Kursustype]]=valgliste!$D$3,1,2)*H752)","v":""},null,{"$f":"IF(J752=\"\",\"\",IF(Tabel1[[#This Row],[Kursustype]]=valgliste!$D$3,1,2)*J752)","v":""}]
[null,null,null,null,null,null,null,null,{"$f":"IF(H753=\"\",\"\",IF(Tabel1[[#This Row],[Kursustype]]=valgliste!$D$3,1,2)*H753)","v":""},null,{"$f":"IF(J753=\"\",\"\",IF(Tabel1[[#This Row],[Kursustype]]=valgliste!$D$3,1,2)*J753)","v":""}]
[null,null,null,null,null,null,null,null,{"$f":"IF(H754=\"\",\"\",IF(Tabel1[[#This Row],[Kursustype]]=valgliste!$D$3,1,2)*H754)","v":""},null,{"$f":"IF(J754=\"\",\"\",IF(Tabel1[[#This Row],[Kursustype]]=valgliste!$D$3,1,2)*J754)","v":""}]
[null,null,null,null,null,null,null,null,{"$f":"IF(H755=\"\",\"\",IF(Tabel1[[#This Row],[Kursustype]]=valgliste!$D$3,1,2)*H755)","v":""},null,{"$f":"IF(J755=\"\",\"\",IF(Tabel1[[#This Row],[Kursustype]]=valgliste!$D$3,1,2)*J755)","v":""}]
[null,null,null,null,null,null,null,null,{"$f":"IF(H756=\"\",\"\",IF(Tabel1[[#This Row],[Kursustype]]=valgliste!$D$3,1,2)*H756)","v":""},null,{"$f":"IF(J756=\"\",\"\",IF(Tabel1[[#This Row],[Kursustype]]=valgliste!$D$3,1,2)*J756)","v":""}]
[null,null,null,null,null,null,null,null,{"$f":"IF(H757=\"\",\"\",IF(Tabel1[[#This Row],[Kursustype]]=valgliste!$D$3,1,2)*H757)","v":""},null,{"$f":"IF(J757=\"\",\"\",IF(Tabel1[[#This Row],[Kursustype]]=valgliste!$D$3,1,2)*J757)","v":""}]
[null,null,null,null,null,null,null,null,{"$f":"IF(H758=\"\",\"\",IF(Tabel1[[#This Row],[Kursustype]]=valgliste!$D$3,1,2)*H758)","v":""},null,{"$f":"IF(J758=\"\",\"\",IF(Tabel1[[#This Row],[Kursustype]]=valgliste!$D$3,1,2)*J758)","v":""}]
[null,null,null,null,null,null,null,null,{"$f":"IF(H759=\"\",\"\",IF(Tabel1[[#This Row],[Kursustype]]=valgliste!$D$3,1,2)*H759)","v":""},null,{"$f":"IF(J759=\"\",\"\",IF(Tabel1[[#This Row],[Kursustype]]=valgliste!$D$3,1,2)*J759)","v":""}]
[null,null,null,null,null,null,null,null,{"$f":"IF(H760=\"\",\"\",IF(Tabel1[[#This Row],[Kursustype]]=valgliste!$D$3,1,2)*H760)","v":""},null,{"$f":"IF(J760=\"\",\"\",IF(Tabel1[[#This Row],[Kursustype]]=valgliste!$D$3,1,2)*J760)","v":""}]
[null,null,null,null,null,null,null,null,{"$f":"IF(H761=\"\",\"\",IF(Tabel1[[#This Row],[Kursustype]]=valgliste!$D$3,1,2)*H761)","v":""},null,{"$f":"IF(J761=\"\",\"\",IF(Tabel1[[#This Row],[Kursustype]]=valgliste!$D$3,1,2)*J761)","v":""}]
[null,null,null,null,null,null,null,null,{"$f":"IF(H762=\"\",\"\",IF(Tabel1[[#This Row],[Kursustype]]=valgliste!$D$3,1,2)*H762)","v":""},null,{"$f":"IF(J762=\"\",\"\",IF(Tabel1[[#This Row],[Kursustype]]=valgliste!$D$3,1,2)*J762)","v":""}]
[null,null,null,null,null,null,null,null,{"$f":"IF(H763=\"\",\"\",IF(Tabel1[[#This Row],[Kursustype]]=valgliste!$D$3,1,2)*H763)","v":""},null,{"$f":"IF(J763=\"\",\"\",IF(Tabel1[[#This Row],[Kursustype]]=valgliste!$D$3,1,2)*J763)","v":""}]
[null,null,null,null,null,null,null,null,{"$f":"IF(H764=\"\",\"\",IF(Tabel1[[#This Row],[Kursustype]]=valgliste!$D$3,1,2)*H764)","v":""},null,{"$f":"IF(J764=\"\",\"\",IF(Tabel1[[#This Row],[Kursustype]]=valgliste!$D$3,1,2)*J764)","v":""}]
[null,null,null,null,null,null,null,null,{"$f":"IF(H765=\"\",\"\",IF(Tabel1[[#This Row],[Kursustype]]=valgliste!$D$3,1,2)*H765)","v":""},null,{"$f":"IF(J765=\"\",\"\",IF(Tabel1[[#This Row],[Kursustype]]=valgliste!$D$3,1,2)*J765)","v":""}]
[null,null,null,null,null,null,null,null,{"$f":"IF(H766=\"\",\"\",IF(Tabel1[[#This Row],[Kursustype]]=valgliste!$D$3,1,2)*H766)","v":""},null,{"$f":"IF(J766=\"\",\"\",IF(Tabel1[[#This Row],[Kursustype]]=valgliste!$D$3,1,2)*J766)","v":""}]
[null,null,null,null,null,null,null,null,{"$f":"IF(H767=\"\",\"\",IF(Tabel1[[#This Row],[Kursustype]]=valgliste!$D$3,1,2)*H767)","v":""},null,{"$f":"IF(J767=\"\",\"\",IF(Tabel1[[#This Row],[Kursustype]]=valgliste!$D$3,1,2)*J767)","v":""}]
[null,null,null,null,null,null,null,null,{"$f":"IF(H768=\"\",\"\",IF(Tabel1[[#This Row],[Kursustype]]=valgliste!$D$3,1,2)*H768)","v":""},null,{"$f":"IF(J768=\"\",\"\",IF(Tabel1[[#This Row],[Kursustype]]=valgliste!$D$3,1,2)*J768)","v":""}]
[null,null,null,null,null,null,null,null,{"$f":"IF(H769=\"\",\"\",IF(Tabel1[[#This Row],[Kursustype]]=valgliste!$D$3,1,2)*H769)","v":""},null,{"$f":"IF(J769=\"\",\"\",IF(Tabel1[[#This Row],[Kursustype]]=valgliste!$D$3,1,2)*J769)","v":""}]
[null,null,null,null,null,null,null,null,{"$f":"IF(H770=\"\",\"\",IF(Tabel1[[#This Row],[Kursustype]]=valgliste!$D$3,1,2)*H770)","v":""},null,{"$f":"IF(J770=\"\",\"\",IF(Tabel1[[#This Row],[Kursustype]]=valgliste!$D$3,1,2)*J770)","v":""}]
[null,null,null,null,null,null,null,null,{"$f":"IF(H771=\"\",\"\",IF(Tabel1[[#This Row],[Kursustype]]=valgliste!$D$3,1,2)*H771)","v":""},null,{"$f":"IF(J771=\"\",\"\",IF(Tabel1[[#This Row],[Kursustype]]=valgliste!$D$3,1,2)*J771)","v":""}]
[null,null,null,null,null,null,null,null,{"$f":"IF(H772=\"\",\"\",IF(Tabel1[[#This Row],[Kursustype]]=valgliste!$D$3,1,2)*H772)","v":""},null,{"$f":"IF(J772=\"\",\"\",IF(Tabel1[[#This Row],[Kursustype]]=valgliste!$D$3,1,2)*J772)","v":""}]
[null,null,null,null,null,null,null,null,{"$f":"IF(H773=\"\",\"\",IF(Tabel1[[#This Row],[Kursustype]]=valgliste!$D$3,1,2)*H773)","v":""},null,{"$f":"IF(J773=\"\",\"\",IF(Tabel1[[#This Row],[Kursustype]]=valgliste!$D$3,1,2)*J773)","v":""}]
[null,null,null,null,null,null,null,null,{"$f":"IF(H774=\"\",\"\",IF(Tabel1[[#This Row],[Kursustype]]=valgliste!$D$3,1,2)*H774)","v":""},null,{"$f":"IF(J774=\"\",\"\",IF(Tabel1[[#This Row],[Kursustype]]=valgliste!$D$3,1,2)*J774)","v":""}]
[null,null,null,null,null,null,null,null,{"$f":"IF(H775=\"\",\"\",IF(Tabel1[[#This Row],[Kursustype]]=valgliste!$D$3,1,2)*H775)","v":""},null,{"$f":"IF(J775=\"\",\"\",IF(Tabel1[[#This Row],[Kursustype]]=valgliste!$D$3,1,2)*J775)","v":""}]
[null,null,null,null,null,null,null,null,{"$f":"IF(H776=\"\",\"\",IF(Tabel1[[#This Row],[Kursustype]]=valgliste!$D$3,1,2)*H776)","v":""},null,{"$f":"IF(J776=\"\",\"\",IF(Tabel1[[#This Row],[Kursustype]]=valgliste!$D$3,1,2)*J776)","v":""}]
[null,null,null,null,null,null,null,null,{"$f":"IF(H777=\"\",\"\",IF(Tabel1[[#This Row],[Kursustype]]=valgliste!$D$3,1,2)*H777)","v":""},null,{"$f":"IF(J777=\"\",\"\",IF(Tabel1[[#This Row],[Kursustype]]=valgliste!$D$3,1,2)*J777)","v":""}]
[null,null,null,null,null,null,null,null,{"$f":"IF(H778=\"\",\"\",IF(Tabel1[[#This Row],[Kursustype]]=valgliste!$D$3,1,2)*H778)","v":""},null,{"$f":"IF(J778=\"\",\"\",IF(Tabel1[[#This Row],[Kursustype]]=valgliste!$D$3,1,2)*J778)","v":""}]
[null,null,null,null,null,null,null,null,{"$f":"IF(H779=\"\",\"\",IF(Tabel1[[#This Row],[Kursustype]]=valgliste!$D$3,1,2)*H779)","v":""},null,{"$f":"IF(J779=\"\",\"\",IF(Tabel1[[#This Row],[Kursustype]]=valgliste!$D$3,1,2)*J779)","v":""}]
[null,null,null,null,null,null,null,null,{"$f":"IF(H780=\"\",\"\",IF(Tabel1[[#This Row],[Kursustype]]=valgliste!$D$3,1,2)*H780)","v":""},null,{"$f":"IF(J780=\"\",\"\",IF(Tabel1[[#This Row],[Kursustype]]=valgliste!$D$3,1,2)*J780)","v":""}]
[null,null,null,null,null,null,null,null,{"$f":"IF(H781=\"\",\"\",IF(Tabel1[[#This Row],[Kursustype]]=valgliste!$D$3,1,2)*H781)","v":""},null,{"$f":"IF(J781=\"\",\"\",IF(Tabel1[[#This Row],[Kursustype]]=valgliste!$D$3,1,2)*J781)","v":""}]
[null,null,null,null,null,null,null,null,{"$f":"IF(H782=\"\",\"\",IF(Tabel1[[#This Row],[Kursustype]]=valgliste!$D$3,1,2)*H782)","v":""},null,{"$f":"IF(J782=\"\",\"\",IF(Tabel1[[#This Row],[Kursustype]]=valgliste!$D$3,1,2)*J782)","v":""}]
[null,null,null,null,null,null,null,null,{"$f":"IF(H783=\"\",\"\",IF(Tabel1[[#This Row],[Kursustype]]=valgliste!$D$3,1,2)*H783)","v":""},null,{"$f":"IF(J783=\"\",\"\",IF(Tabel1[[#This Row],[Kursustype]]=valgliste!$D$3,1,2)*J783)","v":""}]
[null,null,null,null,null,null,null,null,{"$f":"IF(H784=\"\",\"\",IF(Tabel1[[#This Row],[Kursustype]]=valgliste!$D$3,1,2)*H784)","v":""},null,{"$f":"IF(J784=\"\",\"\",IF(Tabel1[[#This Row],[Kursustype]]=valgliste!$D$3,1,2)*J784)","v":""}]
[null,null,null,null,null,null,null,null,{"$f":"IF(H785=\"\",\"\",IF(Tabel1[[#This Row],[Kursustype]]=valgliste!$D$3,1,2)*H785)","v":""},null,{"$f":"IF(J785=\"\",\"\",IF(Tabel1[[#This Row],[Kursustype]]=valgliste!$D$3,1,2)*J785)","v":""}]
[null,null,null,null,null,null,null,null,{"$f":"IF(H786=\"\",\"\",IF(Tabel1[[#This Row],[Kursustype]]=valgliste!$D$3,1,2)*H786)","v":""},null,{"$f":"IF(J786=\"\",\"\",IF(Tabel1[[#This Row],[Kursustype]]=valgliste!$D$3,1,2)*J786)","v":""}]
[null,null,null,null,null,null,null,null,{"$f":"IF(H787=\"\",\"\",IF(Tabel1[[#This Row],[Kursustype]]=valgliste!$D$3,1,2)*H787)","v":""},null,{"$f":"IF(J787=\"\",\"\",IF(Tabel1[[#This Row],[Kursustype]]=valgliste!$D$3,1,2)*J787)","v":""}]
[null,null,null,null,null,null,null,null,{"$f":"IF(H788=\"\",\"\",IF(Tabel1[[#This Row],[Kursustype]]=valgliste!$D$3,1,2)*H788)","v":""},null,{"$f":"IF(J788=\"\",\"\",IF(Tabel1[[#This Row],[Kursustype]]=valgliste!$D$3,1,2)*J788)","v":""}]
[null,null,null,null,null,null,null,null,{"$f":"IF(H789=\"\",\"\",IF(Tabel1[[#This Row],[Kursustype]]=valgliste!$D$3,1,2)*H789)","v":""},null,{"$f":"IF(J789=\"\",\"\",IF(Tabel1[[#This Row],[Kursustype]]=valgliste!$D$3,1,2)*J789)","v":""}]
[null,null,null,null,null,null,null,null,{"$f":"IF(H790=\"\",\"\",IF(Tabel1[[#This Row],[Kursustype]]=valgliste!$D$3,1,2)*H790)","v":""},null,{"$f":"IF(J790=\"\",\"\",IF(Tabel1[[#This Row],[Kursustype]]=valgliste!$D$3,1,2)*J790)","v":""}]
[null,null,null,null,null,null,null,null,{"$f":"IF(H791=\"\",\"\",IF(Tabel1[[#This Row],[Kursustype]]=valgliste!$D$3,1,2)*H791)","v":""},null,{"$f":"IF(J791=\"\",\"\",IF(Tabel1[[#This Row],[Kursustype]]=valgliste!$D$3,1,2)*J791)","v":""}]
[null,null,null,null,null,null,null,null,{"$f":"IF(H792=\"\",\"\",IF(Tabel1[[#This Row],[Kursustype]]=valgliste!$D$3,1,2)*H792)","v":""},null,{"$f":"IF(J792=\"\",\"\",IF(Tabel1[[#This Row],[Kursustype]]=valgliste!$D$3,1,2)*J792)","v":""}]
[null,null,null,null,null,null,null,null,{"$f":"IF(H793=\"\",\"\",IF(Tabel1[[#This Row],[Kursustype]]=valgliste!$D$3,1,2)*H793)","v":""},null,{"$f":"IF(J793=\"\",\"\",IF(Tabel1[[#This Row],[Kursustype]]=valgliste!$D$3,1,2)*J793)","v":""}]
[null,null,null,null,null,null,null,null,{"$f":"IF(H794=\"\",\"\",IF(Tabel1[[#This Row],[Kursustype]]=valgliste!$D$3,1,2)*H794)","v":""},null,{"$f":"IF(J794=\"\",\"\",IF(Tabel1[[#This Row],[Kursustype]]=valgliste!$D$3,1,2)*J794)","v":""}]
[null,null,null,null,null,null,null,null,{"$f":"IF(H795=\"\",\"\",IF(Tabel1[[#This Row],[Kursustype]]=valgliste!$D$3,1,2)*H795)","v":""},null,{"$f":"IF(J795=\"\",\"\",IF(Tabel1[[#This Row],[Kursustype]]=valgliste!$D$3,1,2)*J795)","v":""}]
[null,null,null,null,null,null,null,null,{"$f":"IF(H796=\"\",\"\",IF(Tabel1[[#This Row],[Kursustype]]=valgliste!$D$3,1,2)*H796)","v":""},null,{"$f":"IF(J796=\"\",\"\",IF(Tabel1[[#This Row],[Kursustype]]=valgliste!$D$3,1,2)*J796)","v":""}]
[null,null,null,null,null,null,null,null,{"$f":"IF(H797=\"\",\"\",IF(Tabel1[[#This Row],[Kursustype]]=valgliste!$D$3,1,2)*H797)","v":""},null,{"$f":"IF(J797=\"\",\"\",IF(Tabel1[[#This Row],[Kursustype]]=valgliste!$D$3,1,2)*J797)","v":""}]
[null,null,null,null,null,null,null,null,{"$f":"IF(H798=\"\",\"\",IF(Tabel1[[#This Row],[Kursustype]]=valgliste!$D$3,1,2)*H798)","v":""},null,{"$f":"IF(J798=\"\",\"\",IF(Tabel1[[#This Row],[Kursustype]]=valgliste!$D$3,1,2)*J798)","v":""}]
[null,null,null,null,null,null,null,null,{"$f":"IF(H799=\"\",\"\",IF(Tabel1[[#This Row],[Kursustype]]=valgliste!$D$3,1,2)*H799)","v":""},null,{"$f":"IF(J799=\"\",\"\",IF(Tabel1[[#This Row],[Kursustype]]=valgliste!$D$3,1,2)*J799)","v":""}]
[null,null,null,null,null,null,null,null,{"$f":"IF(H800=\"\",\"\",IF(Tabel1[[#This Row],[Kursustype]]=valgliste!$D$3,1,2)*H800)","v":""},null,{"$f":"IF(J800=\"\",\"\",IF(Tabel1[[#This Row],[Kursustype]]=valgliste!$D$3,1,2)*J800)","v":""}]
[null,null,null,null,null,null,null,null,{"$f":"IF(H801=\"\",\"\",IF(Tabel1[[#This Row],[Kursustype]]=valgliste!$D$3,1,2)*H801)","v":""},null,{"$f":"IF(J801=\"\",\"\",IF(Tabel1[[#This Row],[Kursustype]]=valgliste!$D$3,1,2)*J801)","v":""}]
[null,null,null,null,null,null,null,null,{"$f":"IF(H802=\"\",\"\",IF(Tabel1[[#This Row],[Kursustype]]=valgliste!$D$3,1,2)*H802)","v":""},null,{"$f":"IF(J802=\"\",\"\",IF(Tabel1[[#This Row],[Kursustype]]=valgliste!$D$3,1,2)*J802)","v":""}]
[null,null,null,null,null,null,null,null,{"$f":"IF(H803=\"\",\"\",IF(Tabel1[[#This Row],[Kursustype]]=valgliste!$D$3,1,2)*H803)","v":""},null,{"$f":"IF(J803=\"\",\"\",IF(Tabel1[[#This Row],[Kursustype]]=valgliste!$D$3,1,2)*J803)","v":""}]
[null,null,null,null,null,null,null,null,{"$f":"IF(H804=\"\",\"\",IF(Tabel1[[#This Row],[Kursustype]]=valgliste!$D$3,1,2)*H804)","v":""},null,{"$f":"IF(J804=\"\",\"\",IF(Tabel1[[#This Row],[Kursustype]]=valgliste!$D$3,1,2)*J804)","v":""}]
[null,null,null,null,null,null,null,null,{"$f":"IF(H805=\"\",\"\",IF(Tabel1[[#This Row],[Kursustype]]=valgliste!$D$3,1,2)*H805)","v":""},null,{"$f":"IF(J805=\"\",\"\",IF(Tabel1[[#This Row],[Kursustype]]=valgliste!$D$3,1,2)*J805)","v":""}]
[null,null,null,null,null,null,null,null,{"$f":"IF(H806=\"\",\"\",IF(Tabel1[[#This Row],[Kursustype]]=valgliste!$D$3,1,2)*H806)","v":""},null,{"$f":"IF(J806=\"\",\"\",IF(Tabel1[[#This Row],[Kursustype]]=valgliste!$D$3,1,2)*J806)","v":""}]
[null,null,null,null,null,null,null,null,{"$f":"IF(H807=\"\",\"\",IF(Tabel1[[#This Row],[Kursustype]]=valgliste!$D$3,1,2)*H807)","v":""},null,{"$f":"IF(J807=\"\",\"\",IF(Tabel1[[#This Row],[Kursustype]]=valgliste!$D$3,1,2)*J807)","v":""}]
[null,null,null,null,null,null,null,null,{"$f":"IF(H808=\"\",\"\",IF(Tabel1[[#This Row],[Kursustype]]=valgliste!$D$3,1,2)*H808)","v":""},null,{"$f":"IF(J808=\"\",\"\",IF(Tabel1[[#This Row],[Kursustype]]=valgliste!$D$3,1,2)*J808)","v":""}]
[null,null,null,null,null,null,null,null,{"$f":"IF(H809=\"\",\"\",IF(Tabel1[[#This Row],[Kursustype]]=valgliste!$D$3,1,2)*H809)","v":""},null,{"$f":"IF(J809=\"\",\"\",IF(Tabel1[[#This Row],[Kursustype]]=valgliste!$D$3,1,2)*J809)","v":""}]
[null,null,null,null,null,null,null,null,{"$f":"IF(H810=\"\",\"\",IF(Tabel1[[#This Row],[Kursustype]]=valgliste!$D$3,1,2)*H810)","v":""},null,{"$f":"IF(J810=\"\",\"\",IF(Tabel1[[#This Row],[Kursustype]]=valgliste!$D$3,1,2)*J810)","v":""}]
[null,null,null,null,null,null,null,null,{"$f":"IF(H811=\"\",\"\",IF(Tabel1[[#This Row],[Kursustype]]=valgliste!$D$3,1,2)*H811)","v":""},null,{"$f":"IF(J811=\"\",\"\",IF(Tabel1[[#This Row],[Kursustype]]=valgliste!$D$3,1,2)*J811)","v":""}]
[null,null,null,null,null,null,null,null,{"$f":"IF(H812=\"\",\"\",IF(Tabel1[[#This Row],[Kursustype]]=valgliste!$D$3,1,2)*H812)","v":""},null,{"$f":"IF(J812=\"\",\"\",IF(Tabel1[[#This Row],[Kursustype]]=valgliste!$D$3,1,2)*J812)","v":""}]
[null,null,null,null,null,null,null,null,{"$f":"IF(H813=\"\",\"\",IF(Tabel1[[#This Row],[Kursustype]]=valgliste!$D$3,1,2)*H813)","v":""},null,{"$f":"IF(J813=\"\",\"\",IF(Tabel1[[#This Row],[Kursustype]]=valgliste!$D$3,1,2)*J813)","v":""}]
[null,null,null,null,null,null,null,null,{"$f":"IF(H814=\"\",\"\",IF(Tabel1[[#This Row],[Kursustype]]=valgliste!$D$3,1,2)*H814)","v":""},null,{"$f":"IF(J814=\"\",\"\",IF(Tabel1[[#This Row],[Kursustype]]=valgliste!$D$3,1,2)*J814)","v":""}]
[null,null,null,null,null,null,null,null,{"$f":"IF(H815=\"\",\"\",IF(Tabel1[[#This Row],[Kursustype]]=valgliste!$D$3,1,2)*H815)","v":""},null,{"$f":"IF(J815=\"\",\"\",IF(Tabel1[[#This Row],[Kursustype]]=valgliste!$D$3,1,2)*J815)","v":""}]
[null,null,null,null,null,null,null,null,{"$f":"IF(H816=\"\",\"\",IF(Tabel1[[#This Row],[Kursustype]]=valgliste!$D$3,1,2)*H816)","v":""},null,{"$f":"IF(J816=\"\",\"\",IF(Tabel1[[#This Row],[Kursustype]]=valgliste!$D$3,1,2)*J816)","v":""}]
[null,null,null,null,null,null,null,null,{"$f":"IF(H817=\"\",\"\",IF(Tabel1[[#This Row],[Kursustype]]=valgliste!$D$3,1,2)*H817)","v":""},null,{"$f":"IF(J817=\"\",\"\",IF(Tabel1[[#This Row],[Kursustype]]=valgliste!$D$3,1,2)*J817)","v":""}]
[null,null,null,null,null,null,null,null,{"$f":"IF(H818=\"\",\"\",IF(Tabel1[[#This Row],[Kursustype]]=valgliste!$D$3,1,2)*H818)","v":""},null,{"$f":"IF(J818=\"\",\"\",IF(Tabel1[[#This Row],[Kursustype]]=valgliste!$D$3,1,2)*J818)","v":""}]
[null,null,null,null,null,null,null,null,{"$f":"IF(H819=\"\",\"\",IF(Tabel1[[#This Row],[Kursustype]]=valgliste!$D$3,1,2)*H819)","v":""},null,{"$f":"IF(J819=\"\",\"\",IF(Tabel1[[#This Row],[Kursustype]]=valgliste!$D$3,1,2)*J819)","v":""}]
[null,null,null,null,null,null,null,null,{"$f":"IF(H820=\"\",\"\",IF(Tabel1[[#This Row],[Kursustype]]=valgliste!$D$3,1,2)*H820)","v":""},null,{"$f":"IF(J820=\"\",\"\",IF(Tabel1[[#This Row],[Kursustype]]=valgliste!$D$3,1,2)*J820)","v":""}]
[null,null,null,null,null,null,null,null,{"$f":"IF(H821=\"\",\"\",IF(Tabel1[[#This Row],[Kursustype]]=valgliste!$D$3,1,2)*H821)","v":""},null,{"$f":"IF(J821=\"\",\"\",IF(Tabel1[[#This Row],[Kursustype]]=valgliste!$D$3,1,2)*J821)","v":""}]
[null,null,null,null,null,null,null,null,{"$f":"IF(H822=\"\",\"\",IF(Tabel1[[#This Row],[Kursustype]]=valgliste!$D$3,1,2)*H822)","v":""},null,{"$f":"IF(J822=\"\",\"\",IF(Tabel1[[#This Row],[Kursustype]]=valgliste!$D$3,1,2)*J822)","v":""}]
[null,null,null,null,null,null,null,null,{"$f":"IF(H823=\"\",\"\",IF(Tabel1[[#This Row],[Kursustype]]=valgliste!$D$3,1,2)*H823)","v":""},null,{"$f":"IF(J823=\"\",\"\",IF(Tabel1[[#This Row],[Kursustype]]=valgliste!$D$3,1,2)*J823)","v":""}]
[null,null,null,null,null,null,null,null,{"$f":"IF(H824=\"\",\"\",IF(Tabel1[[#This Row],[Kursustype]]=valgliste!$D$3,1,2)*H824)","v":""},null,{"$f":"IF(J824=\"\",\"\",IF(Tabel1[[#This Row],[Kursustype]]=valgliste!$D$3,1,2)*J824)","v":""}]
[null,null,null,null,null,null,null,null,{"$f":"IF(H825=\"\",\"\",IF(Tabel1[[#This Row],[Kursustype]]=valgliste!$D$3,1,2)*H825)","v":""},null,{"$f":"IF(J825=\"\",\"\",IF(Tabel1[[#This Row],[Kursustype]]=valgliste!$D$3,1,2)*J825)","v":""}]
[null,null,null,null,null,null,null,null,{"$f":"IF(H826=\"\",\"\",IF(Tabel1[[#This Row],[Kursustype]]=valgliste!$D$3,1,2)*H826)","v":""},null,{"$f":"IF(J826=\"\",\"\",IF(Tabel1[[#This Row],[Kursustype]]=valgliste!$D$3,1,2)*J826)","v":""}]
[null,null,null,null,null,null,null,null,{"$f":"IF(H827=\"\",\"\",IF(Tabel1[[#This Row],[Kursustype]]=valgliste!$D$3,1,2)*H827)","v":""},null,{"$f":"IF(J827=\"\",\"\",IF(Tabel1[[#This Row],[Kursustype]]=valgliste!$D$3,1,2)*J827)","v":""}]
[null,null,null,null,null,null,null,null,{"$f":"IF(H828=\"\",\"\",IF(Tabel1[[#This Row],[Kursustype]]=valgliste!$D$3,1,2)*H828)","v":""},null,{"$f":"IF(J828=\"\",\"\",IF(Tabel1[[#This Row],[Kursustype]]=valgliste!$D$3,1,2)*J828)","v":""}]
[null,null,null,null,null,null,null,null,{"$f":"IF(H829=\"\",\"\",IF(Tabel1[[#This Row],[Kursustype]]=valgliste!$D$3,1,2)*H829)","v":""},null,{"$f":"IF(J829=\"\",\"\",IF(Tabel1[[#This Row],[Kursustype]]=valgliste!$D$3,1,2)*J829)","v":""}]
[null,null,null,null,null,null,null,null,{"$f":"IF(H830=\"\",\"\",IF(Tabel1[[#This Row],[Kursustype]]=valgliste!$D$3,1,2)*H830)","v":""},null,{"$f":"IF(J830=\"\",\"\",IF(Tabel1[[#This Row],[Kursustype]]=valgliste!$D$3,1,2)*J830)","v":""}]
[null,null,null,null,null,null,null,null,{"$f":"IF(H831=\"\",\"\",IF(Tabel1[[#This Row],[Kursustype]]=valgliste!$D$3,1,2)*H831)","v":""},null,{"$f":"IF(J831=\"\",\"\",IF(Tabel1[[#This Row],[Kursustype]]=valgliste!$D$3,1,2)*J831)","v":""}]
[null,null,null,null,null,null,null,null,{"$f":"IF(H832=\"\",\"\",IF(Tabel1[[#This Row],[Kursustype]]=valgliste!$D$3,1,2)*H832)","v":""},null,{"$f":"IF(J832=\"\",\"\",IF(Tabel1[[#This Row],[Kursustype]]=valgliste!$D$3,1,2)*J832)","v":""}]
[null,null,null,null,null,null,null,null,{"$f":"IF(H833=\"\",\"\",IF(Tabel1[[#This Row],[Kursustype]]=valgliste!$D$3,1,2)*H833)","v":""},null,{"$f":"IF(J833=\"\",\"\",IF(Tabel1[[#This Row],[Kursustype]]=valgliste!$D$3,1,2)*J833)","v":""}]
[null,null,null,null,null,null,null,null,{"$f":"IF(H834=\"\",\"\",IF(Tabel1[[#This Row],[Kursustype]]=valgliste!$D$3,1,2)*H834)","v":""},null,{"$f":"IF(J834=\"\",\"\",IF(Tabel1[[#This Row],[Kursustype]]=valgliste!$D$3,1,2)*J834)","v":""}]
[null,null,null,null,null,null,null,null,{"$f":"IF(H835=\"\",\"\",IF(Tabel1[[#This Row],[Kursustype]]=valgliste!$D$3,1,2)*H835)","v":""},null,{"$f":"IF(J835=\"\",\"\",IF(Tabel1[[#This Row],[Kursustype]]=valgliste!$D$3,1,2)*J835)","v":""}]
[null,null,null,null,null,null,null,null,{"$f":"IF(H836=\"\",\"\",IF(Tabel1[[#This Row],[Kursustype]]=valgliste!$D$3,1,2)*H836)","v":""},null,{"$f":"IF(J836=\"\",\"\",IF(Tabel1[[#This Row],[Kursustype]]=valgliste!$D$3,1,2)*J836)","v":""}]
[null,null,null,null,null,null,null,null,{"$f":"IF(H837=\"\",\"\",IF(Tabel1[[#This Row],[Kursustype]]=valgliste!$D$3,1,2)*H837)","v":""},null,{"$f":"IF(J837=\"\",\"\",IF(Tabel1[[#This Row],[Kursustype]]=valgliste!$D$3,1,2)*J837)","v":""}]
[null,null,null,null,null,null,null,null,{"$f":"IF(H838=\"\",\"\",IF(Tabel1[[#This Row],[Kursustype]]=valgliste!$D$3,1,2)*H838)","v":""},null,{"$f":"IF(J838=\"\",\"\",IF(Tabel1[[#This Row],[Kursustype]]=valgliste!$D$3,1,2)*J838)","v":""}]
[null,null,null,null,null,null,null,null,{"$f":"IF(H839=\"\",\"\",IF(Tabel1[[#This Row],[Kursustype]]=valgliste!$D$3,1,2)*H839)","v":""},null,{"$f":"IF(J839=\"\",\"\",IF(Tabel1[[#This Row],[Kursustype]]=valgliste!$D$3,1,2)*J839)","v":""}]
[null,null,null,null,null,null,null,null,{"$f":"IF(H840=\"\",\"\",IF(Tabel1[[#This Row],[Kursustype]]=valgliste!$D$3,1,2)*H840)","v":""},null,{"$f":"IF(J840=\"\",\"\",IF(Tabel1[[#This Row],[Kursustype]]=valgliste!$D$3,1,2)*J840)","v":""}]
[null,null,null,null,null,null,null,null,{"$f":"IF(H841=\"\",\"\",IF(Tabel1[[#This Row],[Kursustype]]=valgliste!$D$3,1,2)*H841)","v":""},null,{"$f":"IF(J841=\"\",\"\",IF(Tabel1[[#This Row],[Kursustype]]=valgliste!$D$3,1,2)*J841)","v":""}]
[null,null,null,null,null,null,null,null,{"$f":"IF(H842=\"\",\"\",IF(Tabel1[[#This Row],[Kursustype]]=valgliste!$D$3,1,2)*H842)","v":""},null,{"$f":"IF(J842=\"\",\"\",IF(Tabel1[[#This Row],[Kursustype]]=valgliste!$D$3,1,2)*J842)","v":""}]
[null,null,null,null,null,null,null,null,{"$f":"IF(H843=\"\",\"\",IF(Tabel1[[#This Row],[Kursustype]]=valgliste!$D$3,1,2)*H843)","v":""},null,{"$f":"IF(J843=\"\",\"\",IF(Tabel1[[#This Row],[Kursustype]]=valgliste!$D$3,1,2)*J843)","v":""}]
[null,null,null,null,null,null,null,null,{"$f":"IF(H844=\"\",\"\",IF(Tabel1[[#This Row],[Kursustype]]=valgliste!$D$3,1,2)*H844)","v":""},null,{"$f":"IF(J844=\"\",\"\",IF(Tabel1[[#This Row],[Kursustype]]=valgliste!$D$3,1,2)*J844)","v":""}]
[null,null,null,null,null,null,null,null,{"$f":"IF(H845=\"\",\"\",IF(Tabel1[[#This Row],[Kursustype]]=valgliste!$D$3,1,2)*H845)","v":""},null,{"$f":"IF(J845=\"\",\"\",IF(Tabel1[[#This Row],[Kursustype]]=valgliste!$D$3,1,2)*J845)","v":""}]
[null,null,null,null,null,null,null,null,{"$f":"IF(H846=\"\",\"\",IF(Tabel1[[#This Row],[Kursustype]]=valgliste!$D$3,1,2)*H846)","v":""},null,{"$f":"IF(J846=\"\",\"\",IF(Tabel1[[#This Row],[Kursustype]]=valgliste!$D$3,1,2)*J846)","v":""}]
[null,null,null,null,null,null,null,null,{"$f":"IF(H847=\"\",\"\",IF(Tabel1[[#This Row],[Kursustype]]=valgliste!$D$3,1,2)*H847)","v":""},null,{"$f":"IF(J847=\"\",\"\",IF(Tabel1[[#This Row],[Kursustype]]=valgliste!$D$3,1,2)*J847)","v":""}]
[null,null,null,null,null,null,null,null,{"$f":"IF(H848=\"\",\"\",IF(Tabel1[[#This Row],[Kursustype]]=valgliste!$D$3,1,2)*H848)","v":""},null,{"$f":"IF(J848=\"\",\"\",IF(Tabel1[[#This Row],[Kursustype]]=valgliste!$D$3,1,2)*J848)","v":""}]
[null,null,null,null,null,null,null,null,{"$f":"IF(H849=\"\",\"\",IF(Tabel1[[#This Row],[Kursustype]]=valgliste!$D$3,1,2)*H849)","v":""},null,{"$f":"IF(J849=\"\",\"\",IF(Tabel1[[#This Row],[Kursustype]]=valgliste!$D$3,1,2)*J849)","v":""}]
[null,null,null,null,null,null,null,null,{"$f":"IF(H850=\"\",\"\",IF(Tabel1[[#This Row],[Kursustype]]=valgliste!$D$3,1,2)*H850)","v":""},null,{"$f":"IF(J850=\"\",\"\",IF(Tabel1[[#This Row],[Kursustype]]=valgliste!$D$3,1,2)*J850)","v":""}]
[null,null,null,null,null,null,null,null,{"$f":"IF(H851=\"\",\"\",IF(Tabel1[[#This Row],[Kursustype]]=valgliste!$D$3,1,2)*H851)","v":""},null,{"$f":"IF(J851=\"\",\"\",IF(Tabel1[[#This Row],[Kursustype]]=valgliste!$D$3,1,2)*J851)","v":""}]
[null,null,null,null,null,null,null,null,{"$f":"IF(H852=\"\",\"\",IF(Tabel1[[#This Row],[Kursustype]]=valgliste!$D$3,1,2)*H852)","v":""},null,{"$f":"IF(J852=\"\",\"\",IF(Tabel1[[#This Row],[Kursustype]]=valgliste!$D$3,1,2)*J852)","v":""}]
[null,null,null,null,null,null,null,null,{"$f":"IF(H853=\"\",\"\",IF(Tabel1[[#This Row],[Kursustype]]=valgliste!$D$3,1,2)*H853)","v":""},null,{"$f":"IF(J853=\"\",\"\",IF(Tabel1[[#This Row],[Kursustype]]=valgliste!$D$3,1,2)*J853)","v":""}]
[null,null,null,null,null,null,null,null,{"$f":"IF(H854=\"\",\"\",IF(Tabel1[[#This Row],[Kursustype]]=valgliste!$D$3,1,2)*H854)","v":""},null,{"$f":"IF(J854=\"\",\"\",IF(Tabel1[[#This Row],[Kursustype]]=valgliste!$D$3,1,2)*J854)","v":""}]
[null,null,null,null,null,null,null,null,{"$f":"IF(H855=\"\",\"\",IF(Tabel1[[#This Row],[Kursustype]]=valgliste!$D$3,1,2)*H855)","v":""},null,{"$f":"IF(J855=\"\",\"\",IF(Tabel1[[#This Row],[Kursustype]]=valgliste!$D$3,1,2)*J855)","v":""}]
[null,null,null,null,null,null,null,null,{"$f":"IF(H856=\"\",\"\",IF(Tabel1[[#This Row],[Kursustype]]=valgliste!$D$3,1,2)*H856)","v":""},null,{"$f":"IF(J856=\"\",\"\",IF(Tabel1[[#This Row],[Kursustype]]=valgliste!$D$3,1,2)*J856)","v":""}]
[null,null,null,null,null,null,null,null,{"$f":"IF(H857=\"\",\"\",IF(Tabel1[[#This Row],[Kursustype]]=valgliste!$D$3,1,2)*H857)","v":""},null,{"$f":"IF(J857=\"\",\"\",IF(Tabel1[[#This Row],[Kursustype]]=valgliste!$D$3,1,2)*J857)","v":""}]
[null,null,null,null,null,null,null,null,{"$f":"IF(H858=\"\",\"\",IF(Tabel1[[#This Row],[Kursustype]]=valgliste!$D$3,1,2)*H858)","v":""},null,{"$f":"IF(J858=\"\",\"\",IF(Tabel1[[#This Row],[Kursustype]]=valgliste!$D$3,1,2)*J858)","v":""}]
[null,null,null,null,null,null,null,null,{"$f":"IF(H859=\"\",\"\",IF(Tabel1[[#This Row],[Kursustype]]=valgliste!$D$3,1,2)*H859)","v":""},null,{"$f":"IF(J859=\"\",\"\",IF(Tabel1[[#This Row],[Kursustype]]=valgliste!$D$3,1,2)*J859)","v":""}]
[null,null,null,null,null,null,null,null,{"$f":"IF(H860=\"\",\"\",IF(Tabel1[[#This Row],[Kursustype]]=valgliste!$D$3,1,2)*H860)","v":""},null,{"$f":"IF(J860=\"\",\"\",IF(Tabel1[[#This Row],[Kursustype]]=valgliste!$D$3,1,2)*J860)","v":""}]
[null,null,null,null,null,null,null,null,{"$f":"IF(H861=\"\",\"\",IF(Tabel1[[#This Row],[Kursustype]]=valgliste!$D$3,1,2)*H861)","v":""},null,{"$f":"IF(J861=\"\",\"\",IF(Tabel1[[#This Row],[Kursustype]]=valgliste!$D$3,1,2)*J861)","v":""}]
[null,null,null,null,null,null,null,null,{"$f":"IF(H862=\"\",\"\",IF(Tabel1[[#This Row],[Kursustype]]=valgliste!$D$3,1,2)*H862)","v":""},null,{"$f":"IF(J862=\"\",\"\",IF(Tabel1[[#This Row],[Kursustype]]=valgliste!$D$3,1,2)*J862)","v":""}]
[null,null,null,null,null,null,null,null,{"$f":"IF(H863=\"\",\"\",IF(Tabel1[[#This Row],[Kursustype]]=valgliste!$D$3,1,2)*H863)","v":""},null,{"$f":"IF(J863=\"\",\"\",IF(Tabel1[[#This Row],[Kursustype]]=valgliste!$D$3,1,2)*J863)","v":""}]
[null,null,null,null,null,null,null,null,{"$f":"IF(H864=\"\",\"\",IF(Tabel1[[#This Row],[Kursustype]]=valgliste!$D$3,1,2)*H864)","v":""},null,{"$f":"IF(J864=\"\",\"\",IF(Tabel1[[#This Row],[Kursustype]]=valgliste!$D$3,1,2)*J864)","v":""}]
[null,null,null,null,null,null,null,null,{"$f":"IF(H865=\"\",\"\",IF(Tabel1[[#This Row],[Kursustype]]=valgliste!$D$3,1,2)*H865)","v":""},null,{"$f":"IF(J865=\"\",\"\",IF(Tabel1[[#This Row],[Kursustype]]=valgliste!$D$3,1,2)*J865)","v":""}]
[null,null,null,null,null,null,null,null,{"$f":"IF(H866=\"\",\"\",IF(Tabel1[[#This Row],[Kursustype]]=valgliste!$D$3,1,2)*H866)","v":""},null,{"$f":"IF(J866=\"\",\"\",IF(Tabel1[[#This Row],[Kursustype]]=valgliste!$D$3,1,2)*J866)","v":""}]
[null,null,null,null,null,null,null,null,{"$f":"IF(H867=\"\",\"\",IF(Tabel1[[#This Row],[Kursustype]]=valgliste!$D$3,1,2)*H867)","v":""},null,{"$f":"IF(J867=\"\",\"\",IF(Tabel1[[#This Row],[Kursustype]]=valgliste!$D$3,1,2)*J867)","v":""}]
[null,null,null,null,null,null,null,null,{"$f":"IF(H868=\"\",\"\",IF(Tabel1[[#This Row],[Kursustype]]=valgliste!$D$3,1,2)*H868)","v":""},null,{"$f":"IF(J868=\"\",\"\",IF(Tabel1[[#This Row],[Kursustype]]=valgliste!$D$3,1,2)*J868)","v":""}]
[null,null,null,null,null,null,null,null,{"$f":"IF(H869=\"\",\"\",IF(Tabel1[[#This Row],[Kursustype]]=valgliste!$D$3,1,2)*H869)","v":""},null,{"$f":"IF(J869=\"\",\"\",IF(Tabel1[[#This Row],[Kursustype]]=valgliste!$D$3,1,2)*J869)","v":""}]
[null,null,null,null,null,null,null,null,{"$f":"IF(H870=\"\",\"\",IF(Tabel1[[#This Row],[Kursustype]]=valgliste!$D$3,1,2)*H870)","v":""},null,{"$f":"IF(J870=\"\",\"\",IF(Tabel1[[#This Row],[Kursustype]]=valgliste!$D$3,1,2)*J870)","v":""}]
[null,null,null,null,null,null,null,null,{"$f":"IF(H871=\"\",\"\",IF(Tabel1[[#This Row],[Kursustype]]=valgliste!$D$3,1,2)*H871)","v":""},null,{"$f":"IF(J871=\"\",\"\",IF(Tabel1[[#This Row],[Kursustype]]=valgliste!$D$3,1,2)*J871)","v":""}]
[null,null,null,null,null,null,null,null,{"$f":"IF(H872=\"\",\"\",IF(Tabel1[[#This Row],[Kursustype]]=valgliste!$D$3,1,2)*H872)","v":""},null,{"$f":"IF(J872=\"\",\"\",IF(Tabel1[[#This Row],[Kursustype]]=valgliste!$D$3,1,2)*J872)","v":""}]
[null,null,null,null,null,null,null,null,{"$f":"IF(H873=\"\",\"\",IF(Tabel1[[#This Row],[Kursustype]]=valgliste!$D$3,1,2)*H873)","v":""},null,{"$f":"IF(J873=\"\",\"\",IF(Tabel1[[#This Row],[Kursustype]]=valgliste!$D$3,1,2)*J873)","v":""}]
[null,null,null,null,null,null,null,null,{"$f":"IF(H874=\"\",\"\",IF(Tabel1[[#This Row],[Kursustype]]=valgliste!$D$3,1,2)*H874)","v":""},null,{"$f":"IF(J874=\"\",\"\",IF(Tabel1[[#This Row],[Kursustype]]=valgliste!$D$3,1,2)*J874)","v":""}]
[null,null,null,null,null,null,null,null,{"$f":"IF(H875=\"\",\"\",IF(Tabel1[[#This Row],[Kursustype]]=valgliste!$D$3,1,2)*H875)","v":""},null,{"$f":"IF(J875=\"\",\"\",IF(Tabel1[[#This Row],[Kursustype]]=valgliste!$D$3,1,2)*J875)","v":""}]
[null,null,null,null,null,null,null,null,{"$f":"IF(H876=\"\",\"\",IF(Tabel1[[#This Row],[Kursustype]]=valgliste!$D$3,1,2)*H876)","v":""},null,{"$f":"IF(J876=\"\",\"\",IF(Tabel1[[#This Row],[Kursustype]]=valgliste!$D$3,1,2)*J876)","v":""}]
[null,null,null,null,null,null,null,null,{"$f":"IF(H877=\"\",\"\",IF(Tabel1[[#This Row],[Kursustype]]=valgliste!$D$3,1,2)*H877)","v":""},null,{"$f":"IF(J877=\"\",\"\",IF(Tabel1[[#This Row],[Kursustype]]=valgliste!$D$3,1,2)*J877)","v":""}]
[null,null,null,null,null,null,null,null,{"$f":"IF(H878=\"\",\"\",IF(Tabel1[[#This Row],[Kursustype]]=valgliste!$D$3,1,2)*H878)","v":""},null,{"$f":"IF(J878=\"\",\"\",IF(Tabel1[[#This Row],[Kursustype]]=valgliste!$D$3,1,2)*J878)","v":""}]
[null,null,null,null,null,null,null,null,{"$f":"IF(H879=\"\",\"\",IF(Tabel1[[#This Row],[Kursustype]]=valgliste!$D$3,1,2)*H879)","v":""},null,{"$f":"IF(J879=\"\",\"\",IF(Tabel1[[#This Row],[Kursustype]]=valgliste!$D$3,1,2)*J879)","v":""}]
[null,null,null,null,null,null,null,null,{"$f":"IF(H880=\"\",\"\",IF(Tabel1[[#This Row],[Kursustype]]=valgliste!$D$3,1,2)*H880)","v":""},null,{"$f":"IF(J880=\"\",\"\",IF(Tabel1[[#This Row],[Kursustype]]=valgliste!$D$3,1,2)*J880)","v":""}]
[null,null,null,null,null,null,null,null,{"$f":"IF(H881=\"\",\"\",IF(Tabel1[[#This Row],[Kursustype]]=valgliste!$D$3,1,2)*H881)","v":""},null,{"$f":"IF(J881=\"\",\"\",IF(Tabel1[[#This Row],[Kursustype]]=valgliste!$D$3,1,2)*J881)","v":""}]
[null,null,null,null,null,null,null,null,{"$f":"IF(H882=\"\",\"\",IF(Tabel1[[#This Row],[Kursustype]]=valgliste!$D$3,1,2)*H882)","v":""},null,{"$f":"IF(J882=\"\",\"\",IF(Tabel1[[#This Row],[Kursustype]]=valgliste!$D$3,1,2)*J882)","v":""}]
[null,null,null,null,null,null,null,null,{"$f":"IF(H883=\"\",\"\",IF(Tabel1[[#This Row],[Kursustype]]=valgliste!$D$3,1,2)*H883)","v":""},null,{"$f":"IF(J883=\"\",\"\",IF(Tabel1[[#This Row],[Kursustype]]=valgliste!$D$3,1,2)*J883)","v":""}]
[null,null,null,null,null,null,null,null,{"$f":"IF(H884=\"\",\"\",IF(Tabel1[[#This Row],[Kursustype]]=valgliste!$D$3,1,2)*H884)","v":""},null,{"$f":"IF(J884=\"\",\"\",IF(Tabel1[[#This Row],[Kursustype]]=valgliste!$D$3,1,2)*J884)","v":""}]
[null,null,null,null,null,null,null,null,{"$f":"IF(H885=\"\",\"\",IF(Tabel1[[#This Row],[Kursustype]]=valgliste!$D$3,1,2)*H885)","v":""},null,{"$f":"IF(J885=\"\",\"\",IF(Tabel1[[#This Row],[Kursustype]]=valgliste!$D$3,1,2)*J885)","v":""}]
[null,null,null,null,null,null,null,null,{"$f":"IF(H886=\"\",\"\",IF(Tabel1[[#This Row],[Kursustype]]=valgliste!$D$3,1,2)*H886)","v":""},null,{"$f":"IF(J886=\"\",\"\",IF(Tabel1[[#This Row],[Kursustype]]=valgliste!$D$3,1,2)*J886)","v":""}]
[null,null,null,null,null,null,null,null,{"$f":"IF(H887=\"\",\"\",IF(Tabel1[[#This Row],[Kursustype]]=valgliste!$D$3,1,2)*H887)","v":""},null,{"$f":"IF(J887=\"\",\"\",IF(Tabel1[[#This Row],[Kursustype]]=valgliste!$D$3,1,2)*J887)","v":""}]
[null,null,null,null,null,null,null,null,{"$f":"IF(H888=\"\",\"\",IF(Tabel1[[#This Row],[Kursustype]]=valgliste!$D$3,1,2)*H888)","v":""},null,{"$f":"IF(J888=\"\",\"\",IF(Tabel1[[#This Row],[Kursustype]]=valgliste!$D$3,1,2)*J888)","v":""}]
[null,null,null,null,null,null,null,null,{"$f":"IF(H889=\"\",\"\",IF(Tabel1[[#This Row],[Kursustype]]=valgliste!$D$3,1,2)*H889)","v":""},null,{"$f":"IF(J889=\"\",\"\",IF(Tabel1[[#This Row],[Kursustype]]=valgliste!$D$3,1,2)*J889)","v":""}]
[null,null,null,null,null,null,null,null,{"$f":"IF(H890=\"\",\"\",IF(Tabel1[[#This Row],[Kursustype]]=valgliste!$D$3,1,2)*H890)","v":""},null,{"$f":"IF(J890=\"\",\"\",IF(Tabel1[[#This Row],[Kursustype]]=valgliste!$D$3,1,2)*J890)","v":""}]
[null,null,null,null,null,null,null,null,{"$f":"IF(H891=\"\",\"\",IF(Tabel1[[#This Row],[Kursustype]]=valgliste!$D$3,1,2)*H891)","v":""},null,{"$f":"IF(J891=\"\",\"\",IF(Tabel1[[#This Row],[Kursustype]]=valgliste!$D$3,1,2)*J891)","v":""}]
[null,null,null,null,null,null,null,null,{"$f":"IF(H892=\"\",\"\",IF(Tabel1[[#This Row],[Kursustype]]=valgliste!$D$3,1,2)*H892)","v":""},null,{"$f":"IF(J892=\"\",\"\",IF(Tabel1[[#This Row],[Kursustype]]=valgliste!$D$3,1,2)*J892)","v":""}]
[null,null,null,null,null,null,null,null,{"$f":"IF(H893=\"\",\"\",IF(Tabel1[[#This Row],[Kursustype]]=valgliste!$D$3,1,2)*H893)","v":""},null,{"$f":"IF(J893=\"\",\"\",IF(Tabel1[[#This Row],[Kursustype]]=valgliste!$D$3,1,2)*J893)","v":""}]
[null,null,null,null,null,null,null,null,{"$f":"IF(H894=\"\",\"\",IF(Tabel1[[#This Row],[Kursustype]]=valgliste!$D$3,1,2)*H894)","v":""},null,{"$f":"IF(J894=\"\",\"\",IF(Tabel1[[#This Row],[Kursustype]]=valgliste!$D$3,1,2)*J894)","v":""}]
[null,null,null,null,null,null,null,null,{"$f":"IF(H895=\"\",\"\",IF(Tabel1[[#This Row],[Kursustype]]=valgliste!$D$3,1,2)*H895)","v":""},null,{"$f":"IF(J895=\"\",\"\",IF(Tabel1[[#This Row],[Kursustype]]=valgliste!$D$3,1,2)*J895)","v":""}]
[null,null,null,null,null,null,null,null,{"$f":"IF(H896=\"\",\"\",IF(Tabel1[[#This Row],[Kursustype]]=valgliste!$D$3,1,2)*H896)","v":""},null,{"$f":"IF(J896=\"\",\"\",IF(Tabel1[[#This Row],[Kursustype]]=valgliste!$D$3,1,2)*J896)","v":""}]
[null,null,null,null,null,null,null,null,{"$f":"IF(H897=\"\",\"\",IF(Tabel1[[#This Row],[Kursustype]]=valgliste!$D$3,1,2)*H897)","v":""},null,{"$f":"IF(J897=\"\",\"\",IF(Tabel1[[#This Row],[Kursustype]]=valgliste!$D$3,1,2)*J897)","v":""}]
[null,null,null,null,null,null,null,null,{"$f":"IF(H898=\"\",\"\",IF(Tabel1[[#This Row],[Kursustype]]=valgliste!$D$3,1,2)*H898)","v":""},null,{"$f":"IF(J898=\"\",\"\",IF(Tabel1[[#This Row],[Kursustype]]=valgliste!$D$3,1,2)*J898)","v":""}]
[null,null,null,null,null,null,null,null,{"$f":"IF(H899=\"\",\"\",IF(Tabel1[[#This Row],[Kursustype]]=valgliste!$D$3,1,2)*H899)","v":""},null,{"$f":"IF(J899=\"\",\"\",IF(Tabel1[[#This Row],[Kursustype]]=valgliste!$D$3,1,2)*J899)","v":""}]
[null,null,null,null,null,null,null,null,{"$f":"IF(H900=\"\",\"\",IF(Tabel1[[#This Row],[Kursustype]]=valgliste!$D$3,1,2)*H900)","v":""},null,{"$f":"IF(J900=\"\",\"\",IF(Tabel1[[#This Row],[Kursustype]]=valgliste!$D$3,1,2)*J900)","v":""}]
[null,null,null,null,null,null,null,null,{"$f":"IF(H901=\"\",\"\",IF(Tabel1[[#This Row],[Kursustype]]=valgliste!$D$3,1,2)*H901)","v":""},null,{"$f":"IF(J901=\"\",\"\",IF(Tabel1[[#This Row],[Kursustype]]=valgliste!$D$3,1,2)*J901)","v":""}]
[null,null,null,null,null,null,null,null,{"$f":"IF(H902=\"\",\"\",IF(Tabel1[[#This Row],[Kursustype]]=valgliste!$D$3,1,2)*H902)","v":""},null,{"$f":"IF(J902=\"\",\"\",IF(Tabel1[[#This Row],[Kursustype]]=valgliste!$D$3,1,2)*J902)","v":""}]
[null,null,null,null,null,null,null,null,{"$f":"IF(H903=\"\",\"\",IF(Tabel1[[#This Row],[Kursustype]]=valgliste!$D$3,1,2)*H903)","v":""},null,{"$f":"IF(J903=\"\",\"\",IF(Tabel1[[#This Row],[Kursustype]]=valgliste!$D$3,1,2)*J903)","v":""}]
[null,null,null,null,null,null,null,null,{"$f":"IF(H904=\"\",\"\",IF(Tabel1[[#This Row],[Kursustype]]=valgliste!$D$3,1,2)*H904)","v":""},null,{"$f":"IF(J904=\"\",\"\",IF(Tabel1[[#This Row],[Kursustype]]=valgliste!$D$3,1,2)*J904)","v":""}]
[null,null,null,null,null,null,null,null,{"$f":"IF(H905=\"\",\"\",IF(Tabel1[[#This Row],[Kursustype]]=valgliste!$D$3,1,2)*H905)","v":""},null,{"$f":"IF(J905=\"\",\"\",IF(Tabel1[[#This Row],[Kursustype]]=valgliste!$D$3,1,2)*J905)","v":""}]
[null,null,null,null,null,null,null,null,{"$f":"IF(H906=\"\",\"\",IF(Tabel1[[#This Row],[Kursustype]]=valgliste!$D$3,1,2)*H906)","v":""},null,{"$f":"IF(J906=\"\",\"\",IF(Tabel1[[#This Row],[Kursustype]]=valgliste!$D$3,1,2)*J906)","v":""}]
[null,null,null,null,null,null,null,null,{"$f":"IF(H907=\"\",\"\",IF(Tabel1[[#This Row],[Kursustype]]=valgliste!$D$3,1,2)*H907)","v":""},null,{"$f":"IF(J907=\"\",\"\",IF(Tabel1[[#This Row],[Kursustype]]=valgliste!$D$3,1,2)*J907)","v":""}]
[null,null,null,null,null,null,null,null,{"$f":"IF(H908=\"\",\"\",IF(Tabel1[[#This Row],[Kursustype]]=valgliste!$D$3,1,2)*H908)","v":""},null,{"$f":"IF(J908=\"\",\"\",IF(Tabel1[[#This Row],[Kursustype]]=valgliste!$D$3,1,2)*J908)","v":""}]
[null,null,null,null,null,null,null,null,{"$f":"IF(H909=\"\",\"\",IF(Tabel1[[#This Row],[Kursustype]]=valgliste!$D$3,1,2)*H909)","v":""},null,{"$f":"IF(J909=\"\",\"\",IF(Tabel1[[#This Row],[Kursustype]]=valgliste!$D$3,1,2)*J909)","v":""}]
[null,null,null,null,null,null,null,null,{"$f":"IF(H910=\"\",\"\",IF(Tabel1[[#This Row],[Kursustype]]=valgliste!$D$3,1,2)*H910)","v":""},null,{"$f":"IF(J910=\"\",\"\",IF(Tabel1[[#This Row],[Kursustype]]=valgliste!$D$3,1,2)*J910)","v":""}]
[null,null,null,null,null,null,null,null,{"$f":"IF(H911=\"\",\"\",IF(Tabel1[[#This Row],[Kursustype]]=valgliste!$D$3,1,2)*H911)","v":""},null,{"$f":"IF(J911=\"\",\"\",IF(Tabel1[[#This Row],[Kursustype]]=valgliste!$D$3,1,2)*J911)","v":""}]
[null,null,null,null,null,null,null,null,{"$f":"IF(H912=\"\",\"\",IF(Tabel1[[#This Row],[Kursustype]]=valgliste!$D$3,1,2)*H912)","v":""},null,{"$f":"IF(J912=\"\",\"\",IF(Tabel1[[#This Row],[Kursustype]]=valgliste!$D$3,1,2)*J912)","v":""}]
[null,null,null,null,null,null,null,null,{"$f":"IF(H913=\"\",\"\",IF(Tabel1[[#This Row],[Kursustype]]=valgliste!$D$3,1,2)*H913)","v":""},null,{"$f":"IF(J913=\"\",\"\",IF(Tabel1[[#This Row],[Kursustype]]=valgliste!$D$3,1,2)*J913)","v":""}]
[null,null,null,null,null,null,null,null,{"$f":"IF(H914=\"\",\"\",IF(Tabel1[[#This Row],[Kursustype]]=valgliste!$D$3,1,2)*H914)","v":""},null,{"$f":"IF(J914=\"\",\"\",IF(Tabel1[[#This Row],[Kursustype]]=valgliste!$D$3,1,2)*J914)","v":""}]
[null,null,null,null,null,null,null,null,{"$f":"IF(H915=\"\",\"\",IF(Tabel1[[#This Row],[Kursustype]]=valgliste!$D$3,1,2)*H915)","v":""},null,{"$f":"IF(J915=\"\",\"\",IF(Tabel1[[#This Row],[Kursustype]]=valgliste!$D$3,1,2)*J915)","v":""}]
[null,null,null,null,null,null,null,null,{"$f":"IF(H916=\"\",\"\",IF(Tabel1[[#This Row],[Kursustype]]=valgliste!$D$3,1,2)*H916)","v":""},null,{"$f":"IF(J916=\"\",\"\",IF(Tabel1[[#This Row],[Kursustype]]=valgliste!$D$3,1,2)*J916)","v":""}]
[null,null,null,null,null,null,null,null,{"$f":"IF(H917=\"\",\"\",IF(Tabel1[[#This Row],[Kursustype]]=valgliste!$D$3,1,2)*H917)","v":""},null,{"$f":"IF(J917=\"\",\"\",IF(Tabel1[[#This Row],[Kursustype]]=valgliste!$D$3,1,2)*J917)","v":""}]
[null,null,null,null,null,null,null,null,{"$f":"IF(H918=\"\",\"\",IF(Tabel1[[#This Row],[Kursustype]]=valgliste!$D$3,1,2)*H918)","v":""},null,{"$f":"IF(J918=\"\",\"\",IF(Tabel1[[#This Row],[Kursustype]]=valgliste!$D$3,1,2)*J918)","v":""}]
[null,null,null,null,null,null,null,null,{"$f":"IF(H919=\"\",\"\",IF(Tabel1[[#This Row],[Kursustype]]=valgliste!$D$3,1,2)*H919)","v":""},null,{"$f":"IF(J919=\"\",\"\",IF(Tabel1[[#This Row],[Kursustype]]=valgliste!$D$3,1,2)*J919)","v":""}]
[null,null,null,null,null,null,null,null,{"$f":"IF(H920=\"\",\"\",IF(Tabel1[[#This Row],[Kursustype]]=valgliste!$D$3,1,2)*H920)","v":""},null,{"$f":"IF(J920=\"\",\"\",IF(Tabel1[[#This Row],[Kursustype]]=valgliste!$D$3,1,2)*J920)","v":""}]
[null,null,null,null,null,null,null,null,{"$f":"IF(H921=\"\",\"\",IF(Tabel1[[#This Row],[Kursustype]]=valgliste!$D$3,1,2)*H921)","v":""},null,{"$f":"IF(J921=\"\",\"\",IF(Tabel1[[#This Row],[Kursustype]]=valgliste!$D$3,1,2)*J921)","v":""}]
[null,null,null,null,null,null,null,null,{"$f":"IF(H922=\"\",\"\",IF(Tabel1[[#This Row],[Kursustype]]=valgliste!$D$3,1,2)*H922)","v":""},null,{"$f":"IF(J922=\"\",\"\",IF(Tabel1[[#This Row],[Kursustype]]=valgliste!$D$3,1,2)*J922)","v":""}]
[null,null,null,null,null,null,null,null,{"$f":"IF(H923=\"\",\"\",IF(Tabel1[[#This Row],[Kursustype]]=valgliste!$D$3,1,2)*H923)","v":""},null,{"$f":"IF(J923=\"\",\"\",IF(Tabel1[[#This Row],[Kursustype]]=valgliste!$D$3,1,2)*J923)","v":""}]
[null,null,null,null,null,null,null,null,{"$f":"IF(H924=\"\",\"\",IF(Tabel1[[#This Row],[Kursustype]]=valgliste!$D$3,1,2)*H924)","v":""},null,{"$f":"IF(J924=\"\",\"\",IF(Tabel1[[#This Row],[Kursustype]]=valgliste!$D$3,1,2)*J924)","v":""}]
[null,null,null,null,null,null,null,null,{"$f":"IF(H925=\"\",\"\",IF(Tabel1[[#This Row],[Kursustype]]=valgliste!$D$3,1,2)*H925)","v":""},null,{"$f":"IF(J925=\"\",\"\",IF(Tabel1[[#This Row],[Kursustype]]=valgliste!$D$3,1,2)*J925)","v":""}]
[null,null,null,null,null,null,null,null,{"$f":"IF(H926=\"\",\"\",IF(Tabel1[[#This Row],[Kursustype]]=valgliste!$D$3,1,2)*H926)","v":""},null,{"$f":"IF(J926=\"\",\"\",IF(Tabel1[[#This Row],[Kursustype]]=valgliste!$D$3,1,2)*J926)","v":""}]
[null,null,null,null,null,null,null,null,{"$f":"IF(H927=\"\",\"\",IF(Tabel1[[#This Row],[Kursustype]]=valgliste!$D$3,1,2)*H927)","v":""},null,{"$f":"IF(J927=\"\",\"\",IF(Tabel1[[#This Row],[Kursustype]]=valgliste!$D$3,1,2)*J927)","v":""}]
[null,null,null,null,null,null,null,null,{"$f":"IF(H928=\"\",\"\",IF(Tabel1[[#This Row],[Kursustype]]=valgliste!$D$3,1,2)*H928)","v":""},null,{"$f":"IF(J928=\"\",\"\",IF(Tabel1[[#This Row],[Kursustype]]=valgliste!$D$3,1,2)*J928)","v":""}]
[null,null,null,null,null,null,null,null,{"$f":"IF(H929=\"\",\"\",IF(Tabel1[[#This Row],[Kursustype]]=valgliste!$D$3,1,2)*H929)","v":""},null,{"$f":"IF(J929=\"\",\"\",IF(Tabel1[[#This Row],[Kursustype]]=valgliste!$D$3,1,2)*J929)","v":""}]
[null,null,null,null,null,null,null,null,{"$f":"IF(H930=\"\",\"\",IF(Tabel1[[#This Row],[Kursustype]]=valgliste!$D$3,1,2)*H930)","v":""},null,{"$f":"IF(J930=\"\",\"\",IF(Tabel1[[#This Row],[Kursustype]]=valgliste!$D$3,1,2)*J930)","v":""}]
[null,null,null,null,null,null,null,null,{"$f":"IF(H931=\"\",\"\",IF(Tabel1[[#This Row],[Kursustype]]=valgliste!$D$3,1,2)*H931)","v":""},null,{"$f":"IF(J931=\"\",\"\",IF(Tabel1[[#This Row],[Kursustype]]=valgliste!$D$3,1,2)*J931)","v":""}]
[null,null,null,null,null,null,null,null,{"$f":"IF(H932=\"\",\"\",IF(Tabel1[[#This Row],[Kursustype]]=valgliste!$D$3,1,2)*H932)","v":""},null,{"$f":"IF(J932=\"\",\"\",IF(Tabel1[[#This Row],[Kursustype]]=valgliste!$D$3,1,2)*J932)","v":""}]
[null,null,null,null,null,null,null,null,{"$f":"IF(H933=\"\",\"\",IF(Tabel1[[#This Row],[Kursustype]]=valgliste!$D$3,1,2)*H933)","v":""},null,{"$f":"IF(J933=\"\",\"\",IF(Tabel1[[#This Row],[Kursustype]]=valgliste!$D$3,1,2)*J933)","v":""}]
[null,null,null,null,null,null,null,null,{"$f":"IF(H934=\"\",\"\",IF(Tabel1[[#This Row],[Kursustype]]=valgliste!$D$3,1,2)*H934)","v":""},null,{"$f":"IF(J934=\"\",\"\",IF(Tabel1[[#This Row],[Kursustype]]=valgliste!$D$3,1,2)*J934)","v":""}]
[null,null,null,null,null,null,null,null,{"$f":"IF(H935=\"\",\"\",IF(Tabel1[[#This Row],[Kursustype]]=valgliste!$D$3,1,2)*H935)","v":""},null,{"$f":"IF(J935=\"\",\"\",IF(Tabel1[[#This Row],[Kursustype]]=valgliste!$D$3,1,2)*J935)","v":""}]
[null,null,null,null,null,null,null,null,{"$f":"IF(H936=\"\",\"\",IF(Tabel1[[#This Row],[Kursustype]]=valgliste!$D$3,1,2)*H936)","v":""},null,{"$f":"IF(J936=\"\",\"\",IF(Tabel1[[#This Row],[Kursustype]]=valgliste!$D$3,1,2)*J936)","v":""}]
[null,null,null,null,null,null,null,null,{"$f":"IF(H937=\"\",\"\",IF(Tabel1[[#This Row],[Kursustype]]=valgliste!$D$3,1,2)*H937)","v":""},null,{"$f":"IF(J937=\"\",\"\",IF(Tabel1[[#This Row],[Kursustype]]=valgliste!$D$3,1,2)*J937)","v":""}]
[null,null,null,null,null,null,null,null,{"$f":"IF(H938=\"\",\"\",IF(Tabel1[[#This Row],[Kursustype]]=valgliste!$D$3,1,2)*H938)","v":""},null,{"$f":"IF(J938=\"\",\"\",IF(Tabel1[[#This Row],[Kursustype]]=valgliste!$D$3,1,2)*J938)","v":""}]
[null,null,null,null,null,null,null,null,{"$f":"IF(H939=\"\",\"\",IF(Tabel1[[#This Row],[Kursustype]]=valgliste!$D$3,1,2)*H939)","v":""},null,{"$f":"IF(J939=\"\",\"\",IF(Tabel1[[#This Row],[Kursustype]]=valgliste!$D$3,1,2)*J939)","v":""}]
[null,null,null,null,null,null,null,null,{"$f":"IF(H940=\"\",\"\",IF(Tabel1[[#This Row],[Kursustype]]=valgliste!$D$3,1,2)*H940)","v":""},null,{"$f":"IF(J940=\"\",\"\",IF(Tabel1[[#This Row],[Kursustype]]=valgliste!$D$3,1,2)*J940)","v":""}]
[null,null,null,null,null,null,null,null,{"$f":"IF(H941=\"\",\"\",IF(Tabel1[[#This Row],[Kursustype]]=valgliste!$D$3,1,2)*H941)","v":""},null,{"$f":"IF(J941=\"\",\"\",IF(Tabel1[[#This Row],[Kursustype]]=valgliste!$D$3,1,2)*J941)","v":""}]
[null,null,null,null,null,null,null,null,{"$f":"IF(H942=\"\",\"\",IF(Tabel1[[#This Row],[Kursustype]]=valgliste!$D$3,1,2)*H942)","v":""},null,{"$f":"IF(J942=\"\",\"\",IF(Tabel1[[#This Row],[Kursustype]]=valgliste!$D$3,1,2)*J942)","v":""}]
[null,null,null,null,null,null,null,null,{"$f":"IF(H943=\"\",\"\",IF(Tabel1[[#This Row],[Kursustype]]=valgliste!$D$3,1,2)*H943)","v":""},null,{"$f":"IF(J943=\"\",\"\",IF(Tabel1[[#This Row],[Kursustype]]=valgliste!$D$3,1,2)*J943)","v":""}]
[null,null,null,null,null,null,null,null,{"$f":"IF(H944=\"\",\"\",IF(Tabel1[[#This Row],[Kursustype]]=valgliste!$D$3,1,2)*H944)","v":""},null,{"$f":"IF(J944=\"\",\"\",IF(Tabel1[[#This Row],[Kursustype]]=valgliste!$D$3,1,2)*J944)","v":""}]
[null,null,null,null,null,null,null,null,{"$f":"IF(H945=\"\",\"\",IF(Tabel1[[#This Row],[Kursustype]]=valgliste!$D$3,1,2)*H945)","v":""},null,{"$f":"IF(J945=\"\",\"\",IF(Tabel1[[#This Row],[Kursustype]]=valgliste!$D$3,1,2)*J945)","v":""}]
[null,null,null,null,null,null,null,null,{"$f":"IF(H946=\"\",\"\",IF(Tabel1[[#This Row],[Kursustype]]=valgliste!$D$3,1,2)*H946)","v":""},null,{"$f":"IF(J946=\"\",\"\",IF(Tabel1[[#This Row],[Kursustype]]=valgliste!$D$3,1,2)*J946)","v":""}]
[null,null,null,null,null,null,null,null,{"$f":"IF(H947=\"\",\"\",IF(Tabel1[[#This Row],[Kursustype]]=valgliste!$D$3,1,2)*H947)","v":""},null,{"$f":"IF(J947=\"\",\"\",IF(Tabel1[[#This Row],[Kursustype]]=valgliste!$D$3,1,2)*J947)","v":""}]
[null,null,null,null,null,null,null,null,{"$f":"IF(H948=\"\",\"\",IF(Tabel1[[#This Row],[Kursustype]]=valgliste!$D$3,1,2)*H948)","v":""},null,{"$f":"IF(J948=\"\",\"\",IF(Tabel1[[#This Row],[Kursustype]]=valgliste!$D$3,1,2)*J948)","v":""}]
[null,null,null,null,null,null,null,null,{"$f":"IF(H949=\"\",\"\",IF(Tabel1[[#This Row],[Kursustype]]=valgliste!$D$3,1,2)*H949)","v":""},null,{"$f":"IF(J949=\"\",\"\",IF(Tabel1[[#This Row],[Kursustype]]=valgliste!$D$3,1,2)*J949)","v":""}]
[null,null,null,null,null,null,null,null,{"$f":"IF(H950=\"\",\"\",IF(Tabel1[[#This Row],[Kursustype]]=valgliste!$D$3,1,2)*H950)","v":""},null,{"$f":"IF(J950=\"\",\"\",IF(Tabel1[[#This Row],[Kursustype]]=valgliste!$D$3,1,2)*J950)","v":""}]
[null,null,null,null,null,null,null,null,{"$f":"IF(H951=\"\",\"\",IF(Tabel1[[#This Row],[Kursustype]]=valgliste!$D$3,1,2)*H951)","v":""},null,{"$f":"IF(J951=\"\",\"\",IF(Tabel1[[#This Row],[Kursustype]]=valgliste!$D$3,1,2)*J951)","v":""}]
[null,null,null,null,null,null,null,null,{"$f":"IF(H952=\"\",\"\",IF(Tabel1[[#This Row],[Kursustype]]=valgliste!$D$3,1,2)*H952)","v":""},null,{"$f":"IF(J952=\"\",\"\",IF(Tabel1[[#This Row],[Kursustype]]=valgliste!$D$3,1,2)*J952)","v":""}]
[null,null,null,null,null,null,null,null,{"$f":"IF(H953=\"\",\"\",IF(Tabel1[[#This Row],[Kursustype]]=valgliste!$D$3,1,2)*H953)","v":""},null,{"$f":"IF(J953=\"\",\"\",IF(Tabel1[[#This Row],[Kursustype]]=valgliste!$D$3,1,2)*J953)","v":""}]
[null,null,null,null,null,null,null,null,{"$f":"IF(H954=\"\",\"\",IF(Tabel1[[#This Row],[Kursustype]]=valgliste!$D$3,1,2)*H954)","v":""},null,{"$f":"IF(J954=\"\",\"\",IF(Tabel1[[#This Row],[Kursustype]]=valgliste!$D$3,1,2)*J954)","v":""}]
[null,null,null,null,null,null,null,null,{"$f":"IF(H955=\"\",\"\",IF(Tabel1[[#This Row],[Kursustype]]=valgliste!$D$3,1,2)*H955)","v":""},null,{"$f":"IF(J955=\"\",\"\",IF(Tabel1[[#This Row],[Kursustype]]=valgliste!$D$3,1,2)*J955)","v":""}]
[null,null,null,null,null,null,null,null,{"$f":"IF(H956=\"\",\"\",IF(Tabel1[[#This Row],[Kursustype]]=valgliste!$D$3,1,2)*H956)","v":""},null,{"$f":"IF(J956=\"\",\"\",IF(Tabel1[[#This Row],[Kursustype]]=valgliste!$D$3,1,2)*J956)","v":""}]
[null,null,null,null,null,null,null,null,{"$f":"IF(H957=\"\",\"\",IF(Tabel1[[#This Row],[Kursustype]]=valgliste!$D$3,1,2)*H957)","v":""},null,{"$f":"IF(J957=\"\",\"\",IF(Tabel1[[#This Row],[Kursustype]]=valgliste!$D$3,1,2)*J957)","v":""}]
[null,null,null,null,null,null,null,null,{"$f":"IF(H958=\"\",\"\",IF(Tabel1[[#This Row],[Kursustype]]=valgliste!$D$3,1,2)*H958)","v":""},null,{"$f":"IF(J958=\"\",\"\",IF(Tabel1[[#This Row],[Kursustype]]=valgliste!$D$3,1,2)*J958)","v":""}]
[null,null,null,null,null,null,null,null,{"$f":"IF(H959=\"\",\"\",IF(Tabel1[[#This Row],[Kursustype]]=valgliste!$D$3,1,2)*H959)","v":""},null,{"$f":"IF(J959=\"\",\"\",IF(Tabel1[[#This Row],[Kursustype]]=valgliste!$D$3,1,2)*J959)","v":""}]
[null,null,null,null,null,null,null,null,{"$f":"IF(H960=\"\",\"\",IF(Tabel1[[#This Row],[Kursustype]]=valgliste!$D$3,1,2)*H960)","v":""},null,{"$f":"IF(J960=\"\",\"\",IF(Tabel1[[#This Row],[Kursustype]]=valgliste!$D$3,1,2)*J960)","v":""}]
[null,null,null,null,null,null,null,null,{"$f":"IF(H961=\"\",\"\",IF(Tabel1[[#This Row],[Kursustype]]=valgliste!$D$3,1,2)*H961)","v":""},null,{"$f":"IF(J961=\"\",\"\",IF(Tabel1[[#This Row],[Kursustype]]=valgliste!$D$3,1,2)*J961)","v":""}]
[null,null,null,null,null,null,null,null,{"$f":"IF(H962=\"\",\"\",IF(Tabel1[[#This Row],[Kursustype]]=valgliste!$D$3,1,2)*H962)","v":""},null,{"$f":"IF(J962=\"\",\"\",IF(Tabel1[[#This Row],[Kursustype]]=valgliste!$D$3,1,2)*J962)","v":""}]
[null,null,null,null,null,null,null,null,{"$f":"IF(H963=\"\",\"\",IF(Tabel1[[#This Row],[Kursustype]]=valgliste!$D$3,1,2)*H963)","v":""},null,{"$f":"IF(J963=\"\",\"\",IF(Tabel1[[#This Row],[Kursustype]]=valgliste!$D$3,1,2)*J963)","v":""}]
[null,null,null,null,null,null,null,null,{"$f":"IF(H964=\"\",\"\",IF(Tabel1[[#This Row],[Kursustype]]=valgliste!$D$3,1,2)*H964)","v":""},null,{"$f":"IF(J964=\"\",\"\",IF(Tabel1[[#This Row],[Kursustype]]=valgliste!$D$3,1,2)*J964)","v":""}]
[null,null,null,null,null,null,null,null,{"$f":"IF(H965=\"\",\"\",IF(Tabel1[[#This Row],[Kursustype]]=valgliste!$D$3,1,2)*H965)","v":""},null,{"$f":"IF(J965=\"\",\"\",IF(Tabel1[[#This Row],[Kursustype]]=valgliste!$D$3,1,2)*J965)","v":""}]
[null,null,null,null,null,null,null,null,{"$f":"IF(H966=\"\",\"\",IF(Tabel1[[#This Row],[Kursustype]]=valgliste!$D$3,1,2)*H966)","v":""},null,{"$f":"IF(J966=\"\",\"\",IF(Tabel1[[#This Row],[Kursustype]]=valgliste!$D$3,1,2)*J966)","v":""}]
[null,null,null,null,null,null,null,null,{"$f":"IF(H967=\"\",\"\",IF(Tabel1[[#This Row],[Kursustype]]=valgliste!$D$3,1,2)*H967)","v":""},null,{"$f":"IF(J967=\"\",\"\",IF(Tabel1[[#This Row],[Kursustype]]=valgliste!$D$3,1,2)*J967)","v":""}]
[null,null,null,null,null,null,null,null,{"$f":"IF(H968=\"\",\"\",IF(Tabel1[[#This Row],[Kursustype]]=valgliste!$D$3,1,2)*H968)","v":""},null,{"$f":"IF(J968=\"\",\"\",IF(Tabel1[[#This Row],[Kursustype]]=valgliste!$D$3,1,2)*J968)","v":""}]

{"sheet":"VITAS information","index":2,"n_rows":19,"n_cols":6,"rows_kept":19,"cut":false,"hidden":false,"merged":[[1,1,1,5]]}
[]
[null,"Her er information om hvert kursus med de værdier, der skal indtastes i VITAS (KRAV!)                                        Det er vigtigt at vide, 1 \"dag\" er 7,4 timer, altså en arbejdsdag."]
[null,"Udfyldt i VITAS?","Kursusnavn","Kursussted","Startdato","Varighed"]
[null,"Nej",{"$f":"IF(ISBLANK('Detaljeret overblik'!A4),\"\",'Detaljeret overblik'!A4)","v":""},{"$f":"IF(ISBLANK('Detaljeret overblik'!C4),\"\",'Detaljeret overblik'!C4)","v":""},{"$f":"IF(ISBLANK('Detaljeret overblik'!D4), \"\", 'Detaljeret overblik'!D4)","v":""},{"$f":"IF('Detaljeret overblik'!I4=0,\"\",INT('Detaljeret overblik'!I4/7.4) & \" dage \" & ROUND(MOD('Detaljeret overblik'!I4,7.4),1) & \" timer\")","v":{"$error":"#VALUE!"}}]
[null,"Nej",{"$f":"IF(ISBLANK('Detaljeret overblik'!A5),\"\",'Detaljeret overblik'!A5)","v":""},{"$f":"IF(ISBLANK('Detaljeret overblik'!C5),\"\",'Detaljeret overblik'!C5)","v":""},{"$f":"IF(ISBLANK('Detaljeret overblik'!D5), \"\", 'Detaljeret overblik'!D5)","v":""},{"$f":"IF('Detaljeret overblik'!I5=0,\"\",INT('Detaljeret overblik'!I5/7.4) & \" dage \" & ROUND(MOD('Detaljeret overblik'!I5,7.4),1) & \" timer\")","v":{"$error":"#VALUE!"}}]
[null,"Nej",{"$f":"IF(ISBLANK('Detaljeret overblik'!A6),\"\",'Detaljeret overblik'!A6)","v":""},{"$f":"IF(ISBLANK('Detaljeret overblik'!C6),\"\",'Detaljeret overblik'!C6)","v":""},{"$f":"IF(ISBLANK('Detaljeret overblik'!D6), \"\", 'Detaljeret overblik'!D6)","v":""},{"$f":"IF('Detaljeret overblik'!I6=0,\"\",INT('Detaljeret overblik'!I6/7.4) & \" dage \" & ROUND(MOD('Detaljeret overblik'!I6,7.4),1) & \" timer\")","v":{"$error":"#VALUE!"}}]
[null,"Nej",{"$f":"IF(ISBLANK('Detaljeret overblik'!A7),\"\",'Detaljeret overblik'!A7)","v":""},{"$f":"IF(ISBLANK('Detaljeret overblik'!C7),\"\",'Detaljeret overblik'!C7)","v":""},{"$f":"IF(ISBLANK('Detaljeret overblik'!D7), \"\", 'Detaljeret overblik'!D7)","v":""},{"$f":"IF('Detaljeret overblik'!I7=0,\"\",INT('Detaljeret overblik'!I7/7.4) & \" dage \" & ROUND(MOD('Detaljeret overblik'!I7,7.4),1) & \" timer\")","v":{"$error":"#VALUE!"}}]
[null,"Nej",{"$f":"IF(ISBLANK('Detaljeret overblik'!A8),\"\",'Detaljeret overblik'!A8)","v":""},{"$f":"IF(ISBLANK('Detaljeret overblik'!C8),\"\",'Detaljeret overblik'!C8)","v":""},{"$f":"IF(ISBLANK('Detaljeret overblik'!D8), \"\", 'Detaljeret overblik'!D8)","v":""},{"$f":"IF('Detaljeret overblik'!I8=0,\"\",INT('Detaljeret overblik'!I8/7.4) & \" dage \" & ROUND(MOD('Detaljeret overblik'!I8,7.4),1) & \" timer\")","v":{"$error":"#VALUE!"}}]
[null,"Nej",{"$f":"IF(ISBLANK('Detaljeret overblik'!A9),\"\",'Detaljeret overblik'!A9)","v":""},{"$f":"IF(ISBLANK('Detaljeret overblik'!C9),\"\",'Detaljeret overblik'!C9)","v":""},{"$f":"IF(ISBLANK('Detaljeret overblik'!D9), \"\", 'Detaljeret overblik'!D9)","v":""},{"$f":"IF('Detaljeret overblik'!I9=0,\"\",INT('Detaljeret overblik'!I9/7.4) & \" dage \" & ROUND(MOD('Detaljeret overblik'!I9,7.4),1) & \" timer\")","v":{"$error":"#VALUE!"}}]
[null,"Nej",{"$f":"IF(ISBLANK('Detaljeret overblik'!A10),\"\",'Detaljeret overblik'!A10)","v":""},{"$f":"IF(ISBLANK('Detaljeret overblik'!C10),\"\",'Detaljeret overblik'!C10)","v":""},{"$f":"IF(ISBLANK('Detaljeret overblik'!D10), \"\", 'Detaljeret overblik'!D10)","v":""},{"$f":"IF('Detaljeret overblik'!I10=0,\"\",INT('Detaljeret overblik'!I10/7.4) & \" dage \" & ROUND(MOD('Detaljeret overblik'!I10,7.4),1) & \" timer\")","v":{"$error":"#VALUE!"}}]
[null,"Nej",{"$f":"IF(ISBLANK('Detaljeret overblik'!A11),\"\",'Detaljeret overblik'!A11)","v":""},{"$f":"IF(ISBLANK('Detaljeret overblik'!C11),\"\",'Detaljeret overblik'!C11)","v":""},{"$f":"IF(ISBLANK('Detaljeret overblik'!D11), \"\", 'Detaljeret overblik'!D11)","v":""},{"$f":"IF('Detaljeret overblik'!I11=0,\"\",INT('Detaljeret overblik'!I11/7.4) & \" dage \" & ROUND(MOD('Detaljeret overblik'!I11,7.4),1) & \" timer\")","v":{"$error":"#VALUE!"}}]
[null,"Nej",{"$f":"IF(ISBLANK('Detaljeret overblik'!A12),\"\",'Detaljeret overblik'!A12)","v":""},{"$f":"IF(ISBLANK('Detaljeret overblik'!C12),\"\",'Detaljeret overblik'!C12)","v":""},{"$f":"IF(ISBLANK('Detaljeret overblik'!D12), \"\", 'Detaljeret overblik'!D12)","v":""},{"$f":"IF('Detaljeret overblik'!I12=0,\"\",INT('Detaljeret overblik'!I12/7.4) & \" dage \" & ROUND(MOD('Detaljeret overblik'!I12,7.4),1) & \" timer\")","v":{"$error":"#VALUE!"}}]
[null,"Nej",{"$f":"IF(ISBLANK('Detaljeret overblik'!A13),\"\",'Detaljeret overblik'!A13)","v":""},{"$f":"IF(ISBLANK('Detaljeret overblik'!C13),\"\",'Detaljeret overblik'!C13)","v":""},{"$f":"IF(ISBLANK('Detaljeret overblik'!D13), \"\", 'Detaljeret overblik'!D13)","v":""},{"$f":"IF('Detaljeret overblik'!I13=0,\"\",INT('Detaljeret overblik'!I13/7.4) & \" dage \" & ROUND(MOD('Detaljeret overblik'!I13,7.4),1) & \" timer\")","v":{"$error":"#VALUE!"}}]
[null,"Nej",{"$f":"IF(ISBLANK('Detaljeret overblik'!A14),\"\",'Detaljeret overblik'!A14)","v":""},{"$f":"IF(ISBLANK('Detaljeret overblik'!C14),\"\",'Detaljeret overblik'!C14)","v":""},{"$f":"IF(ISBLANK('Detaljeret overblik'!D14), \"\", 'Detaljeret overblik'!D14)","v":""},{"$f":"IF('Detaljeret overblik'!I14=0,\"\",INT('Detaljeret overblik'!I14/7.4) & \" dage \" & ROUND(MOD('Detaljeret overblik'!I14,7.4),1) & \" timer\")","v":{"$error":"#VALUE!"}}]
[null,"Nej",{"$f":"IF(ISBLANK('Detaljeret overblik'!A15),\"\",'Detaljeret overblik'!A15)","v":""},{"$f":"IF(ISBLANK('Detaljeret overblik'!C15),\"\",'Detaljeret overblik'!C15)","v":""},{"$f":"IF(ISBLANK('Detaljeret overblik'!D15), \"\", 'Detaljeret overblik'!D15)","v":""},{"$f":"IF('Detaljeret overblik'!I15=0,\"\",INT('Detaljeret overblik'!I15/7.4) & \" dage \" & ROUND(MOD('Detaljeret overblik'!I15,7.4),1) & \" timer\")","v":{"$error":"#VALUE!"}}]
[null,"Nej",{"$f":"IF(ISBLANK('Detaljeret overblik'!A16),\"\",'Detaljeret overblik'!A16)","v":""},{"$f":"IF(ISBLANK('Detaljeret overblik'!C16),\"\",'Detaljeret overblik'!C16)","v":""},{"$f":"IF(ISBLANK('Detaljeret overblik'!D16), \"\", 'Detaljeret overblik'!D16)","v":""},{"$f":"IF('Detaljeret overblik'!I16=0,\"\",INT('Detaljeret overblik'!I16/7.4) & \" dage \" & ROUND(MOD('Detaljeret overblik'!I16,7.4),1) & \" timer\")","v":{"$error":"#VALUE!"}}]
[null,"Nej",{"$f":"IF(ISBLANK('Detaljeret overblik'!A17),\"\",'Detaljeret overblik'!A17)","v":""},{"$f":"IF(ISBLANK('Detaljeret overblik'!C17),\"\",'Detaljeret overblik'!C17)","v":""},{"$f":"IF(ISBLANK('Detaljeret overblik'!D17), \"\", 'Detaljeret overblik'!D17)","v":""},{"$f":"IF('Detaljeret overblik'!I17=0,\"\",INT('Detaljeret overblik'!I17/7.4) & \" dage \" & ROUND(MOD('Detaljeret overblik'!I17,7.4),1) & \" timer\")","v":{"$error":"#VALUE!"}}]
[null,"Nej",{"$f":"IF(ISBLANK('Detaljeret overblik'!A18),\"\",'Detaljeret overblik'!A18)","v":""},{"$f":"IF(ISBLANK('Detaljeret overblik'!C18),\"\",'Detaljeret overblik'!C18)","v":""},{"$f":"IF(ISBLANK('Detaljeret overblik'!D18), \"\", 'Detaljeret overblik'!D18)","v":""},{"$f":"IF('Detaljeret overblik'!I18=0,\"\",INT('Detaljeret overblik'!I18/7.4) & \" dage \" & ROUND(MOD('Detaljeret overblik'!I18,7.4),1) & \" timer\")","v":{"$error":"#VALUE!"}}]
[null,"Nej",{"$f":"IF(ISBLANK('Detaljeret overblik'!A19),\"\",'Detaljeret overblik'!A19)","v":""},{"$f":"IF(ISBLANK('Detaljeret overblik'!C19),\"\",'Detaljeret overblik'!C19)","v":""},{"$f":"IF(ISBLANK('Detaljeret overblik'!D19), \"\", 'Detaljeret overblik'!D19)","v":""},{"$f":"IF('Detaljeret overblik'!I19=0,\"\",INT('Detaljeret overblik'!I19/7.4) & \" dage \" & ROUND(MOD('Detaljeret overblik'!I19,7.4),1) & \" timer\")","v":{"$error":"#VALUE!"}}]

{"sheet":"valgliste","index":3,"n_rows":8,"n_cols":12,"rows_kept":8,"cut":false,"hidden":true,"merged":[]}
[null,"svar",null,"Kursustype",null,null,null,"svar2",null,null,"tidskrav"]
[null,"Ja",null,"Almen Voksenuddannelse (AVU)",null,null,null,"Planlagt",null,null,{"$f":"23*5*7.4","v":851},"timer"]
[null,"Nej",null,"Arbejdsmarkedsuddannelse (AMU)",null,null,null,"Igangværende"]
[null,null,null,"Danskuddannelse (DU1,DU2,DU3)",null,null,null,"Afholdt"]
[null,null,null,"Forberedende Grunduddannelse (FGU)"]
[null,null,null,"Forberedende Voksenundervisning (FVU)"]
[null,null,null,"HF-enkeltfag"]
[null,null,null,"Ordblindeundervisning for voksne"]